Workbook
Name Accessories: [1]!Table6[Accessories]
Name Approval: #REF!
Name Categories: [1]!Table2[Change Categories]
Name Corey: [1]!Table4[Corey Divisions]
Name Departments: [1]!Table17[Approval Departments]
Name Deviations: [1]!Table19[Deviations]
Name EPPM: [1]!Table18[ECN]
Name EPPMChangeRequest: [1]!Table18[ECN]
Name Keyser: [1]!Table1[Keyser Divisions]
Name Location: #REF!
Name Locations: [1]!Table3[Locations]
Name Moulding: [1]!Table10[Molding]
Name Pavers: [1]!Table11[Pavers]
Name Phase: [1]!Table15[Product Life Phase]
Name Porch: #REF!
Name Product_Life_Phase: [2]!Table16[[#All],[Product Life Phase]]
Name PVC: [1]!Table7[PVC]
Name PVCDeck: #REF!
Name Rail: [1]!Table8[Rail]
Name Railing: #REF!
Name ResearchandDevelopment: #REF!
Name SAccounting: #REF!
Name ScrantonProducts: [1]!Table13[Scranton Products]
Name SOther: #REF!
Name SProd: [1]!Table13[Scranton Products]
Name SProductDevelopment: #REF!
Name SProduction: #REF!
Name SPurchasing: #REF!
Name SQuality: #REF!
Name SResearchandDevelopment: #REF!
Name SSafety: #REF!
Name Substitutions: [1]!Table20[Substitutions]
Name Trim: [1]!Table12[Trim]
Name VYCOM: [1]!Table14[VYCOM]
Name WAccounting: #REF!
Name Wilmington: [1]!Table5[Wilmington Divisions]
Name Wood: [1]!Table9[Wood]
Name WOther: #REF!
Name WPCDeck: #REF!
Name WProcess: #REF!
Name WProduction: #REF!
Name WPurchasing: #REF!
Name WQuality: #REF!
Name WResearchandDevelopment: #REF!
Name WSafety: #REF!

Sheet EDGE PRIME ONLY
B2: EDGE PRIME | C2: * Must be ordered sperately from other collections | R2: LENGTH
K3: SUGGESTED FASTENER BOOKING | P3: COLOUR | Q3: PROFILE | R3: GROOVED EDGE | S3: SQUARE EDGE | T3: RISER | U3: FASCIA
B4: TOTAL LIFTS (#) : | D4: =SUM(E15:E28) -> 0
L5: % OF DECKING FOOTAGE | M5: 1 | P5: MARITIME GRAY | Q5: GROOVED EDGE | R5: 12 | S5: 16 | T5: 12 | U5: 12
B6: TOTAL WEIGHT (lbs) : | D6: =SUM(F15:F28) -> 0 | K6: ITEM | M6: QUANTITY (Boxes) | P6: DARK TEAK | Q6: SQUARE EDGE | R6: 16 | S6: 20
K7: EDGELOC 55 sq ft | M7: =ROUND(SUMIFS($H$15:$H$28,$C$15:$C$28,"GROOVED EDGE")/55,0)*$M$5 -> 0 | Q7: RISER | R7: 20
B8: TOTAL TRUCKS (#) : | D8: =D6/43500 -> 0 | K8: COMPOSITE CORTEX 100 ln ft | M8: =ROUND((SUMIFS($G$15:$G$28,$C$15:$C$28,"SQUARE EDGE"))/100,0)*$M$5 -> 0 | Q8: FASCIA
J9: OR | K9: COMPOSITE TOPLOC BOARD - 100 sq ft | M9: =ROUND((SUMIFS($H$15:$H$28,$C$15:$C$28,"SQUARE EDGE"))/100,0)*$M$5 -> 0
B10: 1/2 Truckload = min. 22,500 lbs | C10: Full Truckload = max. 43,500 lbs | K10: COMPOSITE CORTEX FASCIA 50 ln ft | M10: =ROUND((SUMIFS($G$15:$G$28,$C$15:$C$28,"RISER")+SUMIFS($G$15:$G$28,$C$15:$C$28,"FASCIA"))/50,0)*$M$5 -> 0
B11: Multi-Lift = min. 4 lifts | J11: OR | K11: COMPOSITE TOPLOC FASCIA - 100 ln ft | M11: =ROUND((SUMIFS($G$15:$G$28,$C$15:$C$28,"RISER")+SUMIFS($G$15:$G$28,$C$15:$C$28,"FASCIA"))/100,0)*$M$5 -> 0
B14: COLOUR | C14: PROFILE | D14: LENGTH | E14: # LIFTS | F14: TOTAL ITEM WEIGHT | G14: TOTAL LN FT | H14: TOTAL SQ FT | K14: INSTRUCTIONS :
F15: =IF(OR(B15="",C15="",D15=""),"",IFERROR(INDEX(Deck!$H$1:$H$346,MATCH(1,INDEX((TRIM(SUBSTITUTE(SUBSTITUTE(Deck!$D$1:$D$346,"™",""),"®",""))=B15)*(Deck!$C$1:$C$346=C15)*(Deck!$F$1:$F$346=D15),0),0))*E15,"Not found")) | G15: =IF(OR(B15="",C15="",D15=""),"",IFERROR(INDEX(Deck!$I$1:$I$346,MATCH(1,INDEX((TRIM(SUBSTITUTE(SUBSTITUTE(Deck!$D$1:$D$346,"™",""),"®",""))=B15)*(Deck!$C$1:$C$346=C15)*(Deck!$F$1:$F$346=D15),0),0))*E15,"Not found")) | H15: =IF(OR(B15="",C15="",D15=""),"",IFERROR(INDEX(Deck!$J$1:$J$346,MATCH(1,INDEX((TRIM(SUBSTITUTE(SUBSTITUTE(Deck!$D$1:$D$346,"™",""),"®",""))=B15)*(Deck!$C$1:$C$346=C15)*(Deck!$F$1:$F$346=D15),0),0))*E15,"Not found")) | K15: 1. Select your colour, profile, length options (drop down menus)
F16: =IF(OR(B16="",C16="",D16=""),"",IFERROR(INDEX(Deck!$H$1:$H$346,MATCH(1,INDEX((TRIM(SUBSTITUTE(SUBSTITUTE(Deck!$D$1:$D$346,"™",""),"®",""))=B16)*(Deck!$C$1:$C$346=C16)*(Deck!$F$1:$F$346=D16),0),0))*E16,"Not found")) | G16: =IF(OR(B16="",C16="",D16=""),"",IFERROR(INDEX(Deck!$I$1:$I$346,MATCH(1,INDEX((TRIM(SUBSTITUTE(SUBSTITUTE(Deck!$D$1:$D$346,"™",""),"®",""))=B16)*(Deck!$C$1:$C$346=C16)*(Deck!$F$1:$F$346=D16),0),0))*E16,"Not found")) | H16: =IF(OR(B16="",C16="",D16=""),"",IFERROR(INDEX(Deck!$J$1:$J$346,MATCH(1,INDEX((TRIM(SUBSTITUTE(SUBSTITUTE(Deck!$D$1:$D$346,"™",""),"®",""))=B16)*(Deck!$C$1:$C$346=C16)*(Deck!$F$1:$F$346=D16),0),0))*E16,"Not found")) | K16: 2. Enter the # of lifts per item
F17: =IF(OR(B17="",C17="",D17=""),"",IFERROR(INDEX(Deck!$H$1:$H$346,MATCH(1,INDEX((TRIM(SUBSTITUTE(SUBSTITUTE(Deck!$D$1:$D$346,"™",""),"®",""))=B17)*(Deck!$C$1:$C$346=C17)*(Deck!$F$1:$F$346=D17),0),0))*E17,"Not found")) | G17: =IF(OR(B17="",C17="",D17=""),"",IFERROR(INDEX(Deck!$I$1:$I$346,MATCH(1,INDEX((TRIM(SUBSTITUTE(SUBSTITUTE(Deck!$D$1:$D$346,"™",""),"®",""))=B17)*(Deck!$C$1:$C$346=C17)*(Deck!$F$1:$F$346=D17),0),0))*E17,"Not found")) | H17: =IF(OR(B17="",C17="",D17=""),"",IFERROR(INDEX(Deck!$J$1:$J$346,MATCH(1,INDEX((TRIM(SUBSTITUTE(SUBSTITUTE(Deck!$D$1:$D$346,"™",""),"®",""))=B17)*(Deck!$C$1:$C$346=C17)*(Deck!$F$1:$F$346=D17),0),0))*E17,"Not found")) | K17: 3. Reference the total calculations in the upper left box to build your order
F18: =IF(OR(B18="",C18="",D18=""),"",IFERROR(INDEX(Deck!$H$1:$H$346,MATCH(1,INDEX((TRIM(SUBSTITUTE(SUBSTITUTE(Deck!$D$1:$D$346,"™",""),"®",""))=B18)*(Deck!$C$1:$C$346=C18)*(Deck!$F$1:$F$346=D18),0),0))*E18,"Not found")) | G18: =IF(OR(B18="",C18="",D18=""),"",IFERROR(INDEX(Deck!$I$1:$I$346,MATCH(1,INDEX((TRIM(SUBSTITUTE(SUBSTITUTE(Deck!$D$1:$D$346,"™",""),"®",""))=B18)*(Deck!$C$1:$C$346=C18)*(Deck!$F$1:$F$346=D18),0),0))*E18,"Not found")) | H18: =IF(OR(B18="",C18="",D18=""),"",IFERROR(INDEX(Deck!$J$1:$J$346,MATCH(1,INDEX((TRIM(SUBSTITUTE(SUBSTITUTE(Deck!$D$1:$D$346,"™",""),"®",""))=B18)*(Deck!$C$1:$C$346=C18)*(Deck!$F$1:$F$346=D18),0),0))*E18,"Not found")) | K18: 4. Review the suggested fastener order (above) to support your decking purchase
F19: =IF(OR(B19="",C19="",D19=""),"",IFERROR(INDEX(Deck!$H$1:$H$346,MATCH(1,INDEX((TRIM(SUBSTITUTE(SUBSTITUTE(Deck!$D$1:$D$346,"™",""),"®",""))=B19)*(Deck!$C$1:$C$346=C19)*(Deck!$F$1:$F$346=D19),0),0))*E19,"Not found")) | G19: =IF(OR(B19="",C19="",D19=""),"",IFERROR(INDEX(Deck!$I$1:$I$346,MATCH(1,INDEX((TRIM(SUBSTITUTE(SUBSTITUTE(Deck!$D$1:$D$346,"™",""),"®",""))=B19)*(Deck!$C$1:$C$346=C19)*(Deck!$F$1:$F$346=D19),0),0))*E19,"Not found")) | H19: =IF(OR(B19="",C19="",D19=""),"",IFERROR(INDEX(Deck!$J$1:$J$346,MATCH(1,INDEX((TRIM(SUBSTITUTE(SUBSTITUTE(Deck!$D$1:$D$346,"™",""),"®",""))=B19)*(Deck!$C$1:$C$346=C19)*(Deck!$F$1:$F$346=D19),0),0))*E19,"Not found")) | K19: 5. You can change the % of fasteners to order based on your deck selections by changing the value in cell M5.
F20: =IF(OR(B20="",C20="",D20=""),"",IFERROR(INDEX(Deck!$H$1:$H$346,MATCH(1,INDEX((TRIM(SUBSTITUTE(SUBSTITUTE(Deck!$D$1:$D$346,"™",""),"®",""))=B20)*(Deck!$C$1:$C$346=C20)*(Deck!$F$1:$F$346=D20),0),0))*E20,"Not found")) | G20: =IF(OR(B20="",C20="",D20=""),"",IFERROR(INDEX(Deck!$I$1:$I$346,MATCH(1,INDEX((TRIM(SUBSTITUTE(SUBSTITUTE(Deck!$D$1:$D$346,"™",""),"®",""))=B20)*(Deck!$C$1:$C$346=C20)*(Deck!$F$1:$F$346=D20),0),0))*E20,"Not found")) | H20: =IF(OR(B20="",C20="",D20=""),"",IFERROR(INDEX(Deck!$J$1:$J$346,MATCH(1,INDEX((TRIM(SUBSTITUTE(SUBSTITUTE(Deck!$D$1:$D$346,"™",""),"®",""))=B20)*(Deck!$C$1:$C$346=C20)*(Deck!$F$1:$F$346=D20),0),0))*E20,"Not found")) | K20: - Different fastener options are available for grooved & square edge boards. The suggested quanties represent either/or.
F21: =IF(OR(B21="",C21="",D21=""),"",IFERROR(INDEX(Deck!$H$1:$H$346,MATCH(1,INDEX((TRIM(SUBSTITUTE(SUBSTITUTE(Deck!$D$1:$D$346,"™",""),"®",""))=B21)*(Deck!$C$1:$C$346=C21)*(Deck!$F$1:$F$346=D21),0),0))*E21,"Not found")) | G21: =IF(OR(B21="",C21="",D21=""),"",IFERROR(INDEX(Deck!$I$1:$I$346,MATCH(1,INDEX((TRIM(SUBSTITUTE(SUBSTITUTE(Deck!$D$1:$D$346,"™",""),"®",""))=B21)*(Deck!$C$1:$C$346=C21)*(Deck!$F$1:$F$346=D21),0),0))*E21,"Not found")) | H21: =IF(OR(B21="",C21="",D21=""),"",IFERROR(INDEX(Deck!$J$1:$J$346,MATCH(1,INDEX((TRIM(SUBSTITUTE(SUBSTITUTE(Deck!$D$1:$D$346,"™",""),"®",""))=B21)*(Deck!$C$1:$C$346=C21)*(Deck!$F$1:$F$346=D21),0),0))*E21,"Not found"))
F22: =IF(OR(B22="",C22="",D22=""),"",IFERROR(INDEX(Deck!$H$1:$H$346,MATCH(1,INDEX((TRIM(SUBSTITUTE(SUBSTITUTE(Deck!$D$1:$D$346,"™",""),"®",""))=B22)*(Deck!$C$1:$C$346=C22)*(Deck!$F$1:$F$346=D22),0),0))*E22,"Not found")) | G22: =IF(OR(B22="",C22="",D22=""),"",IFERROR(INDEX(Deck!$I$1:$I$346,MATCH(1,INDEX((TRIM(SUBSTITUTE(SUBSTITUTE(Deck!$D$1:$D$346,"™",""),"®",""))=B22)*(Deck!$C$1:$C$346=C22)*(Deck!$F$1:$F$346=D22),0),0))*E22,"Not found")) | H22: =IF(OR(B22="",C22="",D22=""),"",IFERROR(INDEX(Deck!$J$1:$J$346,MATCH(1,INDEX((TRIM(SUBSTITUTE(SUBSTITUTE(Deck!$D$1:$D$346,"™",""),"®",""))=B22)*(Deck!$C$1:$C$346=C22)*(Deck!$F$1:$F$346=D22),0),0))*E22,"Not found")) | K22: NOTE : This tool is provided to help you build a PO. This form does not contain pricing information and does not substitute for a PO. Please contact your Gillfor Account Manager for pricing and additional information.
F23: =IF(OR(B23="",C23="",D23=""),"",IFERROR(INDEX(Deck!$H$1:$H$346,MATCH(1,INDEX((TRIM(SUBSTITUTE(SUBSTITUTE(Deck!$D$1:$D$346,"™",""),"®",""))=B23)*(Deck!$C$1:$C$346=C23)*(Deck!$F$1:$F$346=D23),0),0))*E23,"Not found")) | G23: =IF(OR(B23="",C23="",D23=""),"",IFERROR(INDEX(Deck!$I$1:$I$346,MATCH(1,INDEX((TRIM(SUBSTITUTE(SUBSTITUTE(Deck!$D$1:$D$346,"™",""),"®",""))=B23)*(Deck!$C$1:$C$346=C23)*(Deck!$F$1:$F$346=D23),0),0))*E23,"Not found")) | H23: =IF(OR(B23="",C23="",D23=""),"",IFERROR(INDEX(Deck!$J$1:$J$346,MATCH(1,INDEX((TRIM(SUBSTITUTE(SUBSTITUTE(Deck!$D$1:$D$346,"™",""),"®",""))=B23)*(Deck!$C$1:$C$346=C23)*(Deck!$F$1:$F$346=D23),0),0))*E23,"Not found"))
F24: =IF(OR(B24="",C24="",D24=""),"",IFERROR(INDEX(Deck!$H$1:$H$346,MATCH(1,INDEX((TRIM(SUBSTITUTE(SUBSTITUTE(Deck!$D$1:$D$346,"™",""),"®",""))=B24)*(Deck!$C$1:$C$346=C24)*(Deck!$F$1:$F$346=D24),0),0))*E24,"Not found")) | G24: =IF(OR(B24="",C24="",D24=""),"",IFERROR(INDEX(Deck!$I$1:$I$346,MATCH(1,INDEX((TRIM(SUBSTITUTE(SUBSTITUTE(Deck!$D$1:$D$346,"™",""),"®",""))=B24)*(Deck!$C$1:$C$346=C24)*(Deck!$F$1:$F$346=D24),0),0))*E24,"Not found")) | H24: =IF(OR(B24="",C24="",D24=""),"",IFERROR(INDEX(Deck!$J$1:$J$346,MATCH(1,INDEX((TRIM(SUBSTITUTE(SUBSTITUTE(Deck!$D$1:$D$346,"™",""),"®",""))=B24)*(Deck!$C$1:$C$346=C24)*(Deck!$F$1:$F$346=D24),0),0))*E24,"Not found"))
F25: =IF(OR(B25="",C25="",D25=""),"",IFERROR(INDEX(Deck!$H$1:$H$346,MATCH(1,INDEX((TRIM(SUBSTITUTE(SUBSTITUTE(Deck!$D$1:$D$346,"™",""),"®",""))=B25)*(Deck!$C$1:$C$346=C25)*(Deck!$F$1:$F$346=D25),0),0))*E25,"Not found")) | G25: =IF(OR(B25="",C25="",D25=""),"",IFERROR(INDEX(Deck!$I$1:$I$346,MATCH(1,INDEX((TRIM(SUBSTITUTE(SUBSTITUTE(Deck!$D$1:$D$346,"™",""),"®",""))=B25)*(Deck!$C$1:$C$346=C25)*(Deck!$F$1:$F$346=D25),0),0))*E25,"Not found")) | H25: =IF(OR(B25="",C25="",D25=""),"",IFERROR(INDEX(Deck!$J$1:$J$346,MATCH(1,INDEX((TRIM(SUBSTITUTE(SUBSTITUTE(Deck!$D$1:$D$346,"™",""),"®",""))=B25)*(Deck!$C$1:$C$346=C25)*(Deck!$F$1:$F$346=D25),0),0))*E25,"Not found"))
F26: =IF(OR(B26="",C26="",D26=""),"",IFERROR(INDEX(Deck!$H$1:$H$346,MATCH(1,INDEX((TRIM(SUBSTITUTE(SUBSTITUTE(Deck!$D$1:$D$346,"™",""),"®",""))=B26)*(Deck!$C$1:$C$346=C26)*(Deck!$F$1:$F$346=D26),0),0))*E26,"Not found")) | G26: =IF(OR(B26="",C26="",D26=""),"",IFERROR(INDEX(Deck!$I$1:$I$346,MATCH(1,INDEX((TRIM(SUBSTITUTE(SUBSTITUTE(Deck!$D$1:$D$346,"™",""),"®",""))=B26)*(Deck!$C$1:$C$346=C26)*(Deck!$F$1:$F$346=D26),0),0))*E26,"Not found")) | H26: =IF(OR(B26="",C26="",D26=""),"",IFERROR(INDEX(Deck!$J$1:$J$346,MATCH(1,INDEX((TRIM(SUBSTITUTE(SUBSTITUTE(Deck!$D$1:$D$346,"™",""),"®",""))=B26)*(Deck!$C$1:$C$346=C26)*(Deck!$F$1:$F$346=D26),0),0))*E26,"Not found"))
F27: =IF(OR(B27="",C27="",D27=""),"",IFERROR(INDEX(Deck!$H$1:$H$346,MATCH(1,INDEX((TRIM(SUBSTITUTE(SUBSTITUTE(Deck!$D$1:$D$346,"™",""),"®",""))=B27)*(Deck!$C$1:$C$346=C27)*(Deck!$F$1:$F$346=D27),0),0))*E27,"Not found")) | G27: =IF(OR(B27="",C27="",D27=""),"",IFERROR(INDEX(Deck!$I$1:$I$346,MATCH(1,INDEX((TRIM(SUBSTITUTE(SUBSTITUTE(Deck!$D$1:$D$346,"™",""),"®",""))=B27)*(Deck!$C$1:$C$346=C27)*(Deck!$F$1:$F$346=D27),0),0))*E27,"Not found")) | H27: =IF(OR(B27="",C27="",D27=""),"",IFERROR(INDEX(Deck!$J$1:$J$346,MATCH(1,INDEX((TRIM(SUBSTITUTE(SUBSTITUTE(Deck!$D$1:$D$346,"™",""),"®",""))=B27)*(Deck!$C$1:$C$346=C27)*(Deck!$F$1:$F$346=D27),0),0))*E27,"Not found"))
F28: =IF(OR(B28="",C28="",D28=""),"",IFERROR(INDEX(Deck!$H$1:$H$346,MATCH(1,INDEX((TRIM(SUBSTITUTE(SUBSTITUTE(Deck!$D$1:$D$346,"™",""),"®",""))=B28)*(Deck!$C$1:$C$346=C28)*(Deck!$F$1:$F$346=D28),0),0))*E28,"Not found")) | G28: =IF(OR(B28="",C28="",D28=""),"",IFERROR(INDEX(Deck!$I$1:$I$346,MATCH(1,INDEX((TRIM(SUBSTITUTE(SUBSTITUTE(Deck!$D$1:$D$346,"™",""),"®",""))=B28)*(Deck!$C$1:$C$346=C28)*(Deck!$F$1:$F$346=D28),0),0))*E28,"Not found")) | H28: =IF(OR(B28="",C28="",D28=""),"",IFERROR(INDEX(Deck!$J$1:$J$346,MATCH(1,INDEX((TRIM(SUBSTITUTE(SUBSTITUTE(Deck!$D$1:$D$346,"™",""),"®",""))=B28)*(Deck!$C$1:$C$346=C28)*(Deck!$F$1:$F$346=D28),0),0))*E28,"Not found"))

Sheet ALL COLLECTIONS
B2: ALL COLLECTIONS (Mixed) | M2: SUGGESTED FASTENER BOOKING | AF2: LENGTH
B3: * Mixed Truckloads can not include EDGE PRIME | N3: % OF DECKING FOOTAGE | O3: 1 | AD3: COLOUR | AE3: PROFILE | AF3: GROOVED EDGE | AG3: SQUARE EDGE | AH3: RISER | AI3: FASCIA
M4: ITEM | O4: QUANTITY (Boxes)
B5: TOTAL LIFTS (#) : | D5: =SUM(E16:E51) -> 0 | M5: EDGELOC 55 sq ft | N5: * composite only option | O5: =ROUND(SUMIFS($H$16:$H$51,$C$16:$C$51,"GROOVED EDGE",$I$16:$I$51,"COMPOSITE")/55*$O$3,0) -> 0 | AD5: COCONUT HUSK | AE5: GROOVED EDGE | AF5: 12 | AG5: 16 | AH5: 12 | AI5: 12
M6: COMPOSITE CORTEX 100 ln ft | O6: =ROUND((SUMIFS($H$16:$H$51,$C$16:$C$51,"SQUARE EDGE",$I$16:$I$51,"COMPOSITE"))/100*$O$3,0) -> 0 | AD6: SEA SALT GRAY | AE6: SQUARE EDGE | AF6: 16 | AG6: 20
B7: TOTAL WEIGHT (lbs) : | D7: =SUM(F16:F51) -> 0 | L7: OR | M7: COMPOSITE TOPLOC BOARD - 100 sq ft | O7: =ROUND((SUMIFS($G$16:$G$51,$C$16:$C$51,"SQUARE EDGE",$I$16:$I$51,"COMPOSITE"))/100*$O$3,0) -> 0 | AD7: DARK COCOA | AE7: RISER | AF7: 20
M8: COMPOSITE CORTEX FASCIA 50 ln ft | O8: =ROUND((SUMIFS($G$16:$G$51,$C$16:$C$51,"RISER",$I$16:$I$51,"COMPOSITE")+SUMIFS($G$16:$G$51,$C$16:$C$51,"FASCIA",$I$16:$I$51,"COMPOSITE"))/50*$O$3,0) -> 0 | AD8: DARK OAK | AE8: FASCIA
B9: TOTAL TRUCKS (#) : | D9: =D7/43500 -> 0 | L9: OR | M9: COMPOSITE TOPLOC FASCIA - 100 ln ft | O9: =ROUND((SUMIFS($G$16:$G$51,$C$16:$C$51,"RISER",$I$16:$I$51,"COMPOSITE")+SUMIFS($G$16:$G$51,$C$16:$C$51,"FASCIA",$I$16:$I$51,"COMPOSITE"))/100*$O$3,0) -> 0 | AD9: WEATHERED OAK
M10: CONCEALOC - 100 sq ft | N10: * required for PVC | O10: =ROUND(SUMIFS($H$16:$H$51,$C$16:$C$51,"GROOVED EDGE",$I$16:$I$51,"PVC")/100*$O$3,0) -> 0 | AD10: NATURAL WHITE OAK
B11: 1/2 Truckload = min. 22,500 lbs | C11: Full Truckload = max. 43,500 lbs | M11: PVC CORTEX 100 sq ft | N11: * recommended over Toploc | O11: =ROUND((SUMIFS($H$16:$H$51,$C$16:$C$51,"SQUARE EDGE",$I$16:$I$51,"PVC"))/100*$O$3,0) -> 0 | AD11: ANTIQUE LEATHER
B12: Multi-Lift = min. 4 lifts | L12: OR | M12: PVC TOPLOC BOARD - 100 sq ft | O12: =ROUND((SUMIFS($H$16:$H$51,$C$16:$C$51,"SQUARE EDGE",$I$16:$I$51,"PVC"))/100*$O$3,0) -> 0 | AD12: DARK ROAST
M13: PVC TOPLOC FASCIA - 30 ln ft | O13: =ROUND((SUMIFS($G$16:$G$51,$C$16:$C$51,"RISER",$I$16:$I$51,"PVC")+SUMIFS($G$16:$G$51,$C$16:$C$51,"FASCIA",$I$16:$I$51,"PVC"))/30*$O$3,0) -> 0 | AD13: DRIFTWOOD
AD14: RECLAIMED CHESTNUT
B15: COLOUR | C15: PROFILE | D15: LENGTH | E15: # LIFTS | F15: TOTAL ITEM WEIGHT | G15: TOTAL LN FT | H15: TOTAL SQ FT | I15: MATERIAL | AD15: MOCHA
F16: =IF(OR(B16="",C16="",D16=""),"",IFERROR(INDEX(Deck!$H$1:$H$346,MATCH(1,INDEX((TRIM(SUBSTITUTE(SUBSTITUTE(Deck!$D$1:$D$346,"™",""),"®",""))=B16)*(Deck!$C$1:$C$346=C16)*(Deck!$F$1:$F$346=D16),0),0))*E16,"Not found")) | G16: =IF(OR(B16="",C16="",D16=""),"",IFERROR(INDEX(Deck!$I$1:$I$346,MATCH(1,INDEX((TRIM(SUBSTITUTE(SUBSTITUTE(Deck!$D$1:$D$346,"™",""),"®",""))=B16)*(Deck!$C$1:$C$346=C16)*(Deck!$F$1:$F$346=D16),0),0))*E16,"Not found")) | H16: =IF(OR(B16="",C16="",D16=""),"",IFERROR(INDEX(Deck!$J$1:$J$346,MATCH(1,INDEX((TRIM(SUBSTITUTE(SUBSTITUTE(Deck!$D$1:$D$346,"™",""),"®",""))=B16)*(Deck!$C$1:$C$346=C16)*(Deck!$F$1:$F$346=D16),0),0))*E16,"Not found")) | I16: =VLOOKUP(B16,Deck!D:E,2,FALSE) -> #N/A | AD16: PECAN
F17: =IF(OR(B17="",C17="",D17=""),"",IFERROR(INDEX(Deck!$H$1:$H$346,MATCH(1,INDEX((TRIM(SUBSTITUTE(SUBSTITUTE(Deck!$D$1:$D$346,"™",""),"®",""))=B17)*(Deck!$C$1:$C$346=C17)*(Deck!$F$1:$F$346=D17),0),0))*E17,"Not found")) | G17: =IF(OR(B17="",C17="",D17=""),"",IFERROR(INDEX(Deck!$I$1:$I$346,MATCH(1,INDEX((TRIM(SUBSTITUTE(SUBSTITUTE(Deck!$D$1:$D$346,"™",""),"®",""))=B17)*(Deck!$C$1:$C$346=C17)*(Deck!$F$1:$F$346=D17),0),0))*E17,"Not found")) | H17: =IF(OR(B17="",C17="",D17=""),"",IFERROR(INDEX(Deck!$J$1:$J$346,MATCH(1,INDEX((TRIM(SUBSTITUTE(SUBSTITUTE(Deck!$D$1:$D$346,"™",""),"®",""))=B17)*(Deck!$C$1:$C$346=C17)*(Deck!$F$1:$F$346=D17),0),0))*E17,"Not found")) | I17: =VLOOKUP(B17,Deck!D:E,2,FALSE) -> #N/A | L17: INSTRUCTIONS : | AD17: TIGERWOOD
F18: =IF(OR(B18="",C18="",D18=""),"",IFERROR(INDEX(Deck!$H$1:$H$346,MATCH(1,INDEX((TRIM(SUBSTITUTE(SUBSTITUTE(Deck!$D$1:$D$346,"™",""),"®",""))=B18)*(Deck!$C$1:$C$346=C18)*(Deck!$F$1:$F$346=D18),0),0))*E18,"Not found")) | G18: =IF(OR(B18="",C18="",D18=""),"",IFERROR(INDEX(Deck!$I$1:$I$346,MATCH(1,INDEX((TRIM(SUBSTITUTE(SUBSTITUTE(Deck!$D$1:$D$346,"™",""),"®",""))=B18)*(Deck!$C$1:$C$346=C18)*(Deck!$F$1:$F$346=D18),0),0))*E18,"Not found")) | H18: =IF(OR(B18="",C18="",D18=""),"",IFERROR(INDEX(Deck!$J$1:$J$346,MATCH(1,INDEX((TRIM(SUBSTITUTE(SUBSTITUTE(Deck!$D$1:$D$346,"™",""),"®",""))=B18)*(Deck!$C$1:$C$346=C18)*(Deck!$F$1:$F$346=D18),0),0))*E18,"Not found")) | I18: =VLOOKUP(B18,Deck!D:E,2,FALSE) -> #N/A | L18: 1. Select your colour, profile, length options (dropdown menus) | AD18: ASHWOOD
F19: =IF(OR(B19="",C19="",D19=""),"",IFERROR(INDEX(Deck!$H$1:$H$346,MATCH(1,INDEX((TRIM(SUBSTITUTE(SUBSTITUTE(Deck!$D$1:$D$346,"™",""),"®",""))=B19)*(Deck!$C$1:$C$346=C19)*(Deck!$F$1:$F$346=D19),0),0))*E19,"Not found")) | G19: =IF(OR(B19="",C19="",D19=""),"",IFERROR(INDEX(Deck!$I$1:$I$346,MATCH(1,INDEX((TRIM(SUBSTITUTE(SUBSTITUTE(Deck!$D$1:$D$346,"™",""),"®",""))=B19)*(Deck!$C$1:$C$346=C19)*(Deck!$F$1:$F$346=D19),0),0))*E19,"Not found")) | H19: =IF(OR(B19="",C19="",D19=""),"",IFERROR(INDEX(Deck!$J$1:$J$346,MATCH(1,INDEX((TRIM(SUBSTITUTE(SUBSTITUTE(Deck!$D$1:$D$346,"™",""),"®",""))=B19)*(Deck!$C$1:$C$346=C19)*(Deck!$F$1:$F$346=D19),0),0))*E19,"Not found")) | I19: =VLOOKUP(B19,Deck!D:E,2,FALSE) -> #N/A | L19: 2. Enter the # of lifts per item | AD19: ESPRESSO
F20: =IF(OR(B20="",C20="",D20=""),"",IFERROR(INDEX(Deck!$H$1:$H$346,MATCH(1,INDEX((TRIM(SUBSTITUTE(SUBSTITUTE(Deck!$D$1:$D$346,"™",""),"®",""))=B20)*(Deck!$C$1:$C$346=C20)*(Deck!$F$1:$F$346=D20),0),0))*E20,"Not found")) | G20: =IF(OR(B20="",C20="",D20=""),"",IFERROR(INDEX(Deck!$I$1:$I$346,MATCH(1,INDEX((TRIM(SUBSTITUTE(SUBSTITUTE(Deck!$D$1:$D$346,"™",""),"®",""))=B20)*(Deck!$C$1:$C$346=C20)*(Deck!$F$1:$F$346=D20),0),0))*E20,"Not found")) | H20: =IF(OR(B20="",C20="",D20=""),"",IFERROR(INDEX(Deck!$J$1:$J$346,MATCH(1,INDEX((TRIM(SUBSTITUTE(SUBSTITUTE(Deck!$D$1:$D$346,"™",""),"®",""))=B20)*(Deck!$C$1:$C$346=C20)*(Deck!$F$1:$F$346=D20),0),0))*E20,"Not found")) | I20: =VLOOKUP(B20,Deck!D:E,2,FALSE) -> #N/A | L20: 3. Reference the total calculations in the upper left box to build your order | AD20: WHITEWASH CEDAR
F21: =IF(OR(B21="",C21="",D21=""),"",IFERROR(INDEX(Deck!$H$1:$H$346,MATCH(1,INDEX((TRIM(SUBSTITUTE(SUBSTITUTE(Deck!$D$1:$D$346,"™",""),"®",""))=B21)*(Deck!$C$1:$C$346=C21)*(Deck!$F$1:$F$346=D21),0),0))*E21,"Not found")) | G21: =IF(OR(B21="",C21="",D21=""),"",IFERROR(INDEX(Deck!$I$1:$I$346,MATCH(1,INDEX((TRIM(SUBSTITUTE(SUBSTITUTE(Deck!$D$1:$D$346,"™",""),"®",""))=B21)*(Deck!$C$1:$C$346=C21)*(Deck!$F$1:$F$346=D21),0),0))*E21,"Not found")) | H21: =IF(OR(B21="",C21="",D21=""),"",IFERROR(INDEX(Deck!$J$1:$J$346,MATCH(1,INDEX((TRIM(SUBSTITUTE(SUBSTITUTE(Deck!$D$1:$D$346,"™",""),"®",""))=B21)*(Deck!$C$1:$C$346=C21)*(Deck!$F$1:$F$346=D21),0),0))*E21,"Not found")) | I21: =VLOOKUP(B21,Deck!D:E,2,FALSE) -> #N/A | L21: 4. Review the suggested fastener order (above) to support your decking purchase | AD21: BROWNSTONE
F22: =IF(OR(B22="",C22="",D22=""),"",IFERROR(INDEX(Deck!$H$1:$H$346,MATCH(1,INDEX((TRIM(SUBSTITUTE(SUBSTITUTE(Deck!$D$1:$D$346,"™",""),"®",""))=B22)*(Deck!$C$1:$C$346=C22)*(Deck!$F$1:$F$346=D22),0),0))*E22,"Not found")) | G22: =IF(OR(B22="",C22="",D22=""),"",IFERROR(INDEX(Deck!$I$1:$I$346,MATCH(1,INDEX((TRIM(SUBSTITUTE(SUBSTITUTE(Deck!$D$1:$D$346,"™",""),"®",""))=B22)*(Deck!$C$1:$C$346=C22)*(Deck!$F$1:$F$346=D22),0),0))*E22,"Not found")) | H22: =IF(OR(B22="",C22="",D22=""),"",IFERROR(INDEX(Deck!$J$1:$J$346,MATCH(1,INDEX((TRIM(SUBSTITUTE(SUBSTITUTE(Deck!$D$1:$D$346,"™",""),"®",""))=B22)*(Deck!$C$1:$C$346=C22)*(Deck!$F$1:$F$346=D22),0),0))*E22,"Not found")) | I22: =VLOOKUP(B22,Deck!D:E,2,FALSE) -> #N/A | L22: 5. You can change the % of fasteners to order based on your deck selections by changing the value in cell M5. | AD22: SLATE GRAY
F23: =IF(OR(B23="",C23="",D23=""),"",IFERROR(INDEX(Deck!$H$1:$H$346,MATCH(1,INDEX((TRIM(SUBSTITUTE(SUBSTITUTE(Deck!$D$1:$D$346,"™",""),"®",""))=B23)*(Deck!$C$1:$C$346=C23)*(Deck!$F$1:$F$346=D23),0),0))*E23,"Not found")) | G23: =IF(OR(B23="",C23="",D23=""),"",IFERROR(INDEX(Deck!$I$1:$I$346,MATCH(1,INDEX((TRIM(SUBSTITUTE(SUBSTITUTE(Deck!$D$1:$D$346,"™",""),"®",""))=B23)*(Deck!$C$1:$C$346=C23)*(Deck!$F$1:$F$346=D23),0),0))*E23,"Not found")) | H23: =IF(OR(B23="",C23="",D23=""),"",IFERROR(INDEX(Deck!$J$1:$J$346,MATCH(1,INDEX((TRIM(SUBSTITUTE(SUBSTITUTE(Deck!$D$1:$D$346,"™",""),"®",""))=B23)*(Deck!$C$1:$C$346=C23)*(Deck!$F$1:$F$346=D23),0),0))*E23,"Not found")) | I23: =VLOOKUP(B23,Deck!D:E,2,FALSE) -> #N/A | L23: - Different fastener options are available for grooved & square edge boards. The suggested quanties represent either/or. | AD23: TIMBER GRAY
F24: =IF(OR(B24="",C24="",D24=""),"",IFERROR(INDEX(Deck!$H$1:$H$346,MATCH(1,INDEX((TRIM(SUBSTITUTE(SUBSTITUTE(Deck!$D$1:$D$346,"™",""),"®",""))=B24)*(Deck!$C$1:$C$346=C24)*(Deck!$F$1:$F$346=D24),0),0))*E24,"Not found")) | G24: =IF(OR(B24="",C24="",D24=""),"",IFERROR(INDEX(Deck!$I$1:$I$346,MATCH(1,INDEX((TRIM(SUBSTITUTE(SUBSTITUTE(Deck!$D$1:$D$346,"™",""),"®",""))=B24)*(Deck!$C$1:$C$346=C24)*(Deck!$F$1:$F$346=D24),0),0))*E24,"Not found")) | H24: =IF(OR(B24="",C24="",D24=""),"",IFERROR(INDEX(Deck!$J$1:$J$346,MATCH(1,INDEX((TRIM(SUBSTITUTE(SUBSTITUTE(Deck!$D$1:$D$346,"™",""),"®",""))=B24)*(Deck!$C$1:$C$346=C24)*(Deck!$F$1:$F$346=D24),0),0))*E24,"Not found")) | I24: =VLOOKUP(B24,Deck!D:E,2,FALSE) -> #N/A | AD24: TOASTED WHEAT
F25: =IF(OR(B25="",C25="",D25=""),"",IFERROR(INDEX(Deck!$H$1:$H$346,MATCH(1,INDEX((TRIM(SUBSTITUTE(SUBSTITUTE(Deck!$D$1:$D$346,"™",""),"®",""))=B25)*(Deck!$C$1:$C$346=C25)*(Deck!$F$1:$F$346=D25),0),0))*E25,"Not found")) | G25: =IF(OR(B25="",C25="",D25=""),"",IFERROR(INDEX(Deck!$I$1:$I$346,MATCH(1,INDEX((TRIM(SUBSTITUTE(SUBSTITUTE(Deck!$D$1:$D$346,"™",""),"®",""))=B25)*(Deck!$C$1:$C$346=C25)*(Deck!$F$1:$F$346=D25),0),0))*E25,"Not found")) | H25: =IF(OR(B25="",C25="",D25=""),"",IFERROR(INDEX(Deck!$J$1:$J$346,MATCH(1,INDEX((TRIM(SUBSTITUTE(SUBSTITUTE(Deck!$D$1:$D$346,"™",""),"®",""))=B25)*(Deck!$C$1:$C$346=C25)*(Deck!$F$1:$F$346=D25),0),0))*E25,"Not found")) | I25: =VLOOKUP(B25,Deck!D:E,2,FALSE) -> #N/A | L25: NOTE : This tool is provided to help you build a PO. This form does not contain pricing information and does not substitute for a PO. Please contact your Gillfor Account Manager for pricing and additional information. | AD25: CASTLEGATE
F26: =IF(OR(B26="",C26="",D26=""),"",IFERROR(INDEX(Deck!$H$1:$H$346,MATCH(1,INDEX((TRIM(SUBSTITUTE(SUBSTITUTE(Deck!$D$1:$D$346,"™",""),"®",""))=B26)*(Deck!$C$1:$C$346=C26)*(Deck!$F$1:$F$346=D26),0),0))*E26,"Not found")) | G26: =IF(OR(B26="",C26="",D26=""),"",IFERROR(INDEX(Deck!$I$1:$I$346,MATCH(1,INDEX((TRIM(SUBSTITUTE(SUBSTITUTE(Deck!$D$1:$D$346,"™",""),"®",""))=B26)*(Deck!$C$1:$C$346=C26)*(Deck!$F$1:$F$346=D26),0),0))*E26,"Not found")) | H26: =IF(OR(B26="",C26="",D26=""),"",IFERROR(INDEX(Deck!$J$1:$J$346,MATCH(1,INDEX((TRIM(SUBSTITUTE(SUBSTITUTE(Deck!$D$1:$D$346,"™",""),"®",""))=B26)*(Deck!$C$1:$C$346=C26)*(Deck!$F$1:$F$346=D26),0),0))*E26,"Not found")) | I26: =VLOOKUP(B26,Deck!D:E,2,FALSE) -> #N/A | AD26: AMERICAN WALNUT
F27: =IF(OR(B27="",C27="",D27=""),"",IFERROR(INDEX(Deck!$H$1:$H$346,MATCH(1,INDEX((TRIM(SUBSTITUTE(SUBSTITUTE(Deck!$D$1:$D$346,"™",""),"®",""))=B27)*(Deck!$C$1:$C$346=C27)*(Deck!$F$1:$F$346=D27),0),0))*E27,"Not found")) | G27: =IF(OR(B27="",C27="",D27=""),"",IFERROR(INDEX(Deck!$I$1:$I$346,MATCH(1,INDEX((TRIM(SUBSTITUTE(SUBSTITUTE(Deck!$D$1:$D$346,"™",""),"®",""))=B27)*(Deck!$C$1:$C$346=C27)*(Deck!$F$1:$F$346=D27),0),0))*E27,"Not found")) | H27: =IF(OR(B27="",C27="",D27=""),"",IFERROR(INDEX(Deck!$J$1:$J$346,MATCH(1,INDEX((TRIM(SUBSTITUTE(SUBSTITUTE(Deck!$D$1:$D$346,"™",""),"®",""))=B27)*(Deck!$C$1:$C$346=C27)*(Deck!$F$1:$F$346=D27),0),0))*E27,"Not found")) | I27: =VLOOKUP(B27,Deck!D:E,2,FALSE) -> #N/A | AD27: FRENCH WHITE OAK
F28: =IF(OR(B28="",C28="",D28=""),"",IFERROR(INDEX(Deck!$H$1:$H$346,MATCH(1,INDEX((TRIM(SUBSTITUTE(SUBSTITUTE(Deck!$D$1:$D$346,"™",""),"®",""))=B28)*(Deck!$C$1:$C$346=C28)*(Deck!$F$1:$F$346=D28),0),0))*E28,"Not found")) | G28: =IF(OR(B28="",C28="",D28=""),"",IFERROR(INDEX(Deck!$I$1:$I$346,MATCH(1,INDEX((TRIM(SUBSTITUTE(SUBSTITUTE(Deck!$D$1:$D$346,"™",""),"®",""))=B28)*(Deck!$C$1:$C$346=C28)*(Deck!$F$1:$F$346=D28),0),0))*E28,"Not found")) | H28: =IF(OR(B28="",C28="",D28=""),"",IFERROR(INDEX(Deck!$J$1:$J$346,MATCH(1,INDEX((TRIM(SUBSTITUTE(SUBSTITUTE(Deck!$D$1:$D$346,"™",""),"®",""))=B28)*(Deck!$C$1:$C$346=C28)*(Deck!$F$1:$F$346=D28),0),0))*E28,"Not found")) | I28: =VLOOKUP(B28,Deck!D:E,2,FALSE) -> #N/A | AD28: BOARDWALK
F29: =IF(OR(B29="",C29="",D29=""),"",IFERROR(INDEX(Deck!$H$1:$H$346,MATCH(1,INDEX((TRIM(SUBSTITUTE(SUBSTITUTE(Deck!$D$1:$D$346,"™",""),"®",""))=B29)*(Deck!$C$1:$C$346=C29)*(Deck!$F$1:$F$346=D29),0),0))*E29,"Not found")) | G29: =IF(OR(B29="",C29="",D29=""),"",IFERROR(INDEX(Deck!$I$1:$I$346,MATCH(1,INDEX((TRIM(SUBSTITUTE(SUBSTITUTE(Deck!$D$1:$D$346,"™",""),"®",""))=B29)*(Deck!$C$1:$C$346=C29)*(Deck!$F$1:$F$346=D29),0),0))*E29,"Not found")) | H29: =IF(OR(B29="",C29="",D29=""),"",IFERROR(INDEX(Deck!$J$1:$J$346,MATCH(1,INDEX((TRIM(SUBSTITUTE(SUBSTITUTE(Deck!$D$1:$D$346,"™",""),"®",""))=B29)*(Deck!$C$1:$C$346=C29)*(Deck!$F$1:$F$346=D29),0),0))*E29,"Not found")) | I29: =VLOOKUP(B29,Deck!D:E,2,FALSE) -> #N/A | AD29: COASTLINE
F30: =IF(OR(B30="",C30="",D30=""),"",IFERROR(INDEX(Deck!$H$1:$H$346,MATCH(1,INDEX((TRIM(SUBSTITUTE(SUBSTITUTE(Deck!$D$1:$D$346,"™",""),"®",""))=B30)*(Deck!$C$1:$C$346=C30)*(Deck!$F$1:$F$346=D30),0),0))*E30,"Not found")) | G30: =IF(OR(B30="",C30="",D30=""),"",IFERROR(INDEX(Deck!$I$1:$I$346,MATCH(1,INDEX((TRIM(SUBSTITUTE(SUBSTITUTE(Deck!$D$1:$D$346,"™",""),"®",""))=B30)*(Deck!$C$1:$C$346=C30)*(Deck!$F$1:$F$346=D30),0),0))*E30,"Not found")) | H30: =IF(OR(B30="",C30="",D30=""),"",IFERROR(INDEX(Deck!$J$1:$J$346,MATCH(1,INDEX((TRIM(SUBSTITUTE(SUBSTITUTE(Deck!$D$1:$D$346,"™",""),"®",""))=B30)*(Deck!$C$1:$C$346=C30)*(Deck!$F$1:$F$346=D30),0),0))*E30,"Not found")) | I30: =VLOOKUP(B30,Deck!D:E,2,FALSE) -> #N/A | AD30: DARK HICKORY
F31: =IF(OR(B31="",C31="",D31=""),"",IFERROR(INDEX(Deck!$H$1:$H$346,MATCH(1,INDEX((TRIM(SUBSTITUTE(SUBSTITUTE(Deck!$D$1:$D$346,"™",""),"®",""))=B31)*(Deck!$C$1:$C$346=C31)*(Deck!$F$1:$F$346=D31),0),0))*E31,"Not found")) | G31: =IF(OR(B31="",C31="",D31=""),"",IFERROR(INDEX(Deck!$I$1:$I$346,MATCH(1,INDEX((TRIM(SUBSTITUTE(SUBSTITUTE(Deck!$D$1:$D$346,"™",""),"®",""))=B31)*(Deck!$C$1:$C$346=C31)*(Deck!$F$1:$F$346=D31),0),0))*E31,"Not found")) | H31: =IF(OR(B31="",C31="",D31=""),"",IFERROR(INDEX(Deck!$J$1:$J$346,MATCH(1,INDEX((TRIM(SUBSTITUTE(SUBSTITUTE(Deck!$D$1:$D$346,"™",""),"®",""))=B31)*(Deck!$C$1:$C$346=C31)*(Deck!$F$1:$F$346=D31),0),0))*E31,"Not found")) | I31: =VLOOKUP(B31,Deck!D:E,2,FALSE) -> #N/A | AD31: ENGLISH WALNUT
F32: =IF(OR(B32="",C32="",D32=""),"",IFERROR(INDEX(Deck!$H$1:$H$346,MATCH(1,INDEX((TRIM(SUBSTITUTE(SUBSTITUTE(Deck!$D$1:$D$346,"™",""),"®",""))=B32)*(Deck!$C$1:$C$346=C32)*(Deck!$F$1:$F$346=D32),0),0))*E32,"Not found")) | G32: =IF(OR(B32="",C32="",D32=""),"",IFERROR(INDEX(Deck!$I$1:$I$346,MATCH(1,INDEX((TRIM(SUBSTITUTE(SUBSTITUTE(Deck!$D$1:$D$346,"™",""),"®",""))=B32)*(Deck!$C$1:$C$346=C32)*(Deck!$F$1:$F$346=D32),0),0))*E32,"Not found")) | H32: =IF(OR(B32="",C32="",D32=""),"",IFERROR(INDEX(Deck!$J$1:$J$346,MATCH(1,INDEX((TRIM(SUBSTITUTE(SUBSTITUTE(Deck!$D$1:$D$346,"™",""),"®",""))=B32)*(Deck!$C$1:$C$346=C32)*(Deck!$F$1:$F$346=D32),0),0))*E32,"Not found")) | I32: =VLOOKUP(B32,Deck!D:E,2,FALSE) -> #N/A | AD32: WEATHERED TEAK
F33: =IF(OR(B33="",C33="",D33=""),"",IFERROR(INDEX(Deck!$H$1:$H$346,MATCH(1,INDEX((TRIM(SUBSTITUTE(SUBSTITUTE(Deck!$D$1:$D$346,"™",""),"®",""))=B33)*(Deck!$C$1:$C$346=C33)*(Deck!$F$1:$F$346=D33),0),0))*E33,"Not found")) | G33: =IF(OR(B33="",C33="",D33=""),"",IFERROR(INDEX(Deck!$I$1:$I$346,MATCH(1,INDEX((TRIM(SUBSTITUTE(SUBSTITUTE(Deck!$D$1:$D$346,"™",""),"®",""))=B33)*(Deck!$C$1:$C$346=C33)*(Deck!$F$1:$F$346=D33),0),0))*E33,"Not found")) | H33: =IF(OR(B33="",C33="",D33=""),"",IFERROR(INDEX(Deck!$J$1:$J$346,MATCH(1,INDEX((TRIM(SUBSTITUTE(SUBSTITUTE(Deck!$D$1:$D$346,"™",""),"®",""))=B33)*(Deck!$C$1:$C$346=C33)*(Deck!$F$1:$F$346=D33),0),0))*E33,"Not found")) | I33: =VLOOKUP(B33,Deck!D:E,2,FALSE) -> #N/A | AD33: MAHOGANY
F34: =IF(OR(B34="",C34="",D34=""),"",IFERROR(INDEX(Deck!$H$1:$H$346,MATCH(1,INDEX((TRIM(SUBSTITUTE(SUBSTITUTE(Deck!$D$1:$D$346,"™",""),"®",""))=B34)*(Deck!$C$1:$C$346=C34)*(Deck!$F$1:$F$346=D34),0),0))*E34,"Not found")) | G34: =IF(OR(B34="",C34="",D34=""),"",IFERROR(INDEX(Deck!$I$1:$I$346,MATCH(1,INDEX((TRIM(SUBSTITUTE(SUBSTITUTE(Deck!$D$1:$D$346,"™",""),"®",""))=B34)*(Deck!$C$1:$C$346=C34)*(Deck!$F$1:$F$346=D34),0),0))*E34,"Not found")) | H34: =IF(OR(B34="",C34="",D34=""),"",IFERROR(INDEX(Deck!$J$1:$J$346,MATCH(1,INDEX((TRIM(SUBSTITUTE(SUBSTITUTE(Deck!$D$1:$D$346,"™",""),"®",""))=B34)*(Deck!$C$1:$C$346=C34)*(Deck!$F$1:$F$346=D34),0),0))*E34,"Not found")) | I34: =VLOOKUP(B34,Deck!D:E,2,FALSE) -> #N/A
F35: =IF(OR(B35="",C35="",D35=""),"",IFERROR(INDEX(Deck!$H$1:$H$346,MATCH(1,INDEX((TRIM(SUBSTITUTE(SUBSTITUTE(Deck!$D$1:$D$346,"™",""),"®",""))=B35)*(Deck!$C$1:$C$346=C35)*(Deck!$F$1:$F$346=D35),0),0))*E35,"Not found")) | G35: =IF(OR(B35="",C35="",D35=""),"",IFERROR(INDEX(Deck!$I$1:$I$346,MATCH(1,INDEX((TRIM(SUBSTITUTE(SUBSTITUTE(Deck!$D$1:$D$346,"™",""),"®",""))=B35)*(Deck!$C$1:$C$346=C35)*(Deck!$F$1:$F$346=D35),0),0))*E35,"Not found")) | H35: =IF(OR(B35="",C35="",D35=""),"",IFERROR(INDEX(Deck!$J$1:$J$346,MATCH(1,INDEX((TRIM(SUBSTITUTE(SUBSTITUTE(Deck!$D$1:$D$346,"™",""),"®",""))=B35)*(Deck!$C$1:$C$346=C35)*(Deck!$F$1:$F$346=D35),0),0))*E35,"Not found")) | I35: =VLOOKUP(B35,Deck!D:E,2,FALSE) -> #N/A
F36: =IF(OR(B36="",C36="",D36=""),"",IFERROR(INDEX(Deck!$H$1:$H$346,MATCH(1,INDEX((TRIM(SUBSTITUTE(SUBSTITUTE(Deck!$D$1:$D$346,"™",""),"®",""))=B36)*(Deck!$C$1:$C$346=C36)*(Deck!$F$1:$F$346=D36),0),0))*E36,"Not found")) | G36: =IF(OR(B36="",C36="",D36=""),"",IFERROR(INDEX(Deck!$I$1:$I$346,MATCH(1,INDEX((TRIM(SUBSTITUTE(SUBSTITUTE(Deck!$D$1:$D$346,"™",""),"®",""))=B36)*(Deck!$C$1:$C$346=C36)*(Deck!$F$1:$F$346=D36),0),0))*E36,"Not found")) | H36: =IF(OR(B36="",C36="",D36=""),"",IFERROR(INDEX(Deck!$J$1:$J$346,MATCH(1,INDEX((TRIM(SUBSTITUTE(SUBSTITUTE(Deck!$D$1:$D$346,"™",""),"®",""))=B36)*(Deck!$C$1:$C$346=C36)*(Deck!$F$1:$F$346=D36),0),0))*E36,"Not found")) | I36: =VLOOKUP(B36,Deck!D:E,2,FALSE) -> #N/A
F37: =IF(OR(B37="",C37="",D37=""),"",IFERROR(INDEX(Deck!$H$1:$H$346,MATCH(1,INDEX((TRIM(SUBSTITUTE(SUBSTITUTE(Deck!$D$1:$D$346,"™",""),"®",""))=B37)*(Deck!$C$1:$C$346=C37)*(Deck!$F$1:$F$346=D37),0),0))*E37,"Not found")) | G37: =IF(OR(B37="",C37="",D37=""),"",IFERROR(INDEX(Deck!$I$1:$I$346,MATCH(1,INDEX((TRIM(SUBSTITUTE(SUBSTITUTE(Deck!$D$1:$D$346,"™",""),"®",""))=B37)*(Deck!$C$1:$C$346=C37)*(Deck!$F$1:$F$346=D37),0),0))*E37,"Not found")) | H37: =IF(OR(B37="",C37="",D37=""),"",IFERROR(INDEX(Deck!$J$1:$J$346,MATCH(1,INDEX((TRIM(SUBSTITUTE(SUBSTITUTE(Deck!$D$1:$D$346,"™",""),"®",""))=B37)*(Deck!$C$1:$C$346=C37)*(Deck!$F$1:$F$346=D37),0),0))*E37,"Not found")) | I37: =VLOOKUP(B37,Deck!D:E,2,FALSE) -> #N/A
F38: =IF(OR(B38="",C38="",D38=""),"",IFERROR(INDEX(Deck!$H$1:$H$346,MATCH(1,INDEX((TRIM(SUBSTITUTE(SUBSTITUTE(Deck!$D$1:$D$346,"™",""),"®",""))=B38)*(Deck!$C$1:$C$346=C38)*(Deck!$F$1:$F$346=D38),0),0))*E38,"Not found")) | G38: =IF(OR(B38="",C38="",D38=""),"",IFERROR(INDEX(Deck!$I$1:$I$346,MATCH(1,INDEX((TRIM(SUBSTITUTE(SUBSTITUTE(Deck!$D$1:$D$346,"™",""),"®",""))=B38)*(Deck!$C$1:$C$346=C38)*(Deck!$F$1:$F$346=D38),0),0))*E38,"Not found")) | H38: =IF(OR(B38="",C38="",D38=""),"",IFERROR(INDEX(Deck!$J$1:$J$346,MATCH(1,INDEX((TRIM(SUBSTITUTE(SUBSTITUTE(Deck!$D$1:$D$346,"™",""),"®",""))=B38)*(Deck!$C$1:$C$346=C38)*(Deck!$F$1:$F$346=D38),0),0))*E38,"Not found")) | I38: =VLOOKUP(B38,Deck!D:E,2,FALSE) -> #N/A
F39: =IF(OR(B39="",C39="",D39=""),"",IFERROR(INDEX(Deck!$H$1:$H$346,MATCH(1,INDEX((TRIM(SUBSTITUTE(SUBSTITUTE(Deck!$D$1:$D$346,"™",""),"®",""))=B39)*(Deck!$C$1:$C$346=C39)*(Deck!$F$1:$F$346=D39),0),0))*E39,"Not found")) | G39: =IF(OR(B39="",C39="",D39=""),"",IFERROR(INDEX(Deck!$I$1:$I$346,MATCH(1,INDEX((TRIM(SUBSTITUTE(SUBSTITUTE(Deck!$D$1:$D$346,"™",""),"®",""))=B39)*(Deck!$C$1:$C$346=C39)*(Deck!$F$1:$F$346=D39),0),0))*E39,"Not found")) | H39: =IF(OR(B39="",C39="",D39=""),"",IFERROR(INDEX(Deck!$J$1:$J$346,MATCH(1,INDEX((TRIM(SUBSTITUTE(SUBSTITUTE(Deck!$D$1:$D$346,"™",""),"®",""))=B39)*(Deck!$C$1:$C$346=C39)*(Deck!$F$1:$F$346=D39),0),0))*E39,"Not found")) | I39: =VLOOKUP(B39,Deck!D:E,2,FALSE) -> #N/A
F40: =IF(OR(B40="",C40="",D40=""),"",IFERROR(INDEX(Deck!$H$1:$H$346,MATCH(1,INDEX((TRIM(SUBSTITUTE(SUBSTITUTE(Deck!$D$1:$D$346,"™",""),"®",""))=B40)*(Deck!$C$1:$C$346=C40)*(Deck!$F$1:$F$346=D40),0),0))*E40,"Not found")) | G40: =IF(OR(B40="",C40="",D40=""),"",IFERROR(INDEX(Deck!$I$1:$I$346,MATCH(1,INDEX((TRIM(SUBSTITUTE(SUBSTITUTE(Deck!$D$1:$D$346,"™",""),"®",""))=B40)*(Deck!$C$1:$C$346=C40)*(Deck!$F$1:$F$346=D40),0),0))*E40,"Not found")) | H40: =IF(OR(B40="",C40="",D40=""),"",IFERROR(INDEX(Deck!$J$1:$J$346,MATCH(1,INDEX((TRIM(SUBSTITUTE(SUBSTITUTE(Deck!$D$1:$D$346,"™",""),"®",""))=B40)*(Deck!$C$1:$C$346=C40)*(Deck!$F$1:$F$346=D40),0),0))*E40,"Not found")) | I40: =VLOOKUP(B40,Deck!D:E,2,FALSE) -> #N/A
F41: =IF(OR(B41="",C41="",D41=""),"",IFERROR(INDEX(Deck!$H$1:$H$346,MATCH(1,INDEX((TRIM(SUBSTITUTE(SUBSTITUTE(Deck!$D$1:$D$346,"™",""),"®",""))=B41)*(Deck!$C$1:$C$346=C41)*(Deck!$F$1:$F$346=D41),0),0))*E41,"Not found")) | G41: =IF(OR(B41="",C41="",D41=""),"",IFERROR(INDEX(Deck!$I$1:$I$346,MATCH(1,INDEX((TRIM(SUBSTITUTE(SUBSTITUTE(Deck!$D$1:$D$346,"™",""),"®",""))=B41)*(Deck!$C$1:$C$346=C41)*(Deck!$F$1:$F$346=D41),0),0))*E41,"Not found")) | H41: =IF(OR(B41="",C41="",D41=""),"",IFERROR(INDEX(Deck!$J$1:$J$346,MATCH(1,INDEX((TRIM(SUBSTITUTE(SUBSTITUTE(Deck!$D$1:$D$346,"™",""),"®",""))=B41)*(Deck!$C$1:$C$346=C41)*(Deck!$F$1:$F$346=D41),0),0))*E41,"Not found")) | I41: =VLOOKUP(B41,Deck!D:E,2,FALSE) -> #N/A
...

Sheet EDGE PRIME ONLY (F)
B2: EDGE PRIME | C2: * Doit être commandé séparément des autres collections | R2: LONGUEUR
K3: COMMANDE DE FIXATIONS SUGGÉRÉE | P3: COULEUR | Q3: PROFILÉ | R3: GROOVED EDGE | S3: SQUARE EDGE | T3: RISER | U3: FASCIA
B4: NOMBRE TOTAL DE PAQUETS (#) : | D4: =SUM(E15:E28) -> 0
L5: % DE LA SUPERFICIE DE PLATELAGE | M5: 1 | P5: MARITIME GRAY | Q5: GROOVED EDGE | R5: 12 | S5: 16 | T5: 12 | U5: 12
B6: POIDS TOTAL (lb) : | D6: =SUM(F15:F28) -> 0 | K6: ARTICLE | M6: QUANTITÉ (boîtes) | P6: DARK TEAK | Q6: SQUARE EDGE | R6: 16 | S6: 20
K7: EDGELOC 55 pi² | M7: =ROUND(SUMIFS($H$15:$H$28,$C$15:$C$28,"GROOVED EDGE")/55,0)*$M$5 -> 0 | Q7: RISER | R7: 20
B8: NOMBRE TOTAL DE CAMIONS (#) : | D8: =D6/43500 -> 0 | K8: CORTEX COMPOSITE 100 pi lin. | M8: =ROUND((SUMIFS($G$15:$G$28,$C$15:$C$28,"SQUARE EDGE"))/100,0)*$M$5 -> 0 | Q8: FASCIA
J9: OU | K9: PLANCHE TOPLOC COMPOSITE - 100 pi² | M9: =ROUND((SUMIFS($H$15:$H$28,$C$15:$C$28,"SQUARE EDGE"))/100,0)*$M$5 -> 0
B10: 1/2 chargement = min. 22 500 lb | C10: Chargement complet = max. 43 500 lb | K10: BORDURE CORTEX COMPOSITE 50 pi lin. | M10: =ROUND((SUMIFS($G$15:$G$28,$C$15:$C$28,"RISER")+SUMIFS($G$15:$G$28,$C$15:$C$28,"FASCIA"))/50,0)*$M$5 -> 0
B11: Multi-paquets = min. 4 paquets | J11: OU | K11: BORDURE TOPLOC COMPOSITE - 100 pi lin. | M11: =ROUND((SUMIFS($G$15:$G$28,$C$15:$C$28,"RISER")+SUMIFS($G$15:$G$28,$C$15:$C$28,"FASCIA"))/100,0)*$M$5 -> 0
B14: COULEUR | C14: PROFILÉ | D14: LONGUEUR | E14: # PAQUETS | F14: POIDS TOTAL DE L'ARTICLE | G14: TOTAL PI LIN. | H14: TOTAL PI² | K14: INSTRUCTIONS :
F15: =IF(OR(B15="",C15="",D15=""),"",IFERROR(INDEX(Deck!$H$1:$H$346,MATCH(1,INDEX((TRIM(SUBSTITUTE(SUBSTITUTE(Deck!$D$1:$D$346,"™",""),"®",""))=B15)*(Deck!$C$1:$C$346=C15)*(Deck!$F$1:$F$346=D15),0),0))*E15,"Introuvable")) | G15: =IF(OR(B15="",C15="",D15=""),"",IFERROR(INDEX(Deck!$I$1:$I$346,MATCH(1,INDEX((TRIM(SUBSTITUTE(SUBSTITUTE(Deck!$D$1:$D$346,"™",""),"®",""))=B15)*(Deck!$C$1:$C$346=C15)*(Deck!$F$1:$F$346=D15),0),0))*E15,"Introuvable")) | H15: =IF(OR(B15="",C15="",D15=""),"",IFERROR(INDEX(Deck!$J$1:$J$346,MATCH(1,INDEX((TRIM(SUBSTITUTE(SUBSTITUTE(Deck!$D$1:$D$346,"™",""),"®",""))=B15)*(Deck!$C$1:$C$346=C15)*(Deck!$F$1:$F$346=D15),0),0))*E15,"Introuvable")) | K15: 1. Sélectionnez la couleur, le profilé et la longueur (menus déroulants)
F16: =IF(OR(B16="",C16="",D16=""),"",IFERROR(INDEX(Deck!$H$1:$H$346,MATCH(1,INDEX((TRIM(SUBSTITUTE(SUBSTITUTE(Deck!$D$1:$D$346,"™",""),"®",""))=B16)*(Deck!$C$1:$C$346=C16)*(Deck!$F$1:$F$346=D16),0),0))*E16,"Introuvable")) | G16: =IF(OR(B16="",C16="",D16=""),"",IFERROR(INDEX(Deck!$I$1:$I$346,MATCH(1,INDEX((TRIM(SUBSTITUTE(SUBSTITUTE(Deck!$D$1:$D$346,"™",""),"®",""))=B16)*(Deck!$C$1:$C$346=C16)*(Deck!$F$1:$F$346=D16),0),0))*E16,"Introuvable")) | H16: =IF(OR(B16="",C16="",D16=""),"",IFERROR(INDEX(Deck!$J$1:$J$346,MATCH(1,INDEX((TRIM(SUBSTITUTE(SUBSTITUTE(Deck!$D$1:$D$346,"™",""),"®",""))=B16)*(Deck!$C$1:$C$346=C16)*(Deck!$F$1:$F$346=D16),0),0))*E16,"Introuvable")) | K16: 2. Entrez le nombre de paquets par article
F17: =IF(OR(B17="",C17="",D17=""),"",IFERROR(INDEX(Deck!$H$1:$H$346,MATCH(1,INDEX((TRIM(SUBSTITUTE(SUBSTITUTE(Deck!$D$1:$D$346,"™",""),"®",""))=B17)*(Deck!$C$1:$C$346=C17)*(Deck!$F$1:$F$346=D17),0),0))*E17,"Introuvable")) | G17: =IF(OR(B17="",C17="",D17=""),"",IFERROR(INDEX(Deck!$I$1:$I$346,MATCH(1,INDEX((TRIM(SUBSTITUTE(SUBSTITUTE(Deck!$D$1:$D$346,"™",""),"®",""))=B17)*(Deck!$C$1:$C$346=C17)*(Deck!$F$1:$F$346=D17),0),0))*E17,"Introuvable")) | H17: =IF(OR(B17="",C17="",D17=""),"",IFERROR(INDEX(Deck!$J$1:$J$346,MATCH(1,INDEX((TRIM(SUBSTITUTE(SUBSTITUTE(Deck!$D$1:$D$346,"™",""),"®",""))=B17)*(Deck!$C$1:$C$346=C17)*(Deck!$F$1:$F$346=D17),0),0))*E17,"Introuvable")) | K17: 3. Consultez les totaux calculés dans l'encadré supérieur gauche pour bâtir votre commande
F18: =IF(OR(B18="",C18="",D18=""),"",IFERROR(INDEX(Deck!$H$1:$H$346,MATCH(1,INDEX((TRIM(SUBSTITUTE(SUBSTITUTE(Deck!$D$1:$D$346,"™",""),"®",""))=B18)*(Deck!$C$1:$C$346=C18)*(Deck!$F$1:$F$346=D18),0),0))*E18,"Introuvable")) | G18: =IF(OR(B18="",C18="",D18=""),"",IFERROR(INDEX(Deck!$I$1:$I$346,MATCH(1,INDEX((TRIM(SUBSTITUTE(SUBSTITUTE(Deck!$D$1:$D$346,"™",""),"®",""))=B18)*(Deck!$C$1:$C$346=C18)*(Deck!$F$1:$F$346=D18),0),0))*E18,"Introuvable")) | H18: =IF(OR(B18="",C18="",D18=""),"",IFERROR(INDEX(Deck!$J$1:$J$346,MATCH(1,INDEX((TRIM(SUBSTITUTE(SUBSTITUTE(Deck!$D$1:$D$346,"™",""),"®",""))=B18)*(Deck!$C$1:$C$346=C18)*(Deck!$F$1:$F$346=D18),0),0))*E18,"Introuvable")) | K18: 4. Vérifiez la commande de fixations suggérée (ci-dessus) en fonction de votre achat de planches
F19: =IF(OR(B19="",C19="",D19=""),"",IFERROR(INDEX(Deck!$H$1:$H$346,MATCH(1,INDEX((TRIM(SUBSTITUTE(SUBSTITUTE(Deck!$D$1:$D$346,"™",""),"®",""))=B19)*(Deck!$C$1:$C$346=C19)*(Deck!$F$1:$F$346=D19),0),0))*E19,"Introuvable")) | G19: =IF(OR(B19="",C19="",D19=""),"",IFERROR(INDEX(Deck!$I$1:$I$346,MATCH(1,INDEX((TRIM(SUBSTITUTE(SUBSTITUTE(Deck!$D$1:$D$346,"™",""),"®",""))=B19)*(Deck!$C$1:$C$346=C19)*(Deck!$F$1:$F$346=D19),0),0))*E19,"Introuvable")) | H19: =IF(OR(B19="",C19="",D19=""),"",IFERROR(INDEX(Deck!$J$1:$J$346,MATCH(1,INDEX((TRIM(SUBSTITUTE(SUBSTITUTE(Deck!$D$1:$D$346,"™",""),"®",""))=B19)*(Deck!$C$1:$C$346=C19)*(Deck!$F$1:$F$346=D19),0),0))*E19,"Introuvable")) | K19: 5. Vous pouvez modifier le % de fixations à commander selon vos choix de terrasse en changeant la valeur de la cellule M5.
F20: =IF(OR(B20="",C20="",D20=""),"",IFERROR(INDEX(Deck!$H$1:$H$346,MATCH(1,INDEX((TRIM(SUBSTITUTE(SUBSTITUTE(Deck!$D$1:$D$346,"™",""),"®",""))=B20)*(Deck!$C$1:$C$346=C20)*(Deck!$F$1:$F$346=D20),0),0))*E20,"Introuvable")) | G20: =IF(OR(B20="",C20="",D20=""),"",IFERROR(INDEX(Deck!$I$1:$I$346,MATCH(1,INDEX((TRIM(SUBSTITUTE(SUBSTITUTE(Deck!$D$1:$D$346,"™",""),"®",""))=B20)*(Deck!$C$1:$C$346=C20)*(Deck!$F$1:$F$346=D20),0),0))*E20,"Introuvable")) | H20: =IF(OR(B20="",C20="",D20=""),"",IFERROR(INDEX(Deck!$J$1:$J$346,MATCH(1,INDEX((TRIM(SUBSTITUTE(SUBSTITUTE(Deck!$D$1:$D$346,"™",""),"®",""))=B20)*(Deck!$C$1:$C$346=C20)*(Deck!$F$1:$F$346=D20),0),0))*E20,"Introuvable")) | K20: - Différentes options de fixations sont offertes pour les planches à rainure et à rive carrée. Les quantités suggérées représentent l'une ou l'autre option.
F21: =IF(OR(B21="",C21="",D21=""),"",IFERROR(INDEX(Deck!$H$1:$H$346,MATCH(1,INDEX((TRIM(SUBSTITUTE(SUBSTITUTE(Deck!$D$1:$D$346,"™",""),"®",""))=B21)*(Deck!$C$1:$C$346=C21)*(Deck!$F$1:$F$346=D21),0),0))*E21,"Introuvable")) | G21: =IF(OR(B21="",C21="",D21=""),"",IFERROR(INDEX(Deck!$I$1:$I$346,MATCH(1,INDEX((TRIM(SUBSTITUTE(SUBSTITUTE(Deck!$D$1:$D$346,"™",""),"®",""))=B21)*(Deck!$C$1:$C$346=C21)*(Deck!$F$1:$F$346=D21),0),0))*E21,"Introuvable")) | H21: =IF(OR(B21="",C21="",D21=""),"",IFERROR(INDEX(Deck!$J$1:$J$346,MATCH(1,INDEX((TRIM(SUBSTITUTE(SUBSTITUTE(Deck!$D$1:$D$346,"™",""),"®",""))=B21)*(Deck!$C$1:$C$346=C21)*(Deck!$F$1:$F$346=D21),0),0))*E21,"Introuvable"))
F22: =IF(OR(B22="",C22="",D22=""),"",IFERROR(INDEX(Deck!$H$1:$H$346,MATCH(1,INDEX((TRIM(SUBSTITUTE(SUBSTITUTE(Deck!$D$1:$D$346,"™",""),"®",""))=B22)*(Deck!$C$1:$C$346=C22)*(Deck!$F$1:$F$346=D22),0),0))*E22,"Introuvable")) | G22: =IF(OR(B22="",C22="",D22=""),"",IFERROR(INDEX(Deck!$I$1:$I$346,MATCH(1,INDEX((TRIM(SUBSTITUTE(SUBSTITUTE(Deck!$D$1:$D$346,"™",""),"®",""))=B22)*(Deck!$C$1:$C$346=C22)*(Deck!$F$1:$F$346=D22),0),0))*E22,"Introuvable")) | H22: =IF(OR(B22="",C22="",D22=""),"",IFERROR(INDEX(Deck!$J$1:$J$346,MATCH(1,INDEX((TRIM(SUBSTITUTE(SUBSTITUTE(Deck!$D$1:$D$346,"™",""),"®",""))=B22)*(Deck!$C$1:$C$346=C22)*(Deck!$F$1:$F$346=D22),0),0))*E22,"Introuvable")) | K22: REMARQUE : Cet outil vous aide à préparer un bon de commande (BC). Ce formulaire ne contient aucun prix et ne remplace pas un BC. Veuillez communiquer avec votre gestionnaire de compte Gillfor pour les prix et tout autre renseignement.
F23: =IF(OR(B23="",C23="",D23=""),"",IFERROR(INDEX(Deck!$H$1:$H$346,MATCH(1,INDEX((TRIM(SUBSTITUTE(SUBSTITUTE(Deck!$D$1:$D$346,"™",""),"®",""))=B23)*(Deck!$C$1:$C$346=C23)*(Deck!$F$1:$F$346=D23),0),0))*E23,"Introuvable")) | G23: =IF(OR(B23="",C23="",D23=""),"",IFERROR(INDEX(Deck!$I$1:$I$346,MATCH(1,INDEX((TRIM(SUBSTITUTE(SUBSTITUTE(Deck!$D$1:$D$346,"™",""),"®",""))=B23)*(Deck!$C$1:$C$346=C23)*(Deck!$F$1:$F$346=D23),0),0))*E23,"Introuvable")) | H23: =IF(OR(B23="",C23="",D23=""),"",IFERROR(INDEX(Deck!$J$1:$J$346,MATCH(1,INDEX((TRIM(SUBSTITUTE(SUBSTITUTE(Deck!$D$1:$D$346,"™",""),"®",""))=B23)*(Deck!$C$1:$C$346=C23)*(Deck!$F$1:$F$346=D23),0),0))*E23,"Introuvable"))
F24: =IF(OR(B24="",C24="",D24=""),"",IFERROR(INDEX(Deck!$H$1:$H$346,MATCH(1,INDEX((TRIM(SUBSTITUTE(SUBSTITUTE(Deck!$D$1:$D$346,"™",""),"®",""))=B24)*(Deck!$C$1:$C$346=C24)*(Deck!$F$1:$F$346=D24),0),0))*E24,"Introuvable")) | G24: =IF(OR(B24="",C24="",D24=""),"",IFERROR(INDEX(Deck!$I$1:$I$346,MATCH(1,INDEX((TRIM(SUBSTITUTE(SUBSTITUTE(Deck!$D$1:$D$346,"™",""),"®",""))=B24)*(Deck!$C$1:$C$346=C24)*(Deck!$F$1:$F$346=D24),0),0))*E24,"Introuvable")) | H24: =IF(OR(B24="",C24="",D24=""),"",IFERROR(INDEX(Deck!$J$1:$J$346,MATCH(1,INDEX((TRIM(SUBSTITUTE(SUBSTITUTE(Deck!$D$1:$D$346,"™",""),"®",""))=B24)*(Deck!$C$1:$C$346=C24)*(Deck!$F$1:$F$346=D24),0),0))*E24,"Introuvable"))
F25: =IF(OR(B25="",C25="",D25=""),"",IFERROR(INDEX(Deck!$H$1:$H$346,MATCH(1,INDEX((TRIM(SUBSTITUTE(SUBSTITUTE(Deck!$D$1:$D$346,"™",""),"®",""))=B25)*(Deck!$C$1:$C$346=C25)*(Deck!$F$1:$F$346=D25),0),0))*E25,"Introuvable")) | G25: =IF(OR(B25="",C25="",D25=""),"",IFERROR(INDEX(Deck!$I$1:$I$346,MATCH(1,INDEX((TRIM(SUBSTITUTE(SUBSTITUTE(Deck!$D$1:$D$346,"™",""),"®",""))=B25)*(Deck!$C$1:$C$346=C25)*(Deck!$F$1:$F$346=D25),0),0))*E25,"Introuvable")) | H25: =IF(OR(B25="",C25="",D25=""),"",IFERROR(INDEX(Deck!$J$1:$J$346,MATCH(1,INDEX((TRIM(SUBSTITUTE(SUBSTITUTE(Deck!$D$1:$D$346,"™",""),"®",""))=B25)*(Deck!$C$1:$C$346=C25)*(Deck!$F$1:$F$346=D25),0),0))*E25,"Introuvable"))
F26: =IF(OR(B26="",C26="",D26=""),"",IFERROR(INDEX(Deck!$H$1:$H$346,MATCH(1,INDEX((TRIM(SUBSTITUTE(SUBSTITUTE(Deck!$D$1:$D$346,"™",""),"®",""))=B26)*(Deck!$C$1:$C$346=C26)*(Deck!$F$1:$F$346=D26),0),0))*E26,"Introuvable")) | G26: =IF(OR(B26="",C26="",D26=""),"",IFERROR(INDEX(Deck!$I$1:$I$346,MATCH(1,INDEX((TRIM(SUBSTITUTE(SUBSTITUTE(Deck!$D$1:$D$346,"™",""),"®",""))=B26)*(Deck!$C$1:$C$346=C26)*(Deck!$F$1:$F$346=D26),0),0))*E26,"Introuvable")) | H26: =IF(OR(B26="",C26="",D26=""),"",IFERROR(INDEX(Deck!$J$1:$J$346,MATCH(1,INDEX((TRIM(SUBSTITUTE(SUBSTITUTE(Deck!$D$1:$D$346,"™",""),"®",""))=B26)*(Deck!$C$1:$C$346=C26)*(Deck!$F$1:$F$346=D26),0),0))*E26,"Introuvable"))
F27: =IF(OR(B27="",C27="",D27=""),"",IFERROR(INDEX(Deck!$H$1:$H$346,MATCH(1,INDEX((TRIM(SUBSTITUTE(SUBSTITUTE(Deck!$D$1:$D$346,"™",""),"®",""))=B27)*(Deck!$C$1:$C$346=C27)*(Deck!$F$1:$F$346=D27),0),0))*E27,"Introuvable")) | G27: =IF(OR(B27="",C27="",D27=""),"",IFERROR(INDEX(Deck!$I$1:$I$346,MATCH(1,INDEX((TRIM(SUBSTITUTE(SUBSTITUTE(Deck!$D$1:$D$346,"™",""),"®",""))=B27)*(Deck!$C$1:$C$346=C27)*(Deck!$F$1:$F$346=D27),0),0))*E27,"Introuvable")) | H27: =IF(OR(B27="",C27="",D27=""),"",IFERROR(INDEX(Deck!$J$1:$J$346,MATCH(1,INDEX((TRIM(SUBSTITUTE(SUBSTITUTE(Deck!$D$1:$D$346,"™",""),"®",""))=B27)*(Deck!$C$1:$C$346=C27)*(Deck!$F$1:$F$346=D27),0),0))*E27,"Introuvable"))
F28: =IF(OR(B28="",C28="",D28=""),"",IFERROR(INDEX(Deck!$H$1:$H$346,MATCH(1,INDEX((TRIM(SUBSTITUTE(SUBSTITUTE(Deck!$D$1:$D$346,"™",""),"®",""))=B28)*(Deck!$C$1:$C$346=C28)*(Deck!$F$1:$F$346=D28),0),0))*E28,"Introuvable")) | G28: =IF(OR(B28="",C28="",D28=""),"",IFERROR(INDEX(Deck!$I$1:$I$346,MATCH(1,INDEX((TRIM(SUBSTITUTE(SUBSTITUTE(Deck!$D$1:$D$346,"™",""),"®",""))=B28)*(Deck!$C$1:$C$346=C28)*(Deck!$F$1:$F$346=D28),0),0))*E28,"Introuvable")) | H28: =IF(OR(B28="",C28="",D28=""),"",IFERROR(INDEX(Deck!$J$1:$J$346,MATCH(1,INDEX((TRIM(SUBSTITUTE(SUBSTITUTE(Deck!$D$1:$D$346,"™",""),"®",""))=B28)*(Deck!$C$1:$C$346=C28)*(Deck!$F$1:$F$346=D28),0),0))*E28,"Introuvable"))

Sheet ALL COLLECTIONS (F)
B2: TOUTES LES COLLECTIONS (Mixte) | M2: COMMANDE DE FIXATIONS SUGGÉRÉE | AF2: LONGUEUR
B3: * Les chargements mixtes ne peuvent pas inclure EDGE PRIME | N3: % DE LA SUPERFICIE DE PLATELAGE | O3: 1 | AD3: COULEUR | AE3: PROFILÉ | AF3: GROOVED EDGE | AG3: SQUARE EDGE | AH3: RISER | AI3: FASCIA
M4: ARTICLE | O4: QUANTITÉ (boîtes)
B5: NOMBRE TOTAL DE PAQUETS (#) : | D5: =SUM(E16:E51) -> 0 | M5: EDGELOC 55 pi² | N5: * option composite seulement | O5: =ROUND(SUMIFS($H$16:$H$51,$C$16:$C$51,"GROOVED EDGE",$I$16:$I$51,"COMPOSITE")/55*$O$3,0) -> 0 | AD5: COCONUT HUSK | AE5: GROOVED EDGE | AF5: 12 | AG5: 16 | AH5: 12 | AI5: 12
M6: CORTEX COMPOSITE 100 pi lin. | O6: =ROUND((SUMIFS($H$16:$H$51,$C$16:$C$51,"SQUARE EDGE",$I$16:$I$51,"COMPOSITE"))/100*$O$3,0) -> 0 | AD6: SEA SALT GRAY | AE6: SQUARE EDGE | AF6: 16 | AG6: 20
B7: POIDS TOTAL (lb) : | D7: =SUM(F16:F51) -> 0 | L7: OU | M7: PLANCHE TOPLOC COMPOSITE - 100 pi² | O7: =ROUND((SUMIFS($G$16:$G$51,$C$16:$C$51,"SQUARE EDGE",$I$16:$I$51,"COMPOSITE"))/100*$O$3,0) -> 0 | AD7: DARK COCOA | AE7: RISER | AF7: 20
M8: BORDURE CORTEX COMPOSITE 50 pi lin. | O8: =ROUND((SUMIFS($G$16:$G$51,$C$16:$C$51,"RISER",$I$16:$I$51,"COMPOSITE")+SUMIFS($G$16:$G$51,$C$16:$C$51,"FASCIA",$I$16:$I$51,"COMPOSITE"))/50*$O$3,0) -> 0 | AD8: DARK OAK | AE8: FASCIA
B9: NOMBRE TOTAL DE CAMIONS (#) : | D9: =D7/43500 -> 0 | L9: OU | M9: BORDURE TOPLOC COMPOSITE - 100 pi lin. | O9: =ROUND((SUMIFS($G$16:$G$51,$C$16:$C$51,"RISER",$I$16:$I$51,"COMPOSITE")+SUMIFS($G$16:$G$51,$C$16:$C$51,"FASCIA",$I$16:$I$51,"COMPOSITE"))/100*$O$3,0) -> 0 | AD9: WEATHERED OAK
M10: CONCEALOC - 100 pi² | N10: * requis pour le PVC | O10: =ROUND(SUMIFS($H$16:$H$51,$C$16:$C$51,"GROOVED EDGE",$I$16:$I$51,"PVC")/100*$O$3,0) -> 0 | AD10: NATURAL WHITE OAK
B11: 1/2 chargement = min. 22 500 lb | C11: Chargement complet = max. 43 500 lb | M11: CORTEX PVC 100 pi² | N11: * recommandé plutôt que Toploc | O11: =ROUND((SUMIFS($H$16:$H$51,$C$16:$C$51,"SQUARE EDGE",$I$16:$I$51,"PVC"))/100*$O$3,0) -> 0 | AD11: ANTIQUE LEATHER
B12: Multi-paquets = min. 4 paquets | L12: OU | M12: PLANCHE TOPLOC PVC - 100 pi² | O12: =ROUND((SUMIFS($H$16:$H$51,$C$16:$C$51,"SQUARE EDGE",$I$16:$I$51,"PVC"))/100*$O$3,0) -> 0 | AD12: DARK ROAST
M13: BORDURE TOPLOC PVC - 30 pi lin. | O13: =ROUND((SUMIFS($G$16:$G$51,$C$16:$C$51,"RISER",$I$16:$I$51,"PVC")+SUMIFS($G$16:$G$51,$C$16:$C$51,"FASCIA",$I$16:$I$51,"PVC"))/30*$O$3,0) -> 0 | AD13: DRIFTWOOD
AD14: RECLAIMED CHESTNUT
B15: COULEUR | C15: PROFILÉ | D15: LONGUEUR | E15: # PAQUETS | F15: POIDS TOTAL DE L'ARTICLE | G15: TOTAL PI LIN. | H15: TOTAL PI² | I15: MATÉRIAU | AD15: MOCHA
F16: =IF(OR(B16="",C16="",D16=""),"",IFERROR(INDEX(Deck!$H$1:$H$346,MATCH(1,INDEX((TRIM(SUBSTITUTE(SUBSTITUTE(Deck!$D$1:$D$346,"™",""),"®",""))=B16)*(Deck!$C$1:$C$346=C16)*(Deck!$F$1:$F$346=D16),0),0))*E16,"Introuvable")) | G16: =IF(OR(B16="",C16="",D16=""),"",IFERROR(INDEX(Deck!$I$1:$I$346,MATCH(1,INDEX((TRIM(SUBSTITUTE(SUBSTITUTE(Deck!$D$1:$D$346,"™",""),"®",""))=B16)*(Deck!$C$1:$C$346=C16)*(Deck!$F$1:$F$346=D16),0),0))*E16,"Introuvable")) | H16: =IF(OR(B16="",C16="",D16=""),"",IFERROR(INDEX(Deck!$J$1:$J$346,MATCH(1,INDEX((TRIM(SUBSTITUTE(SUBSTITUTE(Deck!$D$1:$D$346,"™",""),"®",""))=B16)*(Deck!$C$1:$C$346=C16)*(Deck!$F$1:$F$346=D16),0),0))*E16,"Introuvable")) | I16: =VLOOKUP(B16,Deck!D:E,2,FALSE) -> #N/A | AD16: PECAN
F17: =IF(OR(B17="",C17="",D17=""),"",IFERROR(INDEX(Deck!$H$1:$H$346,MATCH(1,INDEX((TRIM(SUBSTITUTE(SUBSTITUTE(Deck!$D$1:$D$346,"™",""),"®",""))=B17)*(Deck!$C$1:$C$346=C17)*(Deck!$F$1:$F$346=D17),0),0))*E17,"Introuvable")) | G17: =IF(OR(B17="",C17="",D17=""),"",IFERROR(INDEX(Deck!$I$1:$I$346,MATCH(1,INDEX((TRIM(SUBSTITUTE(SUBSTITUTE(Deck!$D$1:$D$346,"™",""),"®",""))=B17)*(Deck!$C$1:$C$346=C17)*(Deck!$F$1:$F$346=D17),0),0))*E17,"Introuvable")) | H17: =IF(OR(B17="",C17="",D17=""),"",IFERROR(INDEX(Deck!$J$1:$J$346,MATCH(1,INDEX((TRIM(SUBSTITUTE(SUBSTITUTE(Deck!$D$1:$D$346,"™",""),"®",""))=B17)*(Deck!$C$1:$C$346=C17)*(Deck!$F$1:$F$346=D17),0),0))*E17,"Introuvable")) | I17: =VLOOKUP(B17,Deck!D:E,2,FALSE) -> #N/A | L17: INSTRUCTIONS : | AD17: TIGERWOOD
F18: =IF(OR(B18="",C18="",D18=""),"",IFERROR(INDEX(Deck!$H$1:$H$346,MATCH(1,INDEX((TRIM(SUBSTITUTE(SUBSTITUTE(Deck!$D$1:$D$346,"™",""),"®",""))=B18)*(Deck!$C$1:$C$346=C18)*(Deck!$F$1:$F$346=D18),0),0))*E18,"Introuvable")) | G18: =IF(OR(B18="",C18="",D18=""),"",IFERROR(INDEX(Deck!$I$1:$I$346,MATCH(1,INDEX((TRIM(SUBSTITUTE(SUBSTITUTE(Deck!$D$1:$D$346,"™",""),"®",""))=B18)*(Deck!$C$1:$C$346=C18)*(Deck!$F$1:$F$346=D18),0),0))*E18,"Introuvable")) | H18: =IF(OR(B18="",C18="",D18=""),"",IFERROR(INDEX(Deck!$J$1:$J$346,MATCH(1,INDEX((TRIM(SUBSTITUTE(SUBSTITUTE(Deck!$D$1:$D$346,"™",""),"®",""))=B18)*(Deck!$C$1:$C$346=C18)*(Deck!$F$1:$F$346=D18),0),0))*E18,"Introuvable")) | I18: =VLOOKUP(B18,Deck!D:E,2,FALSE) -> #N/A | L18: 1. Sélectionnez la couleur, le profilé et la longueur (menus déroulants) | AD18: ASHWOOD
F19: =IF(OR(B19="",C19="",D19=""),"",IFERROR(INDEX(Deck!$H$1:$H$346,MATCH(1,INDEX((TRIM(SUBSTITUTE(SUBSTITUTE(Deck!$D$1:$D$346,"™",""),"®",""))=B19)*(Deck!$C$1:$C$346=C19)*(Deck!$F$1:$F$346=D19),0),0))*E19,"Introuvable")) | G19: =IF(OR(B19="",C19="",D19=""),"",IFERROR(INDEX(Deck!$I$1:$I$346,MATCH(1,INDEX((TRIM(SUBSTITUTE(SUBSTITUTE(Deck!$D$1:$D$346,"™",""),"®",""))=B19)*(Deck!$C$1:$C$346=C19)*(Deck!$F$1:$F$346=D19),0),0))*E19,"Introuvable")) | H19: =IF(OR(B19="",C19="",D19=""),"",IFERROR(INDEX(Deck!$J$1:$J$346,MATCH(1,INDEX((TRIM(SUBSTITUTE(SUBSTITUTE(Deck!$D$1:$D$346,"™",""),"®",""))=B19)*(Deck!$C$1:$C$346=C19)*(Deck!$F$1:$F$346=D19),0),0))*E19,"Introuvable")) | I19: =VLOOKUP(B19,Deck!D:E,2,FALSE) -> #N/A | L19: 2. Entrez le nombre de paquets par article | AD19: ESPRESSO
F20: =IF(OR(B20="",C20="",D20=""),"",IFERROR(INDEX(Deck!$H$1:$H$346,MATCH(1,INDEX((TRIM(SUBSTITUTE(SUBSTITUTE(Deck!$D$1:$D$346,"™",""),"®",""))=B20)*(Deck!$C$1:$C$346=C20)*(Deck!$F$1:$F$346=D20),0),0))*E20,"Introuvable")) | G20: =IF(OR(B20="",C20="",D20=""),"",IFERROR(INDEX(Deck!$I$1:$I$346,MATCH(1,INDEX((TRIM(SUBSTITUTE(SUBSTITUTE(Deck!$D$1:$D$346,"™",""),"®",""))=B20)*(Deck!$C$1:$C$346=C20)*(Deck!$F$1:$F$346=D20),0),0))*E20,"Introuvable")) | H20: =IF(OR(B20="",C20="",D20=""),"",IFERROR(INDEX(Deck!$J$1:$J$346,MATCH(1,INDEX((TRIM(SUBSTITUTE(SUBSTITUTE(Deck!$D$1:$D$346,"™",""),"®",""))=B20)*(Deck!$C$1:$C$346=C20)*(Deck!$F$1:$F$346=D20),0),0))*E20,"Introuvable")) | I20: =VLOOKUP(B20,Deck!D:E,2,FALSE) -> #N/A | L20: 3. Consultez les totaux calculés dans l'encadré supérieur gauche pour bâtir votre commande | AD20: WHITEWASH CEDAR
F21: =IF(OR(B21="",C21="",D21=""),"",IFERROR(INDEX(Deck!$H$1:$H$346,MATCH(1,INDEX((TRIM(SUBSTITUTE(SUBSTITUTE(Deck!$D$1:$D$346,"™",""),"®",""))=B21)*(Deck!$C$1:$C$346=C21)*(Deck!$F$1:$F$346=D21),0),0))*E21,"Introuvable")) | G21: =IF(OR(B21="",C21="",D21=""),"",IFERROR(INDEX(Deck!$I$1:$I$346,MATCH(1,INDEX((TRIM(SUBSTITUTE(SUBSTITUTE(Deck!$D$1:$D$346,"™",""),"®",""))=B21)*(Deck!$C$1:$C$346=C21)*(Deck!$F$1:$F$346=D21),0),0))*E21,"Introuvable")) | H21: =IF(OR(B21="",C21="",D21=""),"",IFERROR(INDEX(Deck!$J$1:$J$346,MATCH(1,INDEX((TRIM(SUBSTITUTE(SUBSTITUTE(Deck!$D$1:$D$346,"™",""),"®",""))=B21)*(Deck!$C$1:$C$346=C21)*(Deck!$F$1:$F$346=D21),0),0))*E21,"Introuvable")) | I21: =VLOOKUP(B21,Deck!D:E,2,FALSE) -> #N/A | L21: 4. Vérifiez la commande de fixations suggérée (ci-dessus) en fonction de votre achat de planches | AD21: BROWNSTONE
F22: =IF(OR(B22="",C22="",D22=""),"",IFERROR(INDEX(Deck!$H$1:$H$346,MATCH(1,INDEX((TRIM(SUBSTITUTE(SUBSTITUTE(Deck!$D$1:$D$346,"™",""),"®",""))=B22)*(Deck!$C$1:$C$346=C22)*(Deck!$F$1:$F$346=D22),0),0))*E22,"Introuvable")) | G22: =IF(OR(B22="",C22="",D22=""),"",IFERROR(INDEX(Deck!$I$1:$I$346,MATCH(1,INDEX((TRIM(SUBSTITUTE(SUBSTITUTE(Deck!$D$1:$D$346,"™",""),"®",""))=B22)*(Deck!$C$1:$C$346=C22)*(Deck!$F$1:$F$346=D22),0),0))*E22,"Introuvable")) | H22: =IF(OR(B22="",C22="",D22=""),"",IFERROR(INDEX(Deck!$J$1:$J$346,MATCH(1,INDEX((TRIM(SUBSTITUTE(SUBSTITUTE(Deck!$D$1:$D$346,"™",""),"®",""))=B22)*(Deck!$C$1:$C$346=C22)*(Deck!$F$1:$F$346=D22),0),0))*E22,"Introuvable")) | I22: =VLOOKUP(B22,Deck!D:E,2,FALSE) -> #N/A | L22: 5. Vous pouvez modifier le % de fixations à commander selon vos choix de terrasse en changeant la valeur de la cellule M5. | AD22: SLATE GRAY
F23: =IF(OR(B23="",C23="",D23=""),"",IFERROR(INDEX(Deck!$H$1:$H$346,MATCH(1,INDEX((TRIM(SUBSTITUTE(SUBSTITUTE(Deck!$D$1:$D$346,"™",""),"®",""))=B23)*(Deck!$C$1:$C$346=C23)*(Deck!$F$1:$F$346=D23),0),0))*E23,"Introuvable")) | G23: =IF(OR(B23="",C23="",D23=""),"",IFERROR(INDEX(Deck!$I$1:$I$346,MATCH(1,INDEX((TRIM(SUBSTITUTE(SUBSTITUTE(Deck!$D$1:$D$346,"™",""),"®",""))=B23)*(Deck!$C$1:$C$346=C23)*(Deck!$F$1:$F$346=D23),0),0))*E23,"Introuvable")) | H23: =IF(OR(B23="",C23="",D23=""),"",IFERROR(INDEX(Deck!$J$1:$J$346,MATCH(1,INDEX((TRIM(SUBSTITUTE(SUBSTITUTE(Deck!$D$1:$D$346,"™",""),"®",""))=B23)*(Deck!$C$1:$C$346=C23)*(Deck!$F$1:$F$346=D23),0),0))*E23,"Introuvable")) | I23: =VLOOKUP(B23,Deck!D:E,2,FALSE) -> #N/A | L23: - Différentes options de fixations sont offertes pour les planches à rainure et à rive carrée. Les quantités suggérées représentent l'une ou l'autre option. | AD23: TIMBER GRAY
F24: =IF(OR(B24="",C24="",D24=""),"",IFERROR(INDEX(Deck!$H$1:$H$346,MATCH(1,INDEX((TRIM(SUBSTITUTE(SUBSTITUTE(Deck!$D$1:$D$346,"™",""),"®",""))=B24)*(Deck!$C$1:$C$346=C24)*(Deck!$F$1:$F$346=D24),0),0))*E24,"Introuvable")) | G24: =IF(OR(B24="",C24="",D24=""),"",IFERROR(INDEX(Deck!$I$1:$I$346,MATCH(1,INDEX((TRIM(SUBSTITUTE(SUBSTITUTE(Deck!$D$1:$D$346,"™",""),"®",""))=B24)*(Deck!$C$1:$C$346=C24)*(Deck!$F$1:$F$346=D24),0),0))*E24,"Introuvable")) | H24: =IF(OR(B24="",C24="",D24=""),"",IFERROR(INDEX(Deck!$J$1:$J$346,MATCH(1,INDEX((TRIM(SUBSTITUTE(SUBSTITUTE(Deck!$D$1:$D$346,"™",""),"®",""))=B24)*(Deck!$C$1:$C$346=C24)*(Deck!$F$1:$F$346=D24),0),0))*E24,"Introuvable")) | I24: =VLOOKUP(B24,Deck!D:E,2,FALSE) -> #N/A | AD24: TOASTED WHEAT
F25: =IF(OR(B25="",C25="",D25=""),"",IFERROR(INDEX(Deck!$H$1:$H$346,MATCH(1,INDEX((TRIM(SUBSTITUTE(SUBSTITUTE(Deck!$D$1:$D$346,"™",""),"®",""))=B25)*(Deck!$C$1:$C$346=C25)*(Deck!$F$1:$F$346=D25),0),0))*E25,"Introuvable")) | G25: =IF(OR(B25="",C25="",D25=""),"",IFERROR(INDEX(Deck!$I$1:$I$346,MATCH(1,INDEX((TRIM(SUBSTITUTE(SUBSTITUTE(Deck!$D$1:$D$346,"™",""),"®",""))=B25)*(Deck!$C$1:$C$346=C25)*(Deck!$F$1:$F$346=D25),0),0))*E25,"Introuvable")) | H25: =IF(OR(B25="",C25="",D25=""),"",IFERROR(INDEX(Deck!$J$1:$J$346,MATCH(1,INDEX((TRIM(SUBSTITUTE(SUBSTITUTE(Deck!$D$1:$D$346,"™",""),"®",""))=B25)*(Deck!$C$1:$C$346=C25)*(Deck!$F$1:$F$346=D25),0),0))*E25,"Introuvable")) | I25: =VLOOKUP(B25,Deck!D:E,2,FALSE) -> #N/A | L25: REMARQUE : Cet outil vous aide à préparer un bon de commande (BC). Ce formulaire ne contient aucun prix et ne remplace pas un BC. Veuillez communiquer avec votre gestionnaire de compte Gillfor pour les prix et tout autre renseignement. | AD25: CASTLEGATE
F26: =IF(OR(B26="",C26="",D26=""),"",IFERROR(INDEX(Deck!$H$1:$H$346,MATCH(1,INDEX((TRIM(SUBSTITUTE(SUBSTITUTE(Deck!$D$1:$D$346,"™",""),"®",""))=B26)*(Deck!$C$1:$C$346=C26)*(Deck!$F$1:$F$346=D26),0),0))*E26,"Introuvable")) | G26: =IF(OR(B26="",C26="",D26=""),"",IFERROR(INDEX(Deck!$I$1:$I$346,MATCH(1,INDEX((TRIM(SUBSTITUTE(SUBSTITUTE(Deck!$D$1:$D$346,"™",""),"®",""))=B26)*(Deck!$C$1:$C$346=C26)*(Deck!$F$1:$F$346=D26),0),0))*E26,"Introuvable")) | H26: =IF(OR(B26="",C26="",D26=""),"",IFERROR(INDEX(Deck!$J$1:$J$346,MATCH(1,INDEX((TRIM(SUBSTITUTE(SUBSTITUTE(Deck!$D$1:$D$346,"™",""),"®",""))=B26)*(Deck!$C$1:$C$346=C26)*(Deck!$F$1:$F$346=D26),0),0))*E26,"Introuvable")) | I26: =VLOOKUP(B26,Deck!D:E,2,FALSE) -> #N/A | AD26: AMERICAN WALNUT
F27: =IF(OR(B27="",C27="",D27=""),"",IFERROR(INDEX(Deck!$H$1:$H$346,MATCH(1,INDEX((TRIM(SUBSTITUTE(SUBSTITUTE(Deck!$D$1:$D$346,"™",""),"®",""))=B27)*(Deck!$C$1:$C$346=C27)*(Deck!$F$1:$F$346=D27),0),0))*E27,"Introuvable")) | G27: =IF(OR(B27="",C27="",D27=""),"",IFERROR(INDEX(Deck!$I$1:$I$346,MATCH(1,INDEX((TRIM(SUBSTITUTE(SUBSTITUTE(Deck!$D$1:$D$346,"™",""),"®",""))=B27)*(Deck!$C$1:$C$346=C27)*(Deck!$F$1:$F$346=D27),0),0))*E27,"Introuvable")) | H27: =IF(OR(B27="",C27="",D27=""),"",IFERROR(INDEX(Deck!$J$1:$J$346,MATCH(1,INDEX((TRIM(SUBSTITUTE(SUBSTITUTE(Deck!$D$1:$D$346,"™",""),"®",""))=B27)*(Deck!$C$1:$C$346=C27)*(Deck!$F$1:$F$346=D27),0),0))*E27,"Introuvable")) | I27: =VLOOKUP(B27,Deck!D:E,2,FALSE) -> #N/A | AD27: FRENCH WHITE OAK
