Workbook
Name Accessories: [1]!Table6[Accessories]
Name Approval: #REF!
Name Categories: [1]!Table2[Change Categories]
Name Corey: [1]!Table4[Corey Divisions]
Name Departments: [1]!Table17[Approval Departments]
Name Deviations: [1]!Table19[Deviations]
Name EPPM: [1]!Table18[ECN]
Name EPPMChangeRequest: [1]!Table18[ECN]
Name Keyser: [1]!Table1[Keyser Divisions]
Name Location: #REF!
Name Locations: [1]!Table3[Locations]
Name Moulding: [1]!Table10[Molding]
Name Pavers: [1]!Table11[Pavers]
Name Phase: [1]!Table15[Product Life Phase]
Name Porch: #REF!
Name Product_Life_Phase: [2]!Table16[[#All],[Product Life Phase]]
Name PVC: [1]!Table7[PVC]
Name PVCDeck: #REF!
Name Rail: [1]!Table8[Rail]
Name Railing: #REF!
Name ResearchandDevelopment: #REF!
Name SAccounting: #REF!
Name ScrantonProducts: [1]!Table13[Scranton Products]
Name SOther: #REF!
Name SProd: [1]!Table13[Scranton Products]
Name SProductDevelopment: #REF!
Name SProduction: #REF!
Name SPurchasing: #REF!
Name SQuality: #REF!
Name SResearchandDevelopment: #REF!
Name SSafety: #REF!
Name Substitutions: [1]!Table20[Substitutions]
Name Trim: [1]!Table12[Trim]
Name VYCOM: [1]!Table14[VYCOM]
Name WAccounting: #REF!
Name Wilmington: [1]!Table5[Wilmington Divisions]
Name Wood: [1]!Table9[Wood]
Name WOther: #REF!
Name WPCDeck: #REF!
Name WProcess: #REF!
Name WProduction: #REF!
Name WPurchasing: #REF!
Name WQuality: #REF!
Name WResearchandDevelopment: #REF!
Name WSafety: #REF!

Sheet EDGE PRIME ONLY
B2: EDGE PRIME | C2: * Must be ordered sperately from other collections | R2: LENGTH
K3: SUGGESTED FASTENER BOOKING | P3: COLOUR | Q3: PROFILE | R3: GROOVED EDGE | S3: SQUARE EDGE | T3: RISER | U3: FASCIA
B4: TOTAL LIFTS (#) : | D4: =SUM(E15:E28) -> 0
L5: % OF DECKING FOOTAGE | M5: 1 | P5: MARITIME GRAY | Q5: GROOVED EDGE | R5: 12 | S5: 16 | T5: 12 | U5: 12
B6: TOTAL WEIGHT (lbs) : | D6: =SUM(F15:F28) -> 0 | K6: ITEM | M6: QUANTITY (Boxes) | P6: DARK TEAK | Q6: SQUARE EDGE | R6: 16 | S6: 20
K7: EDGELOC 55 sq ft | M7: =ROUND(SUMIFS($H$15:$H$28,$C$15:$C$28,"GROOVED EDGE")/55,0)*$M$5 -> 0 | Q7: RISER | R7: 20
B8: TOTAL TRUCKS (#) : | D8: =D6/43500 -> 0 | K8: COMPOSITE CORTEX 100 ln ft | M8: =ROUND((SUMIFS($G$15:$G$28,$C$15:$C$28,"SQUARE EDGE"))/100,0)*$M$5 -> 0 | Q8: FASCIA
J9: OR | K9: COMPOSITE TOPLOC BOARD - 100 sq ft | M9: =ROUND((SUMIFS($H$15:$H$28,$C$15:$C$28,"SQUARE EDGE"))/100,0)*$M$5 -> 0
B10: 1/2 Truckload = min. 22,500 lbs | C10: Full Truckload = max. 43,500 lbs | K10: COMPOSITE CORTEX FASCIA 50 ln ft | M10: =ROUND((SUMIFS($G$15:$G$28,$C$15:$C$28,"RISER")+SUMIFS($G$15:$G$28,$C$15:$C$28,"FASCIA"))/50,0)*$M$5 -> 0
B11: Multi-Lift = min. 4 lifts | J11: OR | K11: COMPOSITE TOPLOC FASCIA - 100 ln ft | M11: =ROUND((SUMIFS($G$15:$G$28,$C$15:$C$28,"RISER")+SUMIFS($G$15:$G$28,$C$15:$C$28,"FASCIA"))/100,0)*$M$5 -> 0
B14: COLOUR | C14: PROFILE | D14: LENGTH | E14: # LIFTS | F14: TOTAL ITEM WEIGHT | G14: TOTAL LN FT | H14: TOTAL SQ FT | K14: INSTRUCTIONS :
F15: =IF(OR(B15="",C15="",D15=""),"",IFERROR(INDEX(Deck!$H$1:$H$346,MATCH(1,INDEX((TRIM(SUBSTITUTE(SUBSTITUTE(Deck!$D$1:$D$346,"™",""),"®",""))=B15)*(Deck!$C$1:$C$346=C15)*(Deck!$F$1:$F$346=D15),0),0))*E15,"Not found")) | G15: =IF(OR(B15="",C15="",D15=""),"",IFERROR(INDEX(Deck!$I$1:$I$346,MATCH(1,INDEX((TRIM(SUBSTITUTE(SUBSTITUTE(Deck!$D$1:$D$346,"™",""),"®",""))=B15)*(Deck!$C$1:$C$346=C15)*(Deck!$F$1:$F$346=D15),0),0))*E15,"Not found")) | H15: =IF(OR(B15="",C15="",D15=""),"",IFERROR(INDEX(Deck!$J$1:$J$346,MATCH(1,INDEX((TRIM(SUBSTITUTE(SUBSTITUTE(Deck!$D$1:$D$346,"™",""),"®",""))=B15)*(Deck!$C$1:$C$346=C15)*(Deck!$F$1:$F$346=D15),0),0))*E15,"Not found")) | K15: 1. Select your colour, profile, length options (drop down menus)
F16: =IF(OR(B16="",C16="",D16=""),"",IFERROR(INDEX(Deck!$H$1:$H$346,MATCH(1,INDEX((TRIM(SUBSTITUTE(SUBSTITUTE(Deck!$D$1:$D$346,"™",""),"®",""))=B16)*(Deck!$C$1:$C$346=C16)*(Deck!$F$1:$F$346=D16),0),0))*E16,"Not found")) | G16: =IF(OR(B16="",C16="",D16=""),"",IFERROR(INDEX(Deck!$I$1:$I$346,MATCH(1,INDEX((TRIM(SUBSTITUTE(SUBSTITUTE(Deck!$D$1:$D$346,"™",""),"®",""))=B16)*(Deck!$C$1:$C$346=C16)*(Deck!$F$1:$F$346=D16),0),0))*E16,"Not found")) | H16: =IF(OR(B16="",C16="",D16=""),"",IFERROR(INDEX(Deck!$J$1:$J$346,MATCH(1,INDEX((TRIM(SUBSTITUTE(SUBSTITUTE(Deck!$D$1:$D$346,"™",""),"®",""))=B16)*(Deck!$C$1:$C$346=C16)*(Deck!$F$1:$F$346=D16),0),0))*E16,"Not found")) | K16: 2. Enter the # of lifts per item
F17: =IF(OR(B17="",C17="",D17=""),"",IFERROR(INDEX(Deck!$H$1:$H$346,MATCH(1,INDEX((TRIM(SUBSTITUTE(SUBSTITUTE(Deck!$D$1:$D$346,"™",""),"®",""))=B17)*(Deck!$C$1:$C$346=C17)*(Deck!$F$1:$F$346=D17),0),0))*E17,"Not found")) | G17: =IF(OR(B17="",C17="",D17=""),"",IFERROR(INDEX(Deck!$I$1:$I$346,MATCH(1,INDEX((TRIM(SUBSTITUTE(SUBSTITUTE(Deck!$D$1:$D$346,"™",""),"®",""))=B17)*(Deck!$C$1:$C$346=C17)*(Deck!$F$1:$F$346=D17),0),0))*E17,"Not found")) | H17: =IF(OR(B17="",C17="",D17=""),"",IFERROR(INDEX(Deck!$J$1:$J$346,MATCH(1,INDEX((TRIM(SUBSTITUTE(SUBSTITUTE(Deck!$D$1:$D$346,"™",""),"®",""))=B17)*(Deck!$C$1:$C$346=C17)*(Deck!$F$1:$F$346=D17),0),0))*E17,"Not found")) | K17: 3. Reference the total calculations in the upper left box to build your order
F18: =IF(OR(B18="",C18="",D18=""),"",IFERROR(INDEX(Deck!$H$1:$H$346,MATCH(1,INDEX((TRIM(SUBSTITUTE(SUBSTITUTE(Deck!$D$1:$D$346,"™",""),"®",""))=B18)*(Deck!$C$1:$C$346=C18)*(Deck!$F$1:$F$346=D18),0),0))*E18,"Not found")) | G18: =IF(OR(B18="",C18="",D18=""),"",IFERROR(INDEX(Deck!$I$1:$I$346,MATCH(1,INDEX((TRIM(SUBSTITUTE(SUBSTITUTE(Deck!$D$1:$D$346,"™",""),"®",""))=B18)*(Deck!$C$1:$C$346=C18)*(Deck!$F$1:$F$346=D18),0),0))*E18,"Not found")) | H18: =IF(OR(B18="",C18="",D18=""),"",IFERROR(INDEX(Deck!$J$1:$J$346,MATCH(1,INDEX((TRIM(SUBSTITUTE(SUBSTITUTE(Deck!$D$1:$D$346,"™",""),"®",""))=B18)*(Deck!$C$1:$C$346=C18)*(Deck!$F$1:$F$346=D18),0),0))*E18,"Not found")) | K18: 4. Review the suggested fastener order (above) to support your decking purchase
F19: =IF(OR(B19="",C19="",D19=""),"",IFERROR(INDEX(Deck!$H$1:$H$346,MATCH(1,INDEX((TRIM(SUBSTITUTE(SUBSTITUTE(Deck!$D$1:$D$346,"™",""),"®",""))=B19)*(Deck!$C$1:$C$346=C19)*(Deck!$F$1:$F$346=D19),0),0))*E19,"Not found")) | G19: =IF(OR(B19="",C19="",D19=""),"",IFERROR(INDEX(Deck!$I$1:$I$346,MATCH(1,INDEX((TRIM(SUBSTITUTE(SUBSTITUTE(Deck!$D$1:$D$346,"™",""),"®",""))=B19)*(Deck!$C$1:$C$346=C19)*(Deck!$F$1:$F$346=D19),0),0))*E19,"Not found")) | H19: =IF(OR(B19="",C19="",D19=""),"",IFERROR(INDEX(Deck!$J$1:$J$346,MATCH(1,INDEX((TRIM(SUBSTITUTE(SUBSTITUTE(Deck!$D$1:$D$346,"™",""),"®",""))=B19)*(Deck!$C$1:$C$346=C19)*(Deck!$F$1:$F$346=D19),0),0))*E19,"Not found")) | K19: 5. You can change the % of fasteners to order based on your deck selections by changing the value in cell M5.
F20: =IF(OR(B20="",C20="",D20=""),"",IFERROR(INDEX(Deck!$H$1:$H$346,MATCH(1,INDEX((TRIM(SUBSTITUTE(SUBSTITUTE(Deck!$D$1:$D$346,"™",""),"®",""))=B20)*(Deck!$C$1:$C$346=C20)*(Deck!$F$1:$F$346=D20),0),0))*E20,"Not found")) | G20: =IF(OR(B20="",C20="",D20=""),"",IFERROR(INDEX(Deck!$I$1:$I$346,MATCH(1,INDEX((TRIM(SUBSTITUTE(SUBSTITUTE(Deck!$D$1:$D$346,"™",""),"®",""))=B20)*(Deck!$C$1:$C$346=C20)*(Deck!$F$1:$F$346=D20),0),0))*E20,"Not found")) | H20: =IF(OR(B20="",C20="",D20=""),"",IFERROR(INDEX(Deck!$J$1:$J$346,MATCH(1,INDEX((TRIM(SUBSTITUTE(SUBSTITUTE(Deck!$D$1:$D$346,"™",""),"®",""))=B20)*(Deck!$C$1:$C$346=C20)*(Deck!$F$1:$F$346=D20),0),0))*E20,"Not found")) | K20: - Different fastener options are available for grooved & square edge boards. The suggested quanties represent either/or.
F21: =IF(OR(B21="",C21="",D21=""),"",IFERROR(INDEX(Deck!$H$1:$H$346,MATCH(1,INDEX((TRIM(SUBSTITUTE(SUBSTITUTE(Deck!$D$1:$D$346,"™",""),"®",""))=B21)*(Deck!$C$1:$C$346=C21)*(Deck!$F$1:$F$346=D21),0),0))*E21,"Not found")) | G21: =IF(OR(B21="",C21="",D21=""),"",IFERROR(INDEX(Deck!$I$1:$I$346,MATCH(1,INDEX((TRIM(SUBSTITUTE(SUBSTITUTE(Deck!$D$1:$D$346,"™",""),"®",""))=B21)*(Deck!$C$1:$C$346=C21)*(Deck!$F$1:$F$346=D21),0),0))*E21,"Not found")) | H21: =IF(OR(B21="",C21="",D21=""),"",IFERROR(INDEX(Deck!$J$1:$J$346,MATCH(1,INDEX((TRIM(SUBSTITUTE(SUBSTITUTE(Deck!$D$1:$D$346,"™",""),"®",""))=B21)*(Deck!$C$1:$C$346=C21)*(Deck!$F$1:$F$346=D21),0),0))*E21,"Not found"))
F22: =IF(OR(B22="",C22="",D22=""),"",IFERROR(INDEX(Deck!$H$1:$H$346,MATCH(1,INDEX((TRIM(SUBSTITUTE(SUBSTITUTE(Deck!$D$1:$D$346,"™",""),"®",""))=B22)*(Deck!$C$1:$C$346=C22)*(Deck!$F$1:$F$346=D22),0),0))*E22,"Not found")) | G22: =IF(OR(B22="",C22="",D22=""),"",IFERROR(INDEX(Deck!$I$1:$I$346,MATCH(1,INDEX((TRIM(SUBSTITUTE(SUBSTITUTE(Deck!$D$1:$D$346,"™",""),"®",""))=B22)*(Deck!$C$1:$C$346=C22)*(Deck!$F$1:$F$346=D22),0),0))*E22,"Not found")) | H22: =IF(OR(B22="",C22="",D22=""),"",IFERROR(INDEX(Deck!$J$1:$J$346,MATCH(1,INDEX((TRIM(SUBSTITUTE(SUBSTITUTE(Deck!$D$1:$D$346,"™",""),"®",""))=B22)*(Deck!$C$1:$C$346=C22)*(Deck!$F$1:$F$346=D22),0),0))*E22,"Not found")) | K22: NOTE : This tool is provided to help you build a PO. This form does not contain pricing information and does not substitute for a PO. Please contact your Gillfor Account Manager for pricing and additional information.
F23: =IF(OR(B23="",C23="",D23=""),"",IFERROR(INDEX(Deck!$H$1:$H$346,MATCH(1,INDEX((TRIM(SUBSTITUTE(SUBSTITUTE(Deck!$D$1:$D$346,"™",""),"®",""))=B23)*(Deck!$C$1:$C$346=C23)*(Deck!$F$1:$F$346=D23),0),0))*E23,"Not found")) | G23: =IF(OR(B23="",C23="",D23=""),"",IFERROR(INDEX(Deck!$I$1:$I$346,MATCH(1,INDEX((TRIM(SUBSTITUTE(SUBSTITUTE(Deck!$D$1:$D$346,"™",""),"®",""))=B23)*(Deck!$C$1:$C$346=C23)*(Deck!$F$1:$F$346=D23),0),0))*E23,"Not found")) | H23: =IF(OR(B23="",C23="",D23=""),"",IFERROR(INDEX(Deck!$J$1:$J$346,MATCH(1,INDEX((TRIM(SUBSTITUTE(SUBSTITUTE(Deck!$D$1:$D$346,"™",""),"®",""))=B23)*(Deck!$C$1:$C$346=C23)*(Deck!$F$1:$F$346=D23),0),0))*E23,"Not found"))
F24: =IF(OR(B24="",C24="",D24=""),"",IFERROR(INDEX(Deck!$H$1:$H$346,MATCH(1,INDEX((TRIM(SUBSTITUTE(SUBSTITUTE(Deck!$D$1:$D$346,"™",""),"®",""))=B24)*(Deck!$C$1:$C$346=C24)*(Deck!$F$1:$F$346=D24),0),0))*E24,"Not found")) | G24: =IF(OR(B24="",C24="",D24=""),"",IFERROR(INDEX(Deck!$I$1:$I$346,MATCH(1,INDEX((TRIM(SUBSTITUTE(SUBSTITUTE(Deck!$D$1:$D$346,"™",""),"®",""))=B24)*(Deck!$C$1:$C$346=C24)*(Deck!$F$1:$F$346=D24),0),0))*E24,"Not found")) | H24: =IF(OR(B24="",C24="",D24=""),"",IFERROR(INDEX(Deck!$J$1:$J$346,MATCH(1,INDEX((TRIM(SUBSTITUTE(SUBSTITUTE(Deck!$D$1:$D$346,"™",""),"®",""))=B24)*(Deck!$C$1:$C$346=C24)*(Deck!$F$1:$F$346=D24),0),0))*E24,"Not found"))
F25: =IF(OR(B25="",C25="",D25=""),"",IFERROR(INDEX(Deck!$H$1:$H$346,MATCH(1,INDEX((TRIM(SUBSTITUTE(SUBSTITUTE(Deck!$D$1:$D$346,"™",""),"®",""))=B25)*(Deck!$C$1:$C$346=C25)*(Deck!$F$1:$F$346=D25),0),0))*E25,"Not found")) | G25: =IF(OR(B25="",C25="",D25=""),"",IFERROR(INDEX(Deck!$I$1:$I$346,MATCH(1,INDEX((TRIM(SUBSTITUTE(SUBSTITUTE(Deck!$D$1:$D$346,"™",""),"®",""))=B25)*(Deck!$C$1:$C$346=C25)*(Deck!$F$1:$F$346=D25),0),0))*E25,"Not found")) | H25: =IF(OR(B25="",C25="",D25=""),"",IFERROR(INDEX(Deck!$J$1:$J$346,MATCH(1,INDEX((TRIM(SUBSTITUTE(SUBSTITUTE(Deck!$D$1:$D$346,"™",""),"®",""))=B25)*(Deck!$C$1:$C$346=C25)*(Deck!$F$1:$F$346=D25),0),0))*E25,"Not found"))
F26: =IF(OR(B26="",C26="",D26=""),"",IFERROR(INDEX(Deck!$H$1:$H$346,MATCH(1,INDEX((TRIM(SUBSTITUTE(SUBSTITUTE(Deck!$D$1:$D$346,"™",""),"®",""))=B26)*(Deck!$C$1:$C$346=C26)*(Deck!$F$1:$F$346=D26),0),0))*E26,"Not found")) | G26: =IF(OR(B26="",C26="",D26=""),"",IFERROR(INDEX(Deck!$I$1:$I$346,MATCH(1,INDEX((TRIM(SUBSTITUTE(SUBSTITUTE(Deck!$D$1:$D$346,"™",""),"®",""))=B26)*(Deck!$C$1:$C$346=C26)*(Deck!$F$1:$F$346=D26),0),0))*E26,"Not found")) | H26: =IF(OR(B26="",C26="",D26=""),"",IFERROR(INDEX(Deck!$J$1:$J$346,MATCH(1,INDEX((TRIM(SUBSTITUTE(SUBSTITUTE(Deck!$D$1:$D$346,"™",""),"®",""))=B26)*(Deck!$C$1:$C$346=C26)*(Deck!$F$1:$F$346=D26),0),0))*E26,"Not found"))
F27: =IF(OR(B27="",C27="",D27=""),"",IFERROR(INDEX(Deck!$H$1:$H$346,MATCH(1,INDEX((TRIM(SUBSTITUTE(SUBSTITUTE(Deck!$D$1:$D$346,"™",""),"®",""))=B27)*(Deck!$C$1:$C$346=C27)*(Deck!$F$1:$F$346=D27),0),0))*E27,"Not found")) | G27: =IF(OR(B27="",C27="",D27=""),"",IFERROR(INDEX(Deck!$I$1:$I$346,MATCH(1,INDEX((TRIM(SUBSTITUTE(SUBSTITUTE(Deck!$D$1:$D$346,"™",""),"®",""))=B27)*(Deck!$C$1:$C$346=C27)*(Deck!$F$1:$F$346=D27),0),0))*E27,"Not found")) | H27: =IF(OR(B27="",C27="",D27=""),"",IFERROR(INDEX(Deck!$J$1:$J$346,MATCH(1,INDEX((TRIM(SUBSTITUTE(SUBSTITUTE(Deck!$D$1:$D$346,"™",""),"®",""))=B27)*(Deck!$C$1:$C$346=C27)*(Deck!$F$1:$F$346=D27),0),0))*E27,"Not found"))
F28: =IF(OR(B28="",C28="",D28=""),"",IFERROR(INDEX(Deck!$H$1:$H$346,MATCH(1,INDEX((TRIM(SUBSTITUTE(SUBSTITUTE(Deck!$D$1:$D$346,"™",""),"®",""))=B28)*(Deck!$C$1:$C$346=C28)*(Deck!$F$1:$F$346=D28),0),0))*E28,"Not found")) | G28: =IF(OR(B28="",C28="",D28=""),"",IFERROR(INDEX(Deck!$I$1:$I$346,MATCH(1,INDEX((TRIM(SUBSTITUTE(SUBSTITUTE(Deck!$D$1:$D$346,"™",""),"®",""))=B28)*(Deck!$C$1:$C$346=C28)*(Deck!$F$1:$F$346=D28),0),0))*E28,"Not found")) | H28: =IF(OR(B28="",C28="",D28=""),"",IFERROR(INDEX(Deck!$J$1:$J$346,MATCH(1,INDEX((TRIM(SUBSTITUTE(SUBSTITUTE(Deck!$D$1:$D$346,"™",""),"®",""))=B28)*(Deck!$C$1:$C$346=C28)*(Deck!$F$1:$F$346=D28),0),0))*E28,"Not found"))

Sheet ALL COLLECTIONS
B2: ALL COLLECTIONS (Mixed) | M2: SUGGESTED FASTENER BOOKING | AF2: LENGTH
B3: * Mixed Truckloads can not include EDGE PRIME | N3: % OF DECKING FOOTAGE | O3: 1 | AD3: COLOUR | AE3: PROFILE | AF3: GROOVED EDGE | AG3: SQUARE EDGE | AH3: RISER | AI3: FASCIA
M4: ITEM | O4: QUANTITY (Boxes)
B5: TOTAL LIFTS (#) : | D5: =SUM(E16:E51) -> 0 | M5: EDGELOC 55 sq ft | N5: * composite only option | O5: =ROUND(SUMIFS($H$16:$H$51,$C$16:$C$51,"GROOVED EDGE",$I$16:$I$51,"COMPOSITE")/55*$O$3,0) -> 0 | AD5: COCONUT HUSK | AE5: GROOVED EDGE | AF5: 12 | AG5: 16 | AH5: 12 | AI5: 12
M6: COMPOSITE CORTEX 100 ln ft | O6: =ROUND((SUMIFS($H$16:$H$51,$C$16:$C$51,"SQUARE EDGE",$I$16:$I$51,"COMPOSITE"))/100*$O$3,0) -> 0 | AD6: SEA SALT GRAY | AE6: SQUARE EDGE | AF6: 16 | AG6: 20
B7: TOTAL WEIGHT (lbs) : | D7: =SUM(F16:F51) -> 0 | L7: OR | M7: COMPOSITE TOPLOC BOARD - 100 sq ft | O7: =ROUND((SUMIFS($G$16:$G$51,$C$16:$C$51,"SQUARE EDGE",$I$16:$I$51,"COMPOSITE"))/100*$O$3,0) -> 0 | AD7: DARK COCOA | AE7: RISER | AF7: 20
M8: COMPOSITE CORTEX FASCIA 50 ln ft | O8: =ROUND((SUMIFS($G$16:$G$51,$C$16:$C$51,"RISER",$I$16:$I$51,"COMPOSITE")+SUMIFS($G$16:$G$51,$C$16:$C$51,"FASCIA",$I$16:$I$51,"COMPOSITE"))/50*$O$3,0) -> 0 | AD8: DARK OAK | AE8: FASCIA
B9: TOTAL TRUCKS (#) : | D9: =D7/43500 -> 0 | L9: OR | M9: COMPOSITE TOPLOC FASCIA - 100 ln ft | O9: =ROUND((SUMIFS($G$16:$G$51,$C$16:$C$51,"RISER",$I$16:$I$51,"COMPOSITE")+SUMIFS($G$16:$G$51,$C$16:$C$51,"FASCIA",$I$16:$I$51,"COMPOSITE"))/100*$O$3,0) -> 0 | AD9: WEATHERED OAK
M10: CONCEALOC - 100 sq ft | N10: * required for PVC | O10: =ROUND(SUMIFS($H$16:$H$51,$C$16:$C$51,"GROOVED EDGE",$I$16:$I$51,"PVC")/100*$O$3,0) -> 0 | AD10: NATURAL WHITE OAK
B11: 1/2 Truckload = min. 22,500 lbs | C11: Full Truckload = max. 43,500 lbs | M11: PVC CORTEX 100 sq ft | N11: * recommended over Toploc | O11: =ROUND((SUMIFS($H$16:$H$51,$C$16:$C$51,"SQUARE EDGE",$I$16:$I$51,"PVC"))/100*$O$3,0) -> 0 | AD11: ANTIQUE LEATHER
B12: Multi-Lift = min. 4 lifts | L12: OR | M12: PVC TOPLOC BOARD - 100 sq ft | O12: =ROUND((SUMIFS($H$16:$H$51,$C$16:$C$51,"SQUARE EDGE",$I$16:$I$51,"PVC"))/100*$O$3,0) -> 0 | AD12: DARK ROAST
M13: PVC TOPLOC FASCIA - 30 ln ft | O13: =ROUND((SUMIFS($G$16:$G$51,$C$16:$C$51,"RISER",$I$16:$I$51,"PVC")+SUMIFS($G$16:$G$51,$C$16:$C$51,"FASCIA",$I$16:$I$51,"PVC"))/30*$O$3,0) -> 0 | AD13: DRIFTWOOD
AD14: RECLAIMED CHESTNUT
B15: COLOUR | C15: PROFILE | D15: LENGTH | E15: # LIFTS | F15: TOTAL ITEM WEIGHT | G15: TOTAL LN FT | H15: TOTAL SQ FT | I15: MATERIAL | AD15: MOCHA
F16: =IF(OR(B16="",C16="",D16=""),"",IFERROR(INDEX(Deck!$H$1:$H$346,MATCH(1,INDEX((TRIM(SUBSTITUTE(SUBSTITUTE(Deck!$D$1:$D$346,"™",""),"®",""))=B16)*(Deck!$C$1:$C$346=C16)*(Deck!$F$1:$F$346=D16),0),0))*E16,"Not found")) | G16: =IF(OR(B16="",C16="",D16=""),"",IFERROR(INDEX(Deck!$I$1:$I$346,MATCH(1,INDEX((TRIM(SUBSTITUTE(SUBSTITUTE(Deck!$D$1:$D$346,"™",""),"®",""))=B16)*(Deck!$C$1:$C$346=C16)*(Deck!$F$1:$F$346=D16),0),0))*E16,"Not found")) | H16: =IF(OR(B16="",C16="",D16=""),"",IFERROR(INDEX(Deck!$J$1:$J$346,MATCH(1,INDEX((TRIM(SUBSTITUTE(SUBSTITUTE(Deck!$D$1:$D$346,"™",""),"®",""))=B16)*(Deck!$C$1:$C$346=C16)*(Deck!$F$1:$F$346=D16),0),0))*E16,"Not found")) | I16: =VLOOKUP(B16,Deck!D:E,2,FALSE) -> #N/A | AD16: PECAN
F17: =IF(OR(B17="",C17="",D17=""),"",IFERROR(INDEX(Deck!$H$1:$H$346,MATCH(1,INDEX((TRIM(SUBSTITUTE(SUBSTITUTE(Deck!$D$1:$D$346,"™",""),"®",""))=B17)*(Deck!$C$1:$C$346=C17)*(Deck!$F$1:$F$346=D17),0),0))*E17,"Not found")) | G17: =IF(OR(B17="",C17="",D17=""),"",IFERROR(INDEX(Deck!$I$1:$I$346,MATCH(1,INDEX((TRIM(SUBSTITUTE(SUBSTITUTE(Deck!$D$1:$D$346,"™",""),"®",""))=B17)*(Deck!$C$1:$C$346=C17)*(Deck!$F$1:$F$346=D17),0),0))*E17,"Not found")) | H17: =IF(OR(B17="",C17="",D17=""),"",IFERROR(INDEX(Deck!$J$1:$J$346,MATCH(1,INDEX((TRIM(SUBSTITUTE(SUBSTITUTE(Deck!$D$1:$D$346,"™",""),"®",""))=B17)*(Deck!$C$1:$C$346=C17)*(Deck!$F$1:$F$346=D17),0),0))*E17,"Not found")) | I17: =VLOOKUP(B17,Deck!D:E,2,FALSE) -> #N/A | L17: INSTRUCTIONS : | AD17: TIGERWOOD
F18: =IF(OR(B18="",C18="",D18=""),"",IFERROR(INDEX(Deck!$H$1:$H$346,MATCH(1,INDEX((TRIM(SUBSTITUTE(SUBSTITUTE(Deck!$D$1:$D$346,"™",""),"®",""))=B18)*(Deck!$C$1:$C$346=C18)*(Deck!$F$1:$F$346=D18),0),0))*E18,"Not found")) | G18: =IF(OR(B18="",C18="",D18=""),"",IFERROR(INDEX(Deck!$I$1:$I$346,MATCH(1,INDEX((TRIM(SUBSTITUTE(SUBSTITUTE(Deck!$D$1:$D$346,"™",""),"®",""))=B18)*(Deck!$C$1:$C$346=C18)*(Deck!$F$1:$F$346=D18),0),0))*E18,"Not found")) | H18: =IF(OR(B18="",C18="",D18=""),"",IFERROR(INDEX(Deck!$J$1:$J$346,MATCH(1,INDEX((TRIM(SUBSTITUTE(SUBSTITUTE(Deck!$D$1:$D$346,"™",""),"®",""))=B18)*(Deck!$C$1:$C$346=C18)*(Deck!$F$1:$F$346=D18),0),0))*E18,"Not found")) | I18: =VLOOKUP(B18,Deck!D:E,2,FALSE) -> #N/A | L18: 1. Select your colour, profile, length options (dropdown menus) | AD18: ASHWOOD
F19: =IF(OR(B19="",C19="",D19=""),"",IFERROR(INDEX(Deck!$H$1:$H$346,MATCH(1,INDEX((TRIM(SUBSTITUTE(SUBSTITUTE(Deck!$D$1:$D$346,"™",""),"®",""))=B19)*(Deck!$C$1:$C$346=C19)*(Deck!$F$1:$F$346=D19),0),0))*E19,"Not found")) | G19: =IF(OR(B19="",C19="",D19=""),"",IFERROR(INDEX(Deck!$I$1:$I$346,MATCH(1,INDEX((TRIM(SUBSTITUTE(SUBSTITUTE(Deck!$D$1:$D$346,"™",""),"®",""))=B19)*(Deck!$C$1:$C$346=C19)*(Deck!$F$1:$F$346=D19),0),0))*E19,"Not found")) | H19: =IF(OR(B19="",C19="",D19=""),"",IFERROR(INDEX(Deck!$J$1:$J$346,MATCH(1,INDEX((TRIM(SUBSTITUTE(SUBSTITUTE(Deck!$D$1:$D$346,"™",""),"®",""))=B19)*(Deck!$C$1:$C$346=C19)*(Deck!$F$1:$F$346=D19),0),0))*E19,"Not found")) | I19: =VLOOKUP(B19,Deck!D:E,2,FALSE) -> #N/A | L19: 2. Enter the # of lifts per item | AD19: ESPRESSO
F20: =IF(OR(B20="",C20="",D20=""),"",IFERROR(INDEX(Deck!$H$1:$H$346,MATCH(1,INDEX((TRIM(SUBSTITUTE(SUBSTITUTE(Deck!$D$1:$D$346,"™",""),"®",""))=B20)*(Deck!$C$1:$C$346=C20)*(Deck!$F$1:$F$346=D20),0),0))*E20,"Not found")) | G20: =IF(OR(B20="",C20="",D20=""),"",IFERROR(INDEX(Deck!$I$1:$I$346,MATCH(1,INDEX((TRIM(SUBSTITUTE(SUBSTITUTE(Deck!$D$1:$D$346,"™",""),"®",""))=B20)*(Deck!$C$1:$C$346=C20)*(Deck!$F$1:$F$346=D20),0),0))*E20,"Not found")) | H20: =IF(OR(B20="",C20="",D20=""),"",IFERROR(INDEX(Deck!$J$1:$J$346,MATCH(1,INDEX((TRIM(SUBSTITUTE(SUBSTITUTE(Deck!$D$1:$D$346,"™",""),"®",""))=B20)*(Deck!$C$1:$C$346=C20)*(Deck!$F$1:$F$346=D20),0),0))*E20,"Not found")) | I20: =VLOOKUP(B20,Deck!D:E,2,FALSE) -> #N/A | L20: 3. Reference the total calculations in the upper left box to build your order | AD20: WHITEWASH CEDAR
F21: =IF(OR(B21="",C21="",D21=""),"",IFERROR(INDEX(Deck!$H$1:$H$346,MATCH(1,INDEX((TRIM(SUBSTITUTE(SUBSTITUTE(Deck!$D$1:$D$346,"™",""),"®",""))=B21)*(Deck!$C$1:$C$346=C21)*(Deck!$F$1:$F$346=D21),0),0))*E21,"Not found")) | G21: =IF(OR(B21="",C21="",D21=""),"",IFERROR(INDEX(Deck!$I$1:$I$346,MATCH(1,INDEX((TRIM(SUBSTITUTE(SUBSTITUTE(Deck!$D$1:$D$346,"™",""),"®",""))=B21)*(Deck!$C$1:$C$346=C21)*(Deck!$F$1:$F$346=D21),0),0))*E21,"Not found")) | H21: =IF(OR(B21="",C21="",D21=""),"",IFERROR(INDEX(Deck!$J$1:$J$346,MATCH(1,INDEX((TRIM(SUBSTITUTE(SUBSTITUTE(Deck!$D$1:$D$346,"™",""),"®",""))=B21)*(Deck!$C$1:$C$346=C21)*(Deck!$F$1:$F$346=D21),0),0))*E21,"Not found")) | I21: =VLOOKUP(B21,Deck!D:E,2,FALSE) -> #N/A | L21: 4. Review the suggested fastener order (above) to support your decking purchase | AD21: BROWNSTONE
F22: =IF(OR(B22="",C22="",D22=""),"",IFERROR(INDEX(Deck!$H$1:$H$346,MATCH(1,INDEX((TRIM(SUBSTITUTE(SUBSTITUTE(Deck!$D$1:$D$346,"™",""),"®",""))=B22)*(Deck!$C$1:$C$346=C22)*(Deck!$F$1:$F$346=D22),0),0))*E22,"Not found")) | G22: =IF(OR(B22="",C22="",D22=""),"",IFERROR(INDEX(Deck!$I$1:$I$346,MATCH(1,INDEX((TRIM(SUBSTITUTE(SUBSTITUTE(Deck!$D$1:$D$346,"™",""),"®",""))=B22)*(Deck!$C$1:$C$346=C22)*(Deck!$F$1:$F$346=D22),0),0))*E22,"Not found")) | H22: =IF(OR(B22="",C22="",D22=""),"",IFERROR(INDEX(Deck!$J$1:$J$346,MATCH(1,INDEX((TRIM(SUBSTITUTE(SUBSTITUTE(Deck!$D$1:$D$346,"™",""),"®",""))=B22)*(Deck!$C$1:$C$346=C22)*(Deck!$F$1:$F$346=D22),0),0))*E22,"Not found")) | I22: =VLOOKUP(B22,Deck!D:E,2,FALSE) -> #N/A | L22: 5. You can change the % of fasteners to order based on your deck selections by changing the value in cell M5. | AD22: SLATE GRAY
F23: =IF(OR(B23="",C23="",D23=""),"",IFERROR(INDEX(Deck!$H$1:$H$346,MATCH(1,INDEX((TRIM(SUBSTITUTE(SUBSTITUTE(Deck!$D$1:$D$346,"™",""),"®",""))=B23)*(Deck!$C$1:$C$346=C23)*(Deck!$F$1:$F$346=D23),0),0))*E23,"Not found")) | G23: =IF(OR(B23="",C23="",D23=""),"",IFERROR(INDEX(Deck!$I$1:$I$346,MATCH(1,INDEX((TRIM(SUBSTITUTE(SUBSTITUTE(Deck!$D$1:$D$346,"™",""),"®",""))=B23)*(Deck!$C$1:$C$346=C23)*(Deck!$F$1:$F$346=D23),0),0))*E23,"Not found")) | H23: =IF(OR(B23="",C23="",D23=""),"",IFERROR(INDEX(Deck!$J$1:$J$346,MATCH(1,INDEX((TRIM(SUBSTITUTE(SUBSTITUTE(Deck!$D$1:$D$346,"™",""),"®",""))=B23)*(Deck!$C$1:$C$346=C23)*(Deck!$F$1:$F$346=D23),0),0))*E23,"Not found")) | I23: =VLOOKUP(B23,Deck!D:E,2,FALSE) -> #N/A | L23: - Different fastener options are available for grooved & square edge boards. The suggested quanties represent either/or. | AD23: TIMBER GRAY
F24: =IF(OR(B24="",C24="",D24=""),"",IFERROR(INDEX(Deck!$H$1:$H$346,MATCH(1,INDEX((TRIM(SUBSTITUTE(SUBSTITUTE(Deck!$D$1:$D$346,"™",""),"®",""))=B24)*(Deck!$C$1:$C$346=C24)*(Deck!$F$1:$F$346=D24),0),0))*E24,"Not found")) | G24: =IF(OR(B24="",C24="",D24=""),"",IFERROR(INDEX(Deck!$I$1:$I$346,MATCH(1,INDEX((TRIM(SUBSTITUTE(SUBSTITUTE(Deck!$D$1:$D$346,"™",""),"®",""))=B24)*(Deck!$C$1:$C$346=C24)*(Deck!$F$1:$F$346=D24),0),0))*E24,"Not found")) | H24: =IF(OR(B24="",C24="",D24=""),"",IFERROR(INDEX(Deck!$J$1:$J$346,MATCH(1,INDEX((TRIM(SUBSTITUTE(SUBSTITUTE(Deck!$D$1:$D$346,"™",""),"®",""))=B24)*(Deck!$C$1:$C$346=C24)*(Deck!$F$1:$F$346=D24),0),0))*E24,"Not found")) | I24: =VLOOKUP(B24,Deck!D:E,2,FALSE) -> #N/A | AD24: TOASTED WHEAT
F25: =IF(OR(B25="",C25="",D25=""),"",IFERROR(INDEX(Deck!$H$1:$H$346,MATCH(1,INDEX((TRIM(SUBSTITUTE(SUBSTITUTE(Deck!$D$1:$D$346,"™",""),"®",""))=B25)*(Deck!$C$1:$C$346=C25)*(Deck!$F$1:$F$346=D25),0),0))*E25,"Not found")) | G25: =IF(OR(B25="",C25="",D25=""),"",IFERROR(INDEX(Deck!$I$1:$I$346,MATCH(1,INDEX((TRIM(SUBSTITUTE(SUBSTITUTE(Deck!$D$1:$D$346,"™",""),"®",""))=B25)*(Deck!$C$1:$C$346=C25)*(Deck!$F$1:$F$346=D25),0),0))*E25,"Not found")) | H25: =IF(OR(B25="",C25="",D25=""),"",IFERROR(INDEX(Deck!$J$1:$J$346,MATCH(1,INDEX((TRIM(SUBSTITUTE(SUBSTITUTE(Deck!$D$1:$D$346,"™",""),"®",""))=B25)*(Deck!$C$1:$C$346=C25)*(Deck!$F$1:$F$346=D25),0),0))*E25,"Not found")) | I25: =VLOOKUP(B25,Deck!D:E,2,FALSE) -> #N/A | L25: NOTE : This tool is provided to help you build a PO. This form does not contain pricing information and does not substitute for a PO. Please contact your Gillfor Account Manager for pricing and additional information. | AD25: CASTLEGATE
F26: =IF(OR(B26="",C26="",D26=""),"",IFERROR(INDEX(Deck!$H$1:$H$346,MATCH(1,INDEX((TRIM(SUBSTITUTE(SUBSTITUTE(Deck!$D$1:$D$346,"™",""),"®",""))=B26)*(Deck!$C$1:$C$346=C26)*(Deck!$F$1:$F$346=D26),0),0))*E26,"Not found")) | G26: =IF(OR(B26="",C26="",D26=""),"",IFERROR(INDEX(Deck!$I$1:$I$346,MATCH(1,INDEX((TRIM(SUBSTITUTE(SUBSTITUTE(Deck!$D$1:$D$346,"™",""),"®",""))=B26)*(Deck!$C$1:$C$346=C26)*(Deck!$F$1:$F$346=D26),0),0))*E26,"Not found")) | H26: =IF(OR(B26="",C26="",D26=""),"",IFERROR(INDEX(Deck!$J$1:$J$346,MATCH(1,INDEX((TRIM(SUBSTITUTE(SUBSTITUTE(Deck!$D$1:$D$346,"™",""),"®",""))=B26)*(Deck!$C$1:$C$346=C26)*(Deck!$F$1:$F$346=D26),0),0))*E26,"Not found")) | I26: =VLOOKUP(B26,Deck!D:E,2,FALSE) -> #N/A | AD26: AMERICAN WALNUT
F27: =IF(OR(B27="",C27="",D27=""),"",IFERROR(INDEX(Deck!$H$1:$H$346,MATCH(1,INDEX((TRIM(SUBSTITUTE(SUBSTITUTE(Deck!$D$1:$D$346,"™",""),"®",""))=B27)*(Deck!$C$1:$C$346=C27)*(Deck!$F$1:$F$346=D27),0),0))*E27,"Not found")) | G27: =IF(OR(B27="",C27="",D27=""),"",IFERROR(INDEX(Deck!$I$1:$I$346,MATCH(1,INDEX((TRIM(SUBSTITUTE(SUBSTITUTE(Deck!$D$1:$D$346,"™",""),"®",""))=B27)*(Deck!$C$1:$C$346=C27)*(Deck!$F$1:$F$346=D27),0),0))*E27,"Not found")) | H27: =IF(OR(B27="",C27="",D27=""),"",IFERROR(INDEX(Deck!$J$1:$J$346,MATCH(1,INDEX((TRIM(SUBSTITUTE(SUBSTITUTE(Deck!$D$1:$D$346,"™",""),"®",""))=B27)*(Deck!$C$1:$C$346=C27)*(Deck!$F$1:$F$346=D27),0),0))*E27,"Not found")) | I27: =VLOOKUP(B27,Deck!D:E,2,FALSE) -> #N/A | AD27: FRENCH WHITE OAK
F28: =IF(OR(B28="",C28="",D28=""),"",IFERROR(INDEX(Deck!$H$1:$H$346,MATCH(1,INDEX((TRIM(SUBSTITUTE(SUBSTITUTE(Deck!$D$1:$D$346,"™",""),"®",""))=B28)*(Deck!$C$1:$C$346=C28)*(Deck!$F$1:$F$346=D28),0),0))*E28,"Not found")) | G28: =IF(OR(B28="",C28="",D28=""),"",IFERROR(INDEX(Deck!$I$1:$I$346,MATCH(1,INDEX((TRIM(SUBSTITUTE(SUBSTITUTE(Deck!$D$1:$D$346,"™",""),"®",""))=B28)*(Deck!$C$1:$C$346=C28)*(Deck!$F$1:$F$346=D28),0),0))*E28,"Not found")) | H28: =IF(OR(B28="",C28="",D28=""),"",IFERROR(INDEX(Deck!$J$1:$J$346,MATCH(1,INDEX((TRIM(SUBSTITUTE(SUBSTITUTE(Deck!$D$1:$D$346,"™",""),"®",""))=B28)*(Deck!$C$1:$C$346=C28)*(Deck!$F$1:$F$346=D28),0),0))*E28,"Not found")) | I28: =VLOOKUP(B28,Deck!D:E,2,FALSE) -> #N/A | AD28: BOARDWALK
F29: =IF(OR(B29="",C29="",D29=""),"",IFERROR(INDEX(Deck!$H$1:$H$346,MATCH(1,INDEX((TRIM(SUBSTITUTE(SUBSTITUTE(Deck!$D$1:$D$346,"™",""),"®",""))=B29)*(Deck!$C$1:$C$346=C29)*(Deck!$F$1:$F$346=D29),0),0))*E29,"Not found")) | G29: =IF(OR(B29="",C29="",D29=""),"",IFERROR(INDEX(Deck!$I$1:$I$346,MATCH(1,INDEX((TRIM(SUBSTITUTE(SUBSTITUTE(Deck!$D$1:$D$346,"™",""),"®",""))=B29)*(Deck!$C$1:$C$346=C29)*(Deck!$F$1:$F$346=D29),0),0))*E29,"Not found")) | H29: =IF(OR(B29="",C29="",D29=""),"",IFERROR(INDEX(Deck!$J$1:$J$346,MATCH(1,INDEX((TRIM(SUBSTITUTE(SUBSTITUTE(Deck!$D$1:$D$346,"™",""),"®",""))=B29)*(Deck!$C$1:$C$346=C29)*(Deck!$F$1:$F$346=D29),0),0))*E29,"Not found")) | I29: =VLOOKUP(B29,Deck!D:E,2,FALSE) -> #N/A | AD29: COASTLINE
F30: =IF(OR(B30="",C30="",D30=""),"",IFERROR(INDEX(Deck!$H$1:$H$346,MATCH(1,INDEX((TRIM(SUBSTITUTE(SUBSTITUTE(Deck!$D$1:$D$346,"™",""),"®",""))=B30)*(Deck!$C$1:$C$346=C30)*(Deck!$F$1:$F$346=D30),0),0))*E30,"Not found")) | G30: =IF(OR(B30="",C30="",D30=""),"",IFERROR(INDEX(Deck!$I$1:$I$346,MATCH(1,INDEX((TRIM(SUBSTITUTE(SUBSTITUTE(Deck!$D$1:$D$346,"™",""),"®",""))=B30)*(Deck!$C$1:$C$346=C30)*(Deck!$F$1:$F$346=D30),0),0))*E30,"Not found")) | H30: =IF(OR(B30="",C30="",D30=""),"",IFERROR(INDEX(Deck!$J$1:$J$346,MATCH(1,INDEX((TRIM(SUBSTITUTE(SUBSTITUTE(Deck!$D$1:$D$346,"™",""),"®",""))=B30)*(Deck!$C$1:$C$346=C30)*(Deck!$F$1:$F$346=D30),0),0))*E30,"Not found")) | I30: =VLOOKUP(B30,Deck!D:E,2,FALSE) -> #N/A | AD30: DARK HICKORY
F31: =IF(OR(B31="",C31="",D31=""),"",IFERROR(INDEX(Deck!$H$1:$H$346,MATCH(1,INDEX((TRIM(SUBSTITUTE(SUBSTITUTE(Deck!$D$1:$D$346,"™",""),"®",""))=B31)*(Deck!$C$1:$C$346=C31)*(Deck!$F$1:$F$346=D31),0),0))*E31,"Not found")) | G31: =IF(OR(B31="",C31="",D31=""),"",IFERROR(INDEX(Deck!$I$1:$I$346,MATCH(1,INDEX((TRIM(SUBSTITUTE(SUBSTITUTE(Deck!$D$1:$D$346,"™",""),"®",""))=B31)*(Deck!$C$1:$C$346=C31)*(Deck!$F$1:$F$346=D31),0),0))*E31,"Not found")) | H31: =IF(OR(B31="",C31="",D31=""),"",IFERROR(INDEX(Deck!$J$1:$J$346,MATCH(1,INDEX((TRIM(SUBSTITUTE(SUBSTITUTE(Deck!$D$1:$D$346,"™",""),"®",""))=B31)*(Deck!$C$1:$C$346=C31)*(Deck!$F$1:$F$346=D31),0),0))*E31,"Not found")) | I31: =VLOOKUP(B31,Deck!D:E,2,FALSE) -> #N/A | AD31: ENGLISH WALNUT
F32: =IF(OR(B32="",C32="",D32=""),"",IFERROR(INDEX(Deck!$H$1:$H$346,MATCH(1,INDEX((TRIM(SUBSTITUTE(SUBSTITUTE(Deck!$D$1:$D$346,"™",""),"®",""))=B32)*(Deck!$C$1:$C$346=C32)*(Deck!$F$1:$F$346=D32),0),0))*E32,"Not found")) | G32: =IF(OR(B32="",C32="",D32=""),"",IFERROR(INDEX(Deck!$I$1:$I$346,MATCH(1,INDEX((TRIM(SUBSTITUTE(SUBSTITUTE(Deck!$D$1:$D$346,"™",""),"®",""))=B32)*(Deck!$C$1:$C$346=C32)*(Deck!$F$1:$F$346=D32),0),0))*E32,"Not found")) | H32: =IF(OR(B32="",C32="",D32=""),"",IFERROR(INDEX(Deck!$J$1:$J$346,MATCH(1,INDEX((TRIM(SUBSTITUTE(SUBSTITUTE(Deck!$D$1:$D$346,"™",""),"®",""))=B32)*(Deck!$C$1:$C$346=C32)*(Deck!$F$1:$F$346=D32),0),0))*E32,"Not found")) | I32: =VLOOKUP(B32,Deck!D:E,2,FALSE) -> #N/A | AD32: WEATHERED TEAK
F33: =IF(OR(B33="",C33="",D33=""),"",IFERROR(INDEX(Deck!$H$1:$H$346,MATCH(1,INDEX((TRIM(SUBSTITUTE(SUBSTITUTE(Deck!$D$1:$D$346,"™",""),"®",""))=B33)*(Deck!$C$1:$C$346=C33)*(Deck!$F$1:$F$346=D33),0),0))*E33,"Not found")) | G33: =IF(OR(B33="",C33="",D33=""),"",IFERROR(INDEX(Deck!$I$1:$I$346,MATCH(1,INDEX((TRIM(SUBSTITUTE(SUBSTITUTE(Deck!$D$1:$D$346,"™",""),"®",""))=B33)*(Deck!$C$1:$C$346=C33)*(Deck!$F$1:$F$346=D33),0),0))*E33,"Not found")) | H33: =IF(OR(B33="",C33="",D33=""),"",IFERROR(INDEX(Deck!$J$1:$J$346,MATCH(1,INDEX((TRIM(SUBSTITUTE(SUBSTITUTE(Deck!$D$1:$D$346,"™",""),"®",""))=B33)*(Deck!$C$1:$C$346=C33)*(Deck!$F$1:$F$346=D33),0),0))*E33,"Not found")) | I33: =VLOOKUP(B33,Deck!D:E,2,FALSE) -> #N/A | AD33: MAHOGANY
F34: =IF(OR(B34="",C34="",D34=""),"",IFERROR(INDEX(Deck!$H$1:$H$346,MATCH(1,INDEX((TRIM(SUBSTITUTE(SUBSTITUTE(Deck!$D$1:$D$346,"™",""),"®",""))=B34)*(Deck!$C$1:$C$346=C34)*(Deck!$F$1:$F$346=D34),0),0))*E34,"Not found")) | G34: =IF(OR(B34="",C34="",D34=""),"",IFERROR(INDEX(Deck!$I$1:$I$346,MATCH(1,INDEX((TRIM(SUBSTITUTE(SUBSTITUTE(Deck!$D$1:$D$346,"™",""),"®",""))=B34)*(Deck!$C$1:$C$346=C34)*(Deck!$F$1:$F$346=D34),0),0))*E34,"Not found")) | H34: =IF(OR(B34="",C34="",D34=""),"",IFERROR(INDEX(Deck!$J$1:$J$346,MATCH(1,INDEX((TRIM(SUBSTITUTE(SUBSTITUTE(Deck!$D$1:$D$346,"™",""),"®",""))=B34)*(Deck!$C$1:$C$346=C34)*(Deck!$F$1:$F$346=D34),0),0))*E34,"Not found")) | I34: =VLOOKUP(B34,Deck!D:E,2,FALSE) -> #N/A
F35: =IF(OR(B35="",C35="",D35=""),"",IFERROR(INDEX(Deck!$H$1:$H$346,MATCH(1,INDEX((TRIM(SUBSTITUTE(SUBSTITUTE(Deck!$D$1:$D$346,"™",""),"®",""))=B35)*(Deck!$C$1:$C$346=C35)*(Deck!$F$1:$F$346=D35),0),0))*E35,"Not found")) | G35: =IF(OR(B35="",C35="",D35=""),"",IFERROR(INDEX(Deck!$I$1:$I$346,MATCH(1,INDEX((TRIM(SUBSTITUTE(SUBSTITUTE(Deck!$D$1:$D$346,"™",""),"®",""))=B35)*(Deck!$C$1:$C$346=C35)*(Deck!$F$1:$F$346=D35),0),0))*E35,"Not found")) | H35: =IF(OR(B35="",C35="",D35=""),"",IFERROR(INDEX(Deck!$J$1:$J$346,MATCH(1,INDEX((TRIM(SUBSTITUTE(SUBSTITUTE(Deck!$D$1:$D$346,"™",""),"®",""))=B35)*(Deck!$C$1:$C$346=C35)*(Deck!$F$1:$F$346=D35),0),0))*E35,"Not found")) | I35: =VLOOKUP(B35,Deck!D:E,2,FALSE) -> #N/A
F36: =IF(OR(B36="",C36="",D36=""),"",IFERROR(INDEX(Deck!$H$1:$H$346,MATCH(1,INDEX((TRIM(SUBSTITUTE(SUBSTITUTE(Deck!$D$1:$D$346,"™",""),"®",""))=B36)*(Deck!$C$1:$C$346=C36)*(Deck!$F$1:$F$346=D36),0),0))*E36,"Not found")) | G36: =IF(OR(B36="",C36="",D36=""),"",IFERROR(INDEX(Deck!$I$1:$I$346,MATCH(1,INDEX((TRIM(SUBSTITUTE(SUBSTITUTE(Deck!$D$1:$D$346,"™",""),"®",""))=B36)*(Deck!$C$1:$C$346=C36)*(Deck!$F$1:$F$346=D36),0),0))*E36,"Not found")) | H36: =IF(OR(B36="",C36="",D36=""),"",IFERROR(INDEX(Deck!$J$1:$J$346,MATCH(1,INDEX((TRIM(SUBSTITUTE(SUBSTITUTE(Deck!$D$1:$D$346,"™",""),"®",""))=B36)*(Deck!$C$1:$C$346=C36)*(Deck!$F$1:$F$346=D36),0),0))*E36,"Not found")) | I36: =VLOOKUP(B36,Deck!D:E,2,FALSE) -> #N/A
F37: =IF(OR(B37="",C37="",D37=""),"",IFERROR(INDEX(Deck!$H$1:$H$346,MATCH(1,INDEX((TRIM(SUBSTITUTE(SUBSTITUTE(Deck!$D$1:$D$346,"™",""),"®",""))=B37)*(Deck!$C$1:$C$346=C37)*(Deck!$F$1:$F$346=D37),0),0))*E37,"Not found")) | G37: =IF(OR(B37="",C37="",D37=""),"",IFERROR(INDEX(Deck!$I$1:$I$346,MATCH(1,INDEX((TRIM(SUBSTITUTE(SUBSTITUTE(Deck!$D$1:$D$346,"™",""),"®",""))=B37)*(Deck!$C$1:$C$346=C37)*(Deck!$F$1:$F$346=D37),0),0))*E37,"Not found")) | H37: =IF(OR(B37="",C37="",D37=""),"",IFERROR(INDEX(Deck!$J$1:$J$346,MATCH(1,INDEX((TRIM(SUBSTITUTE(SUBSTITUTE(Deck!$D$1:$D$346,"™",""),"®",""))=B37)*(Deck!$C$1:$C$346=C37)*(Deck!$F$1:$F$346=D37),0),0))*E37,"Not found")) | I37: =VLOOKUP(B37,Deck!D:E,2,FALSE) -> #N/A
F38: =IF(OR(B38="",C38="",D38=""),"",IFERROR(INDEX(Deck!$H$1:$H$346,MATCH(1,INDEX((TRIM(SUBSTITUTE(SUBSTITUTE(Deck!$D$1:$D$346,"™",""),"®",""))=B38)*(Deck!$C$1:$C$346=C38)*(Deck!$F$1:$F$346=D38),0),0))*E38,"Not found")) | G38: =IF(OR(B38="",C38="",D38=""),"",IFERROR(INDEX(Deck!$I$1:$I$346,MATCH(1,INDEX((TRIM(SUBSTITUTE(SUBSTITUTE(Deck!$D$1:$D$346,"™",""),"®",""))=B38)*(Deck!$C$1:$C$346=C38)*(Deck!$F$1:$F$346=D38),0),0))*E38,"Not found")) | H38: =IF(OR(B38="",C38="",D38=""),"",IFERROR(INDEX(Deck!$J$1:$J$346,MATCH(1,INDEX((TRIM(SUBSTITUTE(SUBSTITUTE(Deck!$D$1:$D$346,"™",""),"®",""))=B38)*(Deck!$C$1:$C$346=C38)*(Deck!$F$1:$F$346=D38),0),0))*E38,"Not found")) | I38: =VLOOKUP(B38,Deck!D:E,2,FALSE) -> #N/A
F39: =IF(OR(B39="",C39="",D39=""),"",IFERROR(INDEX(Deck!$H$1:$H$346,MATCH(1,INDEX((TRIM(SUBSTITUTE(SUBSTITUTE(Deck!$D$1:$D$346,"™",""),"®",""))=B39)*(Deck!$C$1:$C$346=C39)*(Deck!$F$1:$F$346=D39),0),0))*E39,"Not found")) | G39: =IF(OR(B39="",C39="",D39=""),"",IFERROR(INDEX(Deck!$I$1:$I$346,MATCH(1,INDEX((TRIM(SUBSTITUTE(SUBSTITUTE(Deck!$D$1:$D$346,"™",""),"®",""))=B39)*(Deck!$C$1:$C$346=C39)*(Deck!$F$1:$F$346=D39),0),0))*E39,"Not found")) | H39: =IF(OR(B39="",C39="",D39=""),"",IFERROR(INDEX(Deck!$J$1:$J$346,MATCH(1,INDEX((TRIM(SUBSTITUTE(SUBSTITUTE(Deck!$D$1:$D$346,"™",""),"®",""))=B39)*(Deck!$C$1:$C$346=C39)*(Deck!$F$1:$F$346=D39),0),0))*E39,"Not found")) | I39: =VLOOKUP(B39,Deck!D:E,2,FALSE) -> #N/A
F40: =IF(OR(B40="",C40="",D40=""),"",IFERROR(INDEX(Deck!$H$1:$H$346,MATCH(1,INDEX((TRIM(SUBSTITUTE(SUBSTITUTE(Deck!$D$1:$D$346,"™",""),"®",""))=B40)*(Deck!$C$1:$C$346=C40)*(Deck!$F$1:$F$346=D40),0),0))*E40,"Not found")) | G40: =IF(OR(B40="",C40="",D40=""),"",IFERROR(INDEX(Deck!$I$1:$I$346,MATCH(1,INDEX((TRIM(SUBSTITUTE(SUBSTITUTE(Deck!$D$1:$D$346,"™",""),"®",""))=B40)*(Deck!$C$1:$C$346=C40)*(Deck!$F$1:$F$346=D40),0),0))*E40,"Not found")) | H40: =IF(OR(B40="",C40="",D40=""),"",IFERROR(INDEX(Deck!$J$1:$J$346,MATCH(1,INDEX((TRIM(SUBSTITUTE(SUBSTITUTE(Deck!$D$1:$D$346,"™",""),"®",""))=B40)*(Deck!$C$1:$C$346=C40)*(Deck!$F$1:$F$346=D40),0),0))*E40,"Not found")) | I40: =VLOOKUP(B40,Deck!D:E,2,FALSE) -> #N/A
F41: =IF(OR(B41="",C41="",D41=""),"",IFERROR(INDEX(Deck!$H$1:$H$346,MATCH(1,INDEX((TRIM(SUBSTITUTE(SUBSTITUTE(Deck!$D$1:$D$346,"™",""),"®",""))=B41)*(Deck!$C$1:$C$346=C41)*(Deck!$F$1:$F$346=D41),0),0))*E41,"Not found")) | G41: =IF(OR(B41="",C41="",D41=""),"",IFERROR(INDEX(Deck!$I$1:$I$346,MATCH(1,INDEX((TRIM(SUBSTITUTE(SUBSTITUTE(Deck!$D$1:$D$346,"™",""),"®",""))=B41)*(Deck!$C$1:$C$346=C41)*(Deck!$F$1:$F$346=D41),0),0))*E41,"Not found")) | H41: =IF(OR(B41="",C41="",D41=""),"",IFERROR(INDEX(Deck!$J$1:$J$346,MATCH(1,INDEX((TRIM(SUBSTITUTE(SUBSTITUTE(Deck!$D$1:$D$346,"™",""),"®",""))=B41)*(Deck!$C$1:$C$346=C41)*(Deck!$F$1:$F$346=D41),0),0))*E41,"Not found")) | I41: =VLOOKUP(B41,Deck!D:E,2,FALSE) -> #N/A
F42: =IF(OR(B42="",C42="",D42=""),"",IFERROR(INDEX(Deck!$H$1:$H$346,MATCH(1,INDEX((TRIM(SUBSTITUTE(SUBSTITUTE(Deck!$D$1:$D$346,"™",""),"®",""))=B42)*(Deck!$C$1:$C$346=C42)*(Deck!$F$1:$F$346=D42),0),0))*E42,"Not found")) | G42: =IF(OR(B42="",C42="",D42=""),"",IFERROR(INDEX(Deck!$I$1:$I$346,MATCH(1,INDEX((TRIM(SUBSTITUTE(SUBSTITUTE(Deck!$D$1:$D$346,"™",""),"®",""))=B42)*(Deck!$C$1:$C$346=C42)*(Deck!$F$1:$F$346=D42),0),0))*E42,"Not found")) | H42: =IF(OR(B42="",C42="",D42=""),"",IFERROR(INDEX(Deck!$J$1:$J$346,MATCH(1,INDEX((TRIM(SUBSTITUTE(SUBSTITUTE(Deck!$D$1:$D$346,"™",""),"®",""))=B42)*(Deck!$C$1:$C$346=C42)*(Deck!$F$1:$F$346=D42),0),0))*E42,"Not found")) | I42: =VLOOKUP(B42,Deck!D:E,2,FALSE) -> #N/A
F43: =IF(OR(B43="",C43="",D43=""),"",IFERROR(INDEX(Deck!$H$1:$H$346,MATCH(1,INDEX((TRIM(SUBSTITUTE(SUBSTITUTE(Deck!$D$1:$D$346,"™",""),"®",""))=B43)*(Deck!$C$1:$C$346=C43)*(Deck!$F$1:$F$346=D43),0),0))*E43,"Not found")) | G43: =IF(OR(B43="",C43="",D43=""),"",IFERROR(INDEX(Deck!$I$1:$I$346,MATCH(1,INDEX((TRIM(SUBSTITUTE(SUBSTITUTE(Deck!$D$1:$D$346,"™",""),"®",""))=B43)*(Deck!$C$1:$C$346=C43)*(Deck!$F$1:$F$346=D43),0),0))*E43,"Not found")) | H43: =IF(OR(B43="",C43="",D43=""),"",IFERROR(INDEX(Deck!$J$1:$J$346,MATCH(1,INDEX((TRIM(SUBSTITUTE(SUBSTITUTE(Deck!$D$1:$D$346,"™",""),"®",""))=B43)*(Deck!$C$1:$C$346=C43)*(Deck!$F$1:$F$346=D43),0),0))*E43,"Not found")) | I43: =VLOOKUP(B43,Deck!D:E,2,FALSE) -> #N/A
F44: =IF(OR(B44="",C44="",D44=""),"",IFERROR(INDEX(Deck!$H$1:$H$346,MATCH(1,INDEX((TRIM(SUBSTITUTE(SUBSTITUTE(Deck!$D$1:$D$346,"™",""),"®",""))=B44)*(Deck!$C$1:$C$346=C44)*(Deck!$F$1:$F$346=D44),0),0))*E44,"Not found")) | G44: =IF(OR(B44="",C44="",D44=""),"",IFERROR(INDEX(Deck!$I$1:$I$346,MATCH(1,INDEX((TRIM(SUBSTITUTE(SUBSTITUTE(Deck!$D$1:$D$346,"™",""),"®",""))=B44)*(Deck!$C$1:$C$346=C44)*(Deck!$F$1:$F$346=D44),0),0))*E44,"Not found")) | H44: =IF(OR(B44="",C44="",D44=""),"",IFERROR(INDEX(Deck!$J$1:$J$346,MATCH(1,INDEX((TRIM(SUBSTITUTE(SUBSTITUTE(Deck!$D$1:$D$346,"™",""),"®",""))=B44)*(Deck!$C$1:$C$346=C44)*(Deck!$F$1:$F$346=D44),0),0))*E44,"Not found")) | I44: =VLOOKUP(B44,Deck!D:E,2,FALSE) -> #N/A
F45: =IF(OR(B45="",C45="",D45=""),"",IFERROR(INDEX(Deck!$H$1:$H$346,MATCH(1,INDEX((TRIM(SUBSTITUTE(SUBSTITUTE(Deck!$D$1:$D$346,"™",""),"®",""))=B45)*(Deck!$C$1:$C$346=C45)*(Deck!$F$1:$F$346=D45),0),0))*E45,"Not found")) | G45: =IF(OR(B45="",C45="",D45=""),"",IFERROR(INDEX(Deck!$I$1:$I$346,MATCH(1,INDEX((TRIM(SUBSTITUTE(SUBSTITUTE(Deck!$D$1:$D$346,"™",""),"®",""))=B45)*(Deck!$C$1:$C$346=C45)*(Deck!$F$1:$F$346=D45),0),0))*E45,"Not found")) | H45: =IF(OR(B45="",C45="",D45=""),"",IFERROR(INDEX(Deck!$J$1:$J$346,MATCH(1,INDEX((TRIM(SUBSTITUTE(SUBSTITUTE(Deck!$D$1:$D$346,"™",""),"®",""))=B45)*(Deck!$C$1:$C$346=C45)*(Deck!$F$1:$F$346=D45),0),0))*E45,"Not found")) | I45: =VLOOKUP(B45,Deck!D:E,2,FALSE) -> #N/A
... F51: =IF(OR(B51="",C51="",D51=""),"",IFERROR(INDEX(Deck!$H$1:$H$346,MATCH(1,INDEX((TRIM(SUBSTITUTE(SUBSTITUTE(Deck!$D$1:$D$346,"™",""),"®",""))=B51)*(Deck!$C$1:$C$346=C51)*(Deck!$F$1:$F$346=D51),0),0))*E51,"Not found")) | G51: =IF(OR(B51="",C51="",D51=""),"",IFERROR(INDEX(Deck!$I$1:$I$346,MATCH(1,INDEX((TRIM(SUBSTITUTE(SUBSTITUTE(Deck!$D$1:$D$346,"™",""),"®",""))=B51)*(Deck!$C$1:$C$346=C51)*(Deck!$F$1:$F$346=D51),0),0))*E51,"Not found")) | H51: =IF(OR(B51="",C51="",D51=""),"",IFERROR(INDEX(Deck!$J$1:$J$346,MATCH(1,INDEX((TRIM(SUBSTITUTE(SUBSTITUTE(Deck!$D$1:$D$346,"™",""),"®",""))=B51)*(Deck!$C$1:$C$346=C51)*(Deck!$F$1:$F$346=D51),0),0))*E51,"Not found")) | I51: =VLOOKUP(B51,Deck!D:E,2,FALSE) -> #N/A

Sheet EDGE PRIME ONLY (F)
B2: EDGE PRIME | C2: * Doit être commandé séparément des autres collections | R2: LONGUEUR
K3: COMMANDE DE FIXATIONS SUGGÉRÉE | P3: COULEUR | Q3: PROFILÉ | R3: GROOVED EDGE | S3: SQUARE EDGE | T3: RISER | U3: FASCIA
B4: NOMBRE TOTAL DE PAQUETS (#) : | D4: =SUM(E15:E28) -> 0
L5: % DE LA SUPERFICIE DE PLATELAGE | M5: 1 | P5: MARITIME GRAY | Q5: GROOVED EDGE | R5: 12 | S5: 16 | T5: 12 | U5: 12
B6: POIDS TOTAL (lb) : | D6: =SUM(F15:F28) -> 0 | K6: ARTICLE | M6: QUANTITÉ (boîtes) | P6: DARK TEAK | Q6: SQUARE EDGE | R6: 16 | S6: 20
K7: EDGELOC 55 pi² | M7: =ROUND(SUMIFS($H$15:$H$28,$C$15:$C$28,"GROOVED EDGE")/55,0)*$M$5 -> 0 | Q7: RISER | R7: 20
B8: NOMBRE TOTAL DE CAMIONS (#) : | D8: =D6/43500 -> 0 | K8: CORTEX COMPOSITE 100 pi lin. | M8: =ROUND((SUMIFS($G$15:$G$28,$C$15:$C$28,"SQUARE EDGE"))/100,0)*$M$5 -> 0 | Q8: FASCIA
J9: OU | K9: PLANCHE TOPLOC COMPOSITE - 100 pi² | M9: =ROUND((SUMIFS($H$15:$H$28,$C$15:$C$28,"SQUARE EDGE"))/100,0)*$M$5 -> 0
B10: 1/2 chargement = min. 22 500 lb | C10: Chargement complet = max. 43 500 lb | K10: BORDURE CORTEX COMPOSITE 50 pi lin. | M10: =ROUND((SUMIFS($G$15:$G$28,$C$15:$C$28,"RISER")+SUMIFS($G$15:$G$28,$C$15:$C$28,"FASCIA"))/50,0)*$M$5 -> 0
B11: Multi-paquets = min. 4 paquets | J11: OU | K11: BORDURE TOPLOC COMPOSITE - 100 pi lin. | M11: =ROUND((SUMIFS($G$15:$G$28,$C$15:$C$28,"RISER")+SUMIFS($G$15:$G$28,$C$15:$C$28,"FASCIA"))/100,0)*$M$5 -> 0
B14: COULEUR | C14: PROFILÉ | D14: LONGUEUR | E14: # PAQUETS | F14: POIDS TOTAL DE L'ARTICLE | G14: TOTAL PI LIN. | H14: TOTAL PI² | K14: INSTRUCTIONS :
F15: =IF(OR(B15="",C15="",D15=""),"",IFERROR(INDEX(Deck!$H$1:$H$346,MATCH(1,INDEX((TRIM(SUBSTITUTE(SUBSTITUTE(Deck!$D$1:$D$346,"™",""),"®",""))=B15)*(Deck!$C$1:$C$346=C15)*(Deck!$F$1:$F$346=D15),0),0))*E15,"Introuvable")) | G15: =IF(OR(B15="",C15="",D15=""),"",IFERROR(INDEX(Deck!$I$1:$I$346,MATCH(1,INDEX((TRIM(SUBSTITUTE(SUBSTITUTE(Deck!$D$1:$D$346,"™",""),"®",""))=B15)*(Deck!$C$1:$C$346=C15)*(Deck!$F$1:$F$346=D15),0),0))*E15,"Introuvable")) | H15: =IF(OR(B15="",C15="",D15=""),"",IFERROR(INDEX(Deck!$J$1:$J$346,MATCH(1,INDEX((TRIM(SUBSTITUTE(SUBSTITUTE(Deck!$D$1:$D$346,"™",""),"®",""))=B15)*(Deck!$C$1:$C$346=C15)*(Deck!$F$1:$F$346=D15),0),0))*E15,"Introuvable")) | K15: 1. Sélectionnez la couleur, le profilé et la longueur (menus déroulants)
F16: =IF(OR(B16="",C16="",D16=""),"",IFERROR(INDEX(Deck!$H$1:$H$346,MATCH(1,INDEX((TRIM(SUBSTITUTE(SUBSTITUTE(Deck!$D$1:$D$346,"™",""),"®",""))=B16)*(Deck!$C$1:$C$346=C16)*(Deck!$F$1:$F$346=D16),0),0))*E16,"Introuvable")) | G16: =IF(OR(B16="",C16="",D16=""),"",IFERROR(INDEX(Deck!$I$1:$I$346,MATCH(1,INDEX((TRIM(SUBSTITUTE(SUBSTITUTE(Deck!$D$1:$D$346,"™",""),"®",""))=B16)*(Deck!$C$1:$C$346=C16)*(Deck!$F$1:$F$346=D16),0),0))*E16,"Introuvable")) | H16: =IF(OR(B16="",C16="",D16=""),"",IFERROR(INDEX(Deck!$J$1:$J$346,MATCH(1,INDEX((TRIM(SUBSTITUTE(SUBSTITUTE(Deck!$D$1:$D$346,"™",""),"®",""))=B16)*(Deck!$C$1:$C$346=C16)*(Deck!$F$1:$F$346=D16),0),0))*E16,"Introuvable")) | K16: 2. Entrez le nombre de paquets par article
F17: =IF(OR(B17="",C17="",D17=""),"",IFERROR(INDEX(Deck!$H$1:$H$346,MATCH(1,INDEX((TRIM(SUBSTITUTE(SUBSTITUTE(Deck!$D$1:$D$346,"™",""),"®",""))=B17)*(Deck!$C$1:$C$346=C17)*(Deck!$F$1:$F$346=D17),0),0))*E17,"Introuvable")) | G17: =IF(OR(B17="",C17="",D17=""),"",IFERROR(INDEX(Deck!$I$1:$I$346,MATCH(1,INDEX((TRIM(SUBSTITUTE(SUBSTITUTE(Deck!$D$1:$D$346,"™",""),"®",""))=B17)*(Deck!$C$1:$C$346=C17)*(Deck!$F$1:$F$346=D17),0),0))*E17,"Introuvable")) | H17: =IF(OR(B17="",C17="",D17=""),"",IFERROR(INDEX(Deck!$J$1:$J$346,MATCH(1,INDEX((TRIM(SUBSTITUTE(SUBSTITUTE(Deck!$D$1:$D$346,"™",""),"®",""))=B17)*(Deck!$C$1:$C$346=C17)*(Deck!$F$1:$F$346=D17),0),0))*E17,"Introuvable")) | K17: 3. Consultez les totaux calculés dans l'encadré supérieur gauche pour bâtir votre commande
F18: =IF(OR(B18="",C18="",D18=""),"",IFERROR(INDEX(Deck!$H$1:$H$346,MATCH(1,INDEX((TRIM(SUBSTITUTE(SUBSTITUTE(Deck!$D$1:$D$346,"™",""),"®",""))=B18)*(Deck!$C$1:$C$346=C18)*(Deck!$F$1:$F$346=D18),0),0))*E18,"Introuvable")) | G18: =IF(OR(B18="",C18="",D18=""),"",IFERROR(INDEX(Deck!$I$1:$I$346,MATCH(1,INDEX((TRIM(SUBSTITUTE(SUBSTITUTE(Deck!$D$1:$D$346,"™",""),"®",""))=B18)*(Deck!$C$1:$C$346=C18)*(Deck!$F$1:$F$346=D18),0),0))*E18,"Introuvable")) | H18: =IF(OR(B18="",C18="",D18=""),"",IFERROR(INDEX(Deck!$J$1:$J$346,MATCH(1,INDEX((TRIM(SUBSTITUTE(SUBSTITUTE(Deck!$D$1:$D$346,"™",""),"®",""))=B18)*(Deck!$C$1:$C$346=C18)*(Deck!$F$1:$F$346=D18),0),0))*E18,"Introuvable")) | K18: 4. Vérifiez la commande de fixations suggérée (ci-dessus) en fonction de votre achat de planches
F19: =IF(OR(B19="",C19="",D19=""),"",IFERROR(INDEX(Deck!$H$1:$H$346,MATCH(1,INDEX((TRIM(SUBSTITUTE(SUBSTITUTE(Deck!$D$1:$D$346,"™",""),"®",""))=B19)*(Deck!$C$1:$C$346=C19)*(Deck!$F$1:$F$346=D19),0),0))*E19,"Introuvable")) | G19: =IF(OR(B19="",C19="",D19=""),"",IFERROR(INDEX(Deck!$I$1:$I$346,MATCH(1,INDEX((TRIM(SUBSTITUTE(SUBSTITUTE(Deck!$D$1:$D$346,"™",""),"®",""))=B19)*(Deck!$C$1:$C$346=C19)*(Deck!$F$1:$F$346=D19),0),0))*E19,"Introuvable")) | H19: =IF(OR(B19="",C19="",D19=""),"",IFERROR(INDEX(Deck!$J$1:$J$346,MATCH(1,INDEX((TRIM(SUBSTITUTE(SUBSTITUTE(Deck!$D$1:$D$346,"™",""),"®",""))=B19)*(Deck!$C$1:$C$346=C19)*(Deck!$F$1:$F$346=D19),0),0))*E19,"Introuvable")) | K19: 5. Vous pouvez modifier le % de fixations à commander selon vos choix de terrasse en changeant la valeur de la cellule M5.
F20: =IF(OR(B20="",C20="",D20=""),"",IFERROR(INDEX(Deck!$H$1:$H$346,MATCH(1,INDEX((TRIM(SUBSTITUTE(SUBSTITUTE(Deck!$D$1:$D$346,"™",""),"®",""))=B20)*(Deck!$C$1:$C$346=C20)*(Deck!$F$1:$F$346=D20),0),0))*E20,"Introuvable")) | G20: =IF(OR(B20="",C20="",D20=""),"",IFERROR(INDEX(Deck!$I$1:$I$346,MATCH(1,INDEX((TRIM(SUBSTITUTE(SUBSTITUTE(Deck!$D$1:$D$346,"™",""),"®",""))=B20)*(Deck!$C$1:$C$346=C20)*(Deck!$F$1:$F$346=D20),0),0))*E20,"Introuvable")) | H20: =IF(OR(B20="",C20="",D20=""),"",IFERROR(INDEX(Deck!$J$1:$J$346,MATCH(1,INDEX((TRIM(SUBSTITUTE(SUBSTITUTE(Deck!$D$1:$D$346,"™",""),"®",""))=B20)*(Deck!$C$1:$C$346=C20)*(Deck!$F$1:$F$346=D20),0),0))*E20,"Introuvable")) | K20: - Différentes options de fixations sont offertes pour les planches à rainure et à rive carrée. Les quantités suggérées représentent l'une ou l'autre option.
F21: =IF(OR(B21="",C21="",D21=""),"",IFERROR(INDEX(Deck!$H$1:$H$346,MATCH(1,INDEX((TRIM(SUBSTITUTE(SUBSTITUTE(Deck!$D$1:$D$346,"™",""),"®",""))=B21)*(Deck!$C$1:$C$346=C21)*(Deck!$F$1:$F$346=D21),0),0))*E21,"Introuvable")) | G21: =IF(OR(B21="",C21="",D21=""),"",IFERROR(INDEX(Deck!$I$1:$I$346,MATCH(1,INDEX((TRIM(SUBSTITUTE(SUBSTITUTE(Deck!$D$1:$D$346,"™",""),"®",""))=B21)*(Deck!$C$1:$C$346=C21)*(Deck!$F$1:$F$346=D21),0),0))*E21,"Introuvable")) | H21: =IF(OR(B21="",C21="",D21=""),"",IFERROR(INDEX(Deck!$J$1:$J$346,MATCH(1,INDEX((TRIM(SUBSTITUTE(SUBSTITUTE(Deck!$D$1:$D$346,"™",""),"®",""))=B21)*(Deck!$C$1:$C$346=C21)*(Deck!$F$1:$F$346=D21),0),0))*E21,"Introuvable"))
F22: =IF(OR(B22="",C22="",D22=""),"",IFERROR(INDEX(Deck!$H$1:$H$346,MATCH(1,INDEX((TRIM(SUBSTITUTE(SUBSTITUTE(Deck!$D$1:$D$346,"™",""),"®",""))=B22)*(Deck!$C$1:$C$346=C22)*(Deck!$F$1:$F$346=D22),0),0))*E22,"Introuvable")) | G22: =IF(OR(B22="",C22="",D22=""),"",IFERROR(INDEX(Deck!$I$1:$I$346,MATCH(1,INDEX((TRIM(SUBSTITUTE(SUBSTITUTE(Deck!$D$1:$D$346,"™",""),"®",""))=B22)*(Deck!$C$1:$C$346=C22)*(Deck!$F$1:$F$346=D22),0),0))*E22,"Introuvable")) | H22: =IF(OR(B22="",C22="",D22=""),"",IFERROR(INDEX(Deck!$J$1:$J$346,MATCH(1,INDEX((TRIM(SUBSTITUTE(SUBSTITUTE(Deck!$D$1:$D$346,"™",""),"®",""))=B22)*(Deck!$C$1:$C$346=C22)*(Deck!$F$1:$F$346=D22),0),0))*E22,"Introuvable")) | K22: REMARQUE : Cet outil vous aide à préparer un bon de commande (BC). Ce formulaire ne contient aucun prix et ne remplace pas un BC. Veuillez communiquer avec votre gestionnaire de compte Gillfor pour les prix et tout autre renseignement.
F23: =IF(OR(B23="",C23="",D23=""),"",IFERROR(INDEX(Deck!$H$1:$H$346,MATCH(1,INDEX((TRIM(SUBSTITUTE(SUBSTITUTE(Deck!$D$1:$D$346,"™",""),"®",""))=B23)*(Deck!$C$1:$C$346=C23)*(Deck!$F$1:$F$346=D23),0),0))*E23,"Introuvable")) | G23: =IF(OR(B23="",C23="",D23=""),"",IFERROR(INDEX(Deck!$I$1:$I$346,MATCH(1,INDEX((TRIM(SUBSTITUTE(SUBSTITUTE(Deck!$D$1:$D$346,"™",""),"®",""))=B23)*(Deck!$C$1:$C$346=C23)*(Deck!$F$1:$F$346=D23),0),0))*E23,"Introuvable")) | H23: =IF(OR(B23="",C23="",D23=""),"",IFERROR(INDEX(Deck!$J$1:$J$346,MATCH(1,INDEX((TRIM(SUBSTITUTE(SUBSTITUTE(Deck!$D$1:$D$346,"™",""),"®",""))=B23)*(Deck!$C$1:$C$346=C23)*(Deck!$F$1:$F$346=D23),0),0))*E23,"Introuvable"))
F24: =IF(OR(B24="",C24="",D24=""),"",IFERROR(INDEX(Deck!$H$1:$H$346,MATCH(1,INDEX((TRIM(SUBSTITUTE(SUBSTITUTE(Deck!$D$1:$D$346,"™",""),"®",""))=B24)*(Deck!$C$1:$C$346=C24)*(Deck!$F$1:$F$346=D24),0),0))*E24,"Introuvable")) | G24: =IF(OR(B24="",C24="",D24=""),"",IFERROR(INDEX(Deck!$I$1:$I$346,MATCH(1,INDEX((TRIM(SUBSTITUTE(SUBSTITUTE(Deck!$D$1:$D$346,"™",""),"®",""))=B24)*(Deck!$C$1:$C$346=C24)*(Deck!$F$1:$F$346=D24),0),0))*E24,"Introuvable")) | H24: =IF(OR(B24="",C24="",D24=""),"",IFERROR(INDEX(Deck!$J$1:$J$346,MATCH(1,INDEX((TRIM(SUBSTITUTE(SUBSTITUTE(Deck!$D$1:$D$346,"™",""),"®",""))=B24)*(Deck!$C$1:$C$346=C24)*(Deck!$F$1:$F$346=D24),0),0))*E24,"Introuvable"))
F25: =IF(OR(B25="",C25="",D25=""),"",IFERROR(INDEX(Deck!$H$1:$H$346,MATCH(1,INDEX((TRIM(SUBSTITUTE(SUBSTITUTE(Deck!$D$1:$D$346,"™",""),"®",""))=B25)*(Deck!$C$1:$C$346=C25)*(Deck!$F$1:$F$346=D25),0),0))*E25,"Introuvable")) | G25: =IF(OR(B25="",C25="",D25=""),"",IFERROR(INDEX(Deck!$I$1:$I$346,MATCH(1,INDEX((TRIM(SUBSTITUTE(SUBSTITUTE(Deck!$D$1:$D$346,"™",""),"®",""))=B25)*(Deck!$C$1:$C$346=C25)*(Deck!$F$1:$F$346=D25),0),0))*E25,"Introuvable")) | H25: =IF(OR(B25="",C25="",D25=""),"",IFERROR(INDEX(Deck!$J$1:$J$346,MATCH(1,INDEX((TRIM(SUBSTITUTE(SUBSTITUTE(Deck!$D$1:$D$346,"™",""),"®",""))=B25)*(Deck!$C$1:$C$346=C25)*(Deck!$F$1:$F$346=D25),0),0))*E25,"Introuvable"))
F26: =IF(OR(B26="",C26="",D26=""),"",IFERROR(INDEX(Deck!$H$1:$H$346,MATCH(1,INDEX((TRIM(SUBSTITUTE(SUBSTITUTE(Deck!$D$1:$D$346,"™",""),"®",""))=B26)*(Deck!$C$1:$C$346=C26)*(Deck!$F$1:$F$346=D26),0),0))*E26,"Introuvable")) | G26: =IF(OR(B26="",C26="",D26=""),"",IFERROR(INDEX(Deck!$I$1:$I$346,MATCH(1,INDEX((TRIM(SUBSTITUTE(SUBSTITUTE(Deck!$D$1:$D$346,"™",""),"®",""))=B26)*(Deck!$C$1:$C$346=C26)*(Deck!$F$1:$F$346=D26),0),0))*E26,"Introuvable")) | H26: =IF(OR(B26="",C26="",D26=""),"",IFERROR(INDEX(Deck!$J$1:$J$346,MATCH(1,INDEX((TRIM(SUBSTITUTE(SUBSTITUTE(Deck!$D$1:$D$346,"™",""),"®",""))=B26)*(Deck!$C$1:$C$346=C26)*(Deck!$F$1:$F$346=D26),0),0))*E26,"Introuvable"))
F27: =IF(OR(B27="",C27="",D27=""),"",IFERROR(INDEX(Deck!$H$1:$H$346,MATCH(1,INDEX((TRIM(SUBSTITUTE(SUBSTITUTE(Deck!$D$1:$D$346,"™",""),"®",""))=B27)*(Deck!$C$1:$C$346=C27)*(Deck!$F$1:$F$346=D27),0),0))*E27,"Introuvable")) | G27: =IF(OR(B27="",C27="",D27=""),"",IFERROR(INDEX(Deck!$I$1:$I$346,MATCH(1,INDEX((TRIM(SUBSTITUTE(SUBSTITUTE(Deck!$D$1:$D$346,"™",""),"®",""))=B27)*(Deck!$C$1:$C$346=C27)*(Deck!$F$1:$F$346=D27),0),0))*E27,"Introuvable")) | H27: =IF(OR(B27="",C27="",D27=""),"",IFERROR(INDEX(Deck!$J$1:$J$346,MATCH(1,INDEX((TRIM(SUBSTITUTE(SUBSTITUTE(Deck!$D$1:$D$346,"™",""),"®",""))=B27)*(Deck!$C$1:$C$346=C27)*(Deck!$F$1:$F$346=D27),0),0))*E27,"Introuvable"))
F28: =IF(OR(B28="",C28="",D28=""),"",IFERROR(INDEX(Deck!$H$1:$H$346,MATCH(1,INDEX((TRIM(SUBSTITUTE(SUBSTITUTE(Deck!$D$1:$D$346,"™",""),"®",""))=B28)*(Deck!$C$1:$C$346=C28)*(Deck!$F$1:$F$346=D28),0),0))*E28,"Introuvable")) | G28: =IF(OR(B28="",C28="",D28=""),"",IFERROR(INDEX(Deck!$I$1:$I$346,MATCH(1,INDEX((TRIM(SUBSTITUTE(SUBSTITUTE(Deck!$D$1:$D$346,"™",""),"®",""))=B28)*(Deck!$C$1:$C$346=C28)*(Deck!$F$1:$F$346=D28),0),0))*E28,"Introuvable")) | H28: =IF(OR(B28="",C28="",D28=""),"",IFERROR(INDEX(Deck!$J$1:$J$346,MATCH(1,INDEX((TRIM(SUBSTITUTE(SUBSTITUTE(Deck!$D$1:$D$346,"™",""),"®",""))=B28)*(Deck!$C$1:$C$346=C28)*(Deck!$F$1:$F$346=D28),0),0))*E28,"Introuvable"))

Sheet ALL COLLECTIONS (F)
B2: TOUTES LES COLLECTIONS (Mixte) | M2: COMMANDE DE FIXATIONS SUGGÉRÉE | AF2: LONGUEUR
B3: * Les chargements mixtes ne peuvent pas inclure EDGE PRIME | N3: % DE LA SUPERFICIE DE PLATELAGE | O3: 1 | AD3: COULEUR | AE3: PROFILÉ | AF3: GROOVED EDGE | AG3: SQUARE EDGE | AH3: RISER | AI3: FASCIA
M4: ARTICLE | O4: QUANTITÉ (boîtes)
B5: NOMBRE TOTAL DE PAQUETS (#) : | D5: =SUM(E16:E51) -> 0 | M5: EDGELOC 55 pi² | N5: * option composite seulement | O5: =ROUND(SUMIFS($H$16:$H$51,$C$16:$C$51,"GROOVED EDGE",$I$16:$I$51,"COMPOSITE")/55*$O$3,0) -> 0 | AD5: COCONUT HUSK | AE5: GROOVED EDGE | AF5: 12 | AG5: 16 | AH5: 12 | AI5: 12
M6: CORTEX COMPOSITE 100 pi lin. | O6: =ROUND((SUMIFS($H$16:$H$51,$C$16:$C$51,"SQUARE EDGE",$I$16:$I$51,"COMPOSITE"))/100*$O$3,0) -> 0 | AD6: SEA SALT GRAY | AE6: SQUARE EDGE | AF6: 16 | AG6: 20
B7: POIDS TOTAL (lb) : | D7: =SUM(F16:F51) -> 0 | L7: OU | M7: PLANCHE TOPLOC COMPOSITE - 100 pi² | O7: =ROUND((SUMIFS($G$16:$G$51,$C$16:$C$51,"SQUARE EDGE",$I$16:$I$51,"COMPOSITE"))/100*$O$3,0) -> 0 | AD7: DARK COCOA | AE7: RISER | AF7: 20
M8: BORDURE CORTEX COMPOSITE 50 pi lin. | O8: =ROUND((SUMIFS($G$16:$G$51,$C$16:$C$51,"RISER",$I$16:$I$51,"COMPOSITE")+SUMIFS($G$16:$G$51,$C$16:$C$51,"FASCIA",$I$16:$I$51,"COMPOSITE"))/50*$O$3,0) -> 0 | AD8: DARK OAK | AE8: FASCIA
B9: NOMBRE TOTAL DE CAMIONS (#) : | D9: =D7/43500 -> 0 | L9: OU | M9: BORDURE TOPLOC COMPOSITE - 100 pi lin. | O9: =ROUND((SUMIFS($G$16:$G$51,$C$16:$C$51,"RISER",$I$16:$I$51,"COMPOSITE")+SUMIFS($G$16:$G$51,$C$16:$C$51,"FASCIA",$I$16:$I$51,"COMPOSITE"))/100*$O$3,0) -> 0 | AD9: WEATHERED OAK
M10: CONCEALOC - 100 pi² | N10: * requis pour le PVC | O10: =ROUND(SUMIFS($H$16:$H$51,$C$16:$C$51,"GROOVED EDGE",$I$16:$I$51,"PVC")/100*$O$3,0) -> 0 | AD10: NATURAL WHITE OAK
B11: 1/2 chargement = min. 22 500 lb | C11: Chargement complet = max. 43 500 lb | M11: CORTEX PVC 100 pi² | N11: * recommandé plutôt que Toploc | O11: =ROUND((SUMIFS($H$16:$H$51,$C$16:$C$51,"SQUARE EDGE",$I$16:$I$51,"PVC"))/100*$O$3,0) -> 0 | AD11: ANTIQUE LEATHER
B12: Multi-paquets = min. 4 paquets | L12: OU | M12: PLANCHE TOPLOC PVC - 100 pi² | O12: =ROUND((SUMIFS($H$16:$H$51,$C$16:$C$51,"SQUARE EDGE",$I$16:$I$51,"PVC"))/100*$O$3,0) -> 0 | AD12: DARK ROAST
M13: BORDURE TOPLOC PVC - 30 pi lin. | O13: =ROUND((SUMIFS($G$16:$G$51,$C$16:$C$51,"RISER",$I$16:$I$51,"PVC")+SUMIFS($G$16:$G$51,$C$16:$C$51,"FASCIA",$I$16:$I$51,"PVC"))/30*$O$3,0) -> 0 | AD13: DRIFTWOOD
AD14: RECLAIMED CHESTNUT
B15: COULEUR | C15: PROFILÉ | D15: LONGUEUR | E15: # PAQUETS | F15: POIDS TOTAL DE L'ARTICLE | G15: TOTAL PI LIN. | H15: TOTAL PI² | I15: MATÉRIAU | AD15: MOCHA
F16: =IF(OR(B16="",C16="",D16=""),"",IFERROR(INDEX(Deck!$H$1:$H$346,MATCH(1,INDEX((TRIM(SUBSTITUTE(SUBSTITUTE(Deck!$D$1:$D$346,"™",""),"®",""))=B16)*(Deck!$C$1:$C$346=C16)*(Deck!$F$1:$F$346=D16),0),0))*E16,"Introuvable")) | G16: =IF(OR(B16="",C16="",D16=""),"",IFERROR(INDEX(Deck!$I$1:$I$346,MATCH(1,INDEX((TRIM(SUBSTITUTE(SUBSTITUTE(Deck!$D$1:$D$346,"™",""),"®",""))=B16)*(Deck!$C$1:$C$346=C16)*(Deck!$F$1:$F$346=D16),0),0))*E16,"Introuvable")) | H16: =IF(OR(B16="",C16="",D16=""),"",IFERROR(INDEX(Deck!$J$1:$J$346,MATCH(1,INDEX((TRIM(SUBSTITUTE(SUBSTITUTE(Deck!$D$1:$D$346,"™",""),"®",""))=B16)*(Deck!$C$1:$C$346=C16)*(Deck!$F$1:$F$346=D16),0),0))*E16,"Introuvable")) | I16: =VLOOKUP(B16,Deck!D:E,2,FALSE) -> #N/A | AD16: PECAN
F17: =IF(OR(B17="",C17="",D17=""),"",IFERROR(INDEX(Deck!$H$1:$H$346,MATCH(1,INDEX((TRIM(SUBSTITUTE(SUBSTITUTE(Deck!$D$1:$D$346,"™",""),"®",""))=B17)*(Deck!$C$1:$C$346=C17)*(Deck!$F$1:$F$346=D17),0),0))*E17,"Introuvable")) | G17: =IF(OR(B17="",C17="",D17=""),"",IFERROR(INDEX(Deck!$I$1:$I$346,MATCH(1,INDEX((TRIM(SUBSTITUTE(SUBSTITUTE(Deck!$D$1:$D$346,"™",""),"®",""))=B17)*(Deck!$C$1:$C$346=C17)*(Deck!$F$1:$F$346=D17),0),0))*E17,"Introuvable")) | H17: =IF(OR(B17="",C17="",D17=""),"",IFERROR(INDEX(Deck!$J$1:$J$346,MATCH(1,INDEX((TRIM(SUBSTITUTE(SUBSTITUTE(Deck!$D$1:$D$346,"™",""),"®",""))=B17)*(Deck!$C$1:$C$346=C17)*(Deck!$F$1:$F$346=D17),0),0))*E17,"Introuvable")) | I17: =VLOOKUP(B17,Deck!D:E,2,FALSE) -> #N/A | L17: INSTRUCTIONS : | AD17: TIGERWOOD
F18: =IF(OR(B18="",C18="",D18=""),"",IFERROR(INDEX(Deck!$H$1:$H$346,MATCH(1,INDEX((TRIM(SUBSTITUTE(SUBSTITUTE(Deck!$D$1:$D$346,"™",""),"®",""))=B18)*(Deck!$C$1:$C$346=C18)*(Deck!$F$1:$F$346=D18),0),0))*E18,"Introuvable")) | G18: =IF(OR(B18="",C18="",D18=""),"",IFERROR(INDEX(Deck!$I$1:$I$346,MATCH(1,INDEX((TRIM(SUBSTITUTE(SUBSTITUTE(Deck!$D$1:$D$346,"™",""),"®",""))=B18)*(Deck!$C$1:$C$346=C18)*(Deck!$F$1:$F$346=D18),0),0))*E18,"Introuvable")) | H18: =IF(OR(B18="",C18="",D18=""),"",IFERROR(INDEX(Deck!$J$1:$J$346,MATCH(1,INDEX((TRIM(SUBSTITUTE(SUBSTITUTE(Deck!$D$1:$D$346,"™",""),"®",""))=B18)*(Deck!$C$1:$C$346=C18)*(Deck!$F$1:$F$346=D18),0),0))*E18,"Introuvable")) | I18: =VLOOKUP(B18,Deck!D:E,2,FALSE) -> #N/A | L18: 1. Sélectionnez la couleur, le profilé et la longueur (menus déroulants) | AD18: ASHWOOD
F19: =IF(OR(B19="",C19="",D19=""),"",IFERROR(INDEX(Deck!$H$1:$H$346,MATCH(1,INDEX((TRIM(SUBSTITUTE(SUBSTITUTE(Deck!$D$1:$D$346,"™",""),"®",""))=B19)*(Deck!$C$1:$C$346=C19)*(Deck!$F$1:$F$346=D19),0),0))*E19,"Introuvable")) | G19: =IF(OR(B19="",C19="",D19=""),"",IFERROR(INDEX(Deck!$I$1:$I$346,MATCH(1,INDEX((TRIM(SUBSTITUTE(SUBSTITUTE(Deck!$D$1:$D$346,"™",""),"®",""))=B19)*(Deck!$C$1:$C$346=C19)*(Deck!$F$1:$F$346=D19),0),0))*E19,"Introuvable")) | H19: =IF(OR(B19="",C19="",D19=""),"",IFERROR(INDEX(Deck!$J$1:$J$346,MATCH(1,INDEX((TRIM(SUBSTITUTE(SUBSTITUTE(Deck!$D$1:$D$346,"™",""),"®",""))=B19)*(Deck!$C$1:$C$346=C19)*(Deck!$F$1:$F$346=D19),0),0))*E19,"Introuvable")) | I19: =VLOOKUP(B19,Deck!D:E,2,FALSE) -> #N/A | L19: 2. Entrez le nombre de paquets par article | AD19: ESPRESSO
F20: =IF(OR(B20="",C20="",D20=""),"",IFERROR(INDEX(Deck!$H$1:$H$346,MATCH(1,INDEX((TRIM(SUBSTITUTE(SUBSTITUTE(Deck!$D$1:$D$346,"™",""),"®",""))=B20)*(Deck!$C$1:$C$346=C20)*(Deck!$F$1:$F$346=D20),0),0))*E20,"Introuvable")) | G20: =IF(OR(B20="",C20="",D20=""),"",IFERROR(INDEX(Deck!$I$1:$I$346,MATCH(1,INDEX((TRIM(SUBSTITUTE(SUBSTITUTE(Deck!$D$1:$D$346,"™",""),"®",""))=B20)*(Deck!$C$1:$C$346=C20)*(Deck!$F$1:$F$346=D20),0),0))*E20,"Introuvable")) | H20: =IF(OR(B20="",C20="",D20=""),"",IFERROR(INDEX(Deck!$J$1:$J$346,MATCH(1,INDEX((TRIM(SUBSTITUTE(SUBSTITUTE(Deck!$D$1:$D$346,"™",""),"®",""))=B20)*(Deck!$C$1:$C$346=C20)*(Deck!$F$1:$F$346=D20),0),0))*E20,"Introuvable")) | I20: =VLOOKUP(B20,Deck!D:E,2,FALSE) -> #N/A | L20: 3. Consultez les totaux calculés dans l'encadré supérieur gauche pour bâtir votre commande | AD20: WHITEWASH CEDAR
F21: =IF(OR(B21="",C21="",D21=""),"",IFERROR(INDEX(Deck!$H$1:$H$346,MATCH(1,INDEX((TRIM(SUBSTITUTE(SUBSTITUTE(Deck!$D$1:$D$346,"™",""),"®",""))=B21)*(Deck!$C$1:$C$346=C21)*(Deck!$F$1:$F$346=D21),0),0))*E21,"Introuvable")) | G21: =IF(OR(B21="",C21="",D21=""),"",IFERROR(INDEX(Deck!$I$1:$I$346,MATCH(1,INDEX((TRIM(SUBSTITUTE(SUBSTITUTE(Deck!$D$1:$D$346,"™",""),"®",""))=B21)*(Deck!$C$1:$C$346=C21)*(Deck!$F$1:$F$346=D21),0),0))*E21,"Introuvable")) | H21: =IF(OR(B21="",C21="",D21=""),"",IFERROR(INDEX(Deck!$J$1:$J$346,MATCH(1,INDEX((TRIM(SUBSTITUTE(SUBSTITUTE(Deck!$D$1:$D$346,"™",""),"®",""))=B21)*(Deck!$C$1:$C$346=C21)*(Deck!$F$1:$F$346=D21),0),0))*E21,"Introuvable")) | I21: =VLOOKUP(B21,Deck!D:E,2,FALSE) -> #N/A | L21: 4. Vérifiez la commande de fixations suggérée (ci-dessus) en fonction de votre achat de planches | AD21: BROWNSTONE
F22: =IF(OR(B22="",C22="",D22=""),"",IFERROR(INDEX(Deck!$H$1:$H$346,MATCH(1,INDEX((TRIM(SUBSTITUTE(SUBSTITUTE(Deck!$D$1:$D$346,"™",""),"®",""))=B22)*(Deck!$C$1:$C$346=C22)*(Deck!$F$1:$F$346=D22),0),0))*E22,"Introuvable")) | G22: =IF(OR(B22="",C22="",D22=""),"",IFERROR(INDEX(Deck!$I$1:$I$346,MATCH(1,INDEX((TRIM(SUBSTITUTE(SUBSTITUTE(Deck!$D$1:$D$346,"™",""),"®",""))=B22)*(Deck!$C$1:$C$346=C22)*(Deck!$F$1:$F$346=D22),0),0))*E22,"Introuvable")) | H22: =IF(OR(B22="",C22="",D22=""),"",IFERROR(INDEX(Deck!$J$1:$J$346,MATCH(1,INDEX((TRIM(SUBSTITUTE(SUBSTITUTE(Deck!$D$1:$D$346,"™",""),"®",""))=B22)*(Deck!$C$1:$C$346=C22)*(Deck!$F$1:$F$346=D22),0),0))*E22,"Introuvable")) | I22: =VLOOKUP(B22,Deck!D:E,2,FALSE) -> #N/A | L22: 5. Vous pouvez modifier le % de fixations à commander selon vos choix de terrasse en changeant la valeur de la cellule M5. | AD22: SLATE GRAY
F23: =IF(OR(B23="",C23="",D23=""),"",IFERROR(INDEX(Deck!$H$1:$H$346,MATCH(1,INDEX((TRIM(SUBSTITUTE(SUBSTITUTE(Deck!$D$1:$D$346,"™",""),"®",""))=B23)*(Deck!$C$1:$C$346=C23)*(Deck!$F$1:$F$346=D23),0),0))*E23,"Introuvable")) | G23: =IF(OR(B23="",C23="",D23=""),"",IFERROR(INDEX(Deck!$I$1:$I$346,MATCH(1,INDEX((TRIM(SUBSTITUTE(SUBSTITUTE(Deck!$D$1:$D$346,"™",""),"®",""))=B23)*(Deck!$C$1:$C$346=C23)*(Deck!$F$1:$F$346=D23),0),0))*E23,"Introuvable")) | H23: =IF(OR(B23="",C23="",D23=""),"",IFERROR(INDEX(Deck!$J$1:$J$346,MATCH(1,INDEX((TRIM(SUBSTITUTE(SUBSTITUTE(Deck!$D$1:$D$346,"™",""),"®",""))=B23)*(Deck!$C$1:$C$346=C23)*(Deck!$F$1:$F$346=D23),0),0))*E23,"Introuvable")) | I23: =VLOOKUP(B23,Deck!D:E,2,FALSE) -> #N/A | L23: - Différentes options de fixations sont offertes pour les planches à rainure et à rive carrée. Les quantités suggérées représentent l'une ou l'autre option. | AD23: TIMBER GRAY
F24: =IF(OR(B24="",C24="",D24=""),"",IFERROR(INDEX(Deck!$H$1:$H$346,MATCH(1,INDEX((TRIM(SUBSTITUTE(SUBSTITUTE(Deck!$D$1:$D$346,"™",""),"®",""))=B24)*(Deck!$C$1:$C$346=C24)*(Deck!$F$1:$F$346=D24),0),0))*E24,"Introuvable")) | G24: =IF(OR(B24="",C24="",D24=""),"",IFERROR(INDEX(Deck!$I$1:$I$346,MATCH(1,INDEX((TRIM(SUBSTITUTE(SUBSTITUTE(Deck!$D$1:$D$346,"™",""),"®",""))=B24)*(Deck!$C$1:$C$346=C24)*(Deck!$F$1:$F$346=D24),0),0))*E24,"Introuvable")) | H24: =IF(OR(B24="",C24="",D24=""),"",IFERROR(INDEX(Deck!$J$1:$J$346,MATCH(1,INDEX((TRIM(SUBSTITUTE(SUBSTITUTE(Deck!$D$1:$D$346,"™",""),"®",""))=B24)*(Deck!$C$1:$C$346=C24)*(Deck!$F$1:$F$346=D24),0),0))*E24,"Introuvable")) | I24: =VLOOKUP(B24,Deck!D:E,2,FALSE) -> #N/A | AD24: TOASTED WHEAT
F25: =IF(OR(B25="",C25="",D25=""),"",IFERROR(INDEX(Deck!$H$1:$H$346,MATCH(1,INDEX((TRIM(SUBSTITUTE(SUBSTITUTE(Deck!$D$1:$D$346,"™",""),"®",""))=B25)*(Deck!$C$1:$C$346=C25)*(Deck!$F$1:$F$346=D25),0),0))*E25,"Introuvable")) | G25: =IF(OR(B25="",C25="",D25=""),"",IFERROR(INDEX(Deck!$I$1:$I$346,MATCH(1,INDEX((TRIM(SUBSTITUTE(SUBSTITUTE(Deck!$D$1:$D$346,"™",""),"®",""))=B25)*(Deck!$C$1:$C$346=C25)*(Deck!$F$1:$F$346=D25),0),0))*E25,"Introuvable")) | H25: =IF(OR(B25="",C25="",D25=""),"",IFERROR(INDEX(Deck!$J$1:$J$346,MATCH(1,INDEX((TRIM(SUBSTITUTE(SUBSTITUTE(Deck!$D$1:$D$346,"™",""),"®",""))=B25)*(Deck!$C$1:$C$346=C25)*(Deck!$F$1:$F$346=D25),0),0))*E25,"Introuvable")) | I25: =VLOOKUP(B25,Deck!D:E,2,FALSE) -> #N/A | L25: REMARQUE : Cet outil vous aide à préparer un bon de commande (BC). Ce formulaire ne contient aucun prix et ne remplace pas un BC. Veuillez communiquer avec votre gestionnaire de compte Gillfor pour les prix et tout autre renseignement. | AD25: CASTLEGATE
F26: =IF(OR(B26="",C26="",D26=""),"",IFERROR(INDEX(Deck!$H$1:$H$346,MATCH(1,INDEX((TRIM(SUBSTITUTE(SUBSTITUTE(Deck!$D$1:$D$346,"™",""),"®",""))=B26)*(Deck!$C$1:$C$346=C26)*(Deck!$F$1:$F$346=D26),0),0))*E26,"Introuvable")) | G26: =IF(OR(B26="",C26="",D26=""),"",IFERROR(INDEX(Deck!$I$1:$I$346,MATCH(1,INDEX((TRIM(SUBSTITUTE(SUBSTITUTE(Deck!$D$1:$D$346,"™",""),"®",""))=B26)*(Deck!$C$1:$C$346=C26)*(Deck!$F$1:$F$346=D26),0),0))*E26,"Introuvable")) | H26: =IF(OR(B26="",C26="",D26=""),"",IFERROR(INDEX(Deck!$J$1:$J$346,MATCH(1,INDEX((TRIM(SUBSTITUTE(SUBSTITUTE(Deck!$D$1:$D$346,"™",""),"®",""))=B26)*(Deck!$C$1:$C$346=C26)*(Deck!$F$1:$F$346=D26),0),0))*E26,"Introuvable")) | I26: =VLOOKUP(B26,Deck!D:E,2,FALSE) -> #N/A | AD26: AMERICAN WALNUT
F27: =IF(OR(B27="",C27="",D27=""),"",IFERROR(INDEX(Deck!$H$1:$H$346,MATCH(1,INDEX((TRIM(SUBSTITUTE(SUBSTITUTE(Deck!$D$1:$D$346,"™",""),"®",""))=B27)*(Deck!$C$1:$C$346=C27)*(Deck!$F$1:$F$346=D27),0),0))*E27,"Introuvable")) | G27: =IF(OR(B27="",C27="",D27=""),"",IFERROR(INDEX(Deck!$I$1:$I$346,MATCH(1,INDEX((TRIM(SUBSTITUTE(SUBSTITUTE(Deck!$D$1:$D$346,"™",""),"®",""))=B27)*(Deck!$C$1:$C$346=C27)*(Deck!$F$1:$F$346=D27),0),0))*E27,"Introuvable")) | H27: =IF(OR(B27="",C27="",D27=""),"",IFERROR(INDEX(Deck!$J$1:$J$346,MATCH(1,INDEX((TRIM(SUBSTITUTE(SUBSTITUTE(Deck!$D$1:$D$346,"™",""),"®",""))=B27)*(Deck!$C$1:$C$346=C27)*(Deck!$F$1:$F$346=D27),0),0))*E27,"Introuvable")) | I27: =VLOOKUP(B27,Deck!D:E,2,FALSE) -> #N/A | AD27: FRENCH WHITE OAK
F28: =IF(OR(B28="",C28="",D28=""),"",IFERROR(INDEX(Deck!$H$1:$H$346,MATCH(1,INDEX((TRIM(SUBSTITUTE(SUBSTITUTE(Deck!$D$1:$D$346,"™",""),"®",""))=B28)*(Deck!$C$1:$C$346=C28)*(Deck!$F$1:$F$346=D28),0),0))*E28,"Introuvable")) | G28: =IF(OR(B28="",C28="",D28=""),"",IFERROR(INDEX(Deck!$I$1:$I$346,MATCH(1,INDEX((TRIM(SUBSTITUTE(SUBSTITUTE(Deck!$D$1:$D$346,"™",""),"®",""))=B28)*(Deck!$C$1:$C$346=C28)*(Deck!$F$1:$F$346=D28),0),0))*E28,"Introuvable")) | H28: =IF(OR(B28="",C28="",D28=""),"",IFERROR(INDEX(Deck!$J$1:$J$346,MATCH(1,INDEX((TRIM(SUBSTITUTE(SUBSTITUTE(Deck!$D$1:$D$346,"™",""),"®",""))=B28)*(Deck!$C$1:$C$346=C28)*(Deck!$F$1:$F$346=D28),0),0))*E28,"Introuvable")) | I28: =VLOOKUP(B28,Deck!D:E,2,FALSE) -> #N/A | AD28: BOARDWALK
F29: =IF(OR(B29="",C29="",D29=""),"",IFERROR(INDEX(Deck!$H$1:$H$346,MATCH(1,INDEX((TRIM(SUBSTITUTE(SUBSTITUTE(Deck!$D$1:$D$346,"™",""),"®",""))=B29)*(Deck!$C$1:$C$346=C29)*(Deck!$F$1:$F$346=D29),0),0))*E29,"Introuvable")) | G29: =IF(OR(B29="",C29="",D29=""),"",IFERROR(INDEX(Deck!$I$1:$I$346,MATCH(1,INDEX((TRIM(SUBSTITUTE(SUBSTITUTE(Deck!$D$1:$D$346,"™",""),"®",""))=B29)*(Deck!$C$1:$C$346=C29)*(Deck!$F$1:$F$346=D29),0),0))*E29,"Introuvable")) | H29: =IF(OR(B29="",C29="",D29=""),"",IFERROR(INDEX(Deck!$J$1:$J$346,MATCH(1,INDEX((TRIM(SUBSTITUTE(SUBSTITUTE(Deck!$D$1:$D$346,"™",""),"®",""))=B29)*(Deck!$C$1:$C$346=C29)*(Deck!$F$1:$F$346=D29),0),0))*E29,"Introuvable")) | I29: =VLOOKUP(B29,Deck!D:E,2,FALSE) -> #N/A | AD29: COASTLINE
F30: =IF(OR(B30="",C30="",D30=""),"",IFERROR(INDEX(Deck!$H$1:$H$346,MATCH(1,INDEX((TRIM(SUBSTITUTE(SUBSTITUTE(Deck!$D$1:$D$346,"™",""),"®",""))=B30)*(Deck!$C$1:$C$346=C30)*(Deck!$F$1:$F$346=D30),0),0))*E30,"Introuvable")) | G30: =IF(OR(B30="",C30="",D30=""),"",IFERROR(INDEX(Deck!$I$1:$I$346,MATCH(1,INDEX((TRIM(SUBSTITUTE(SUBSTITUTE(Deck!$D$1:$D$346,"™",""),"®",""))=B30)*(Deck!$C$1:$C$346=C30)*(Deck!$F$1:$F$346=D30),0),0))*E30,"Introuvable")) | H30: =IF(OR(B30="",C30="",D30=""),"",IFERROR(INDEX(Deck!$J$1:$J$346,MATCH(1,INDEX((TRIM(SUBSTITUTE(SUBSTITUTE(Deck!$D$1:$D$346,"™",""),"®",""))=B30)*(Deck!$C$1:$C$346=C30)*(Deck!$F$1:$F$346=D30),0),0))*E30,"Introuvable")) | I30: =VLOOKUP(B30,Deck!D:E,2,FALSE) -> #N/A | AD30: DARK HICKORY
F31: =IF(OR(B31="",C31="",D31=""),"",IFERROR(INDEX(Deck!$H$1:$H$346,MATCH(1,INDEX((TRIM(SUBSTITUTE(SUBSTITUTE(Deck!$D$1:$D$346,"™",""),"®",""))=B31)*(Deck!$C$1:$C$346=C31)*(Deck!$F$1:$F$346=D31),0),0))*E31,"Introuvable")) | G31: =IF(OR(B31="",C31="",D31=""),"",IFERROR(INDEX(Deck!$I$1:$I$346,MATCH(1,INDEX((TRIM(SUBSTITUTE(SUBSTITUTE(Deck!$D$1:$D$346,"™",""),"®",""))=B31)*(Deck!$C$1:$C$346=C31)*(Deck!$F$1:$F$346=D31),0),0))*E31,"Introuvable")) | H31: =IF(OR(B31="",C31="",D31=""),"",IFERROR(INDEX(Deck!$J$1:$J$346,MATCH(1,INDEX((TRIM(SUBSTITUTE(SUBSTITUTE(Deck!$D$1:$D$346,"™",""),"®",""))=B31)*(Deck!$C$1:$C$346=C31)*(Deck!$F$1:$F$346=D31),0),0))*E31,"Introuvable")) | I31: =VLOOKUP(B31,Deck!D:E,2,FALSE) -> #N/A | AD31: ENGLISH WALNUT
F32: =IF(OR(B32="",C32="",D32=""),"",IFERROR(INDEX(Deck!$H$1:$H$346,MATCH(1,INDEX((TRIM(SUBSTITUTE(SUBSTITUTE(Deck!$D$1:$D$346,"™",""),"®",""))=B32)*(Deck!$C$1:$C$346=C32)*(Deck!$F$1:$F$346=D32),0),0))*E32,"Introuvable")) | G32: =IF(OR(B32="",C32="",D32=""),"",IFERROR(INDEX(Deck!$I$1:$I$346,MATCH(1,INDEX((TRIM(SUBSTITUTE(SUBSTITUTE(Deck!$D$1:$D$346,"™",""),"®",""))=B32)*(Deck!$C$1:$C$346=C32)*(Deck!$F$1:$F$346=D32),0),0))*E32,"Introuvable")) | H32: =IF(OR(B32="",C32="",D32=""),"",IFERROR(INDEX(Deck!$J$1:$J$346,MATCH(1,INDEX((TRIM(SUBSTITUTE(SUBSTITUTE(Deck!$D$1:$D$346,"™",""),"®",""))=B32)*(Deck!$C$1:$C$346=C32)*(Deck!$F$1:$F$346=D32),0),0))*E32,"Introuvable")) | I32: =VLOOKUP(B32,Deck!D:E,2,FALSE) -> #N/A | AD32: WEATHERED TEAK
F33: =IF(OR(B33="",C33="",D33=""),"",IFERROR(INDEX(Deck!$H$1:$H$346,MATCH(1,INDEX((TRIM(SUBSTITUTE(SUBSTITUTE(Deck!$D$1:$D$346,"™",""),"®",""))=B33)*(Deck!$C$1:$C$346=C33)*(Deck!$F$1:$F$346=D33),0),0))*E33,"Introuvable")) | G33: =IF(OR(B33="",C33="",D33=""),"",IFERROR(INDEX(Deck!$I$1:$I$346,MATCH(1,INDEX((TRIM(SUBSTITUTE(SUBSTITUTE(Deck!$D$1:$D$346,"™",""),"®",""))=B33)*(Deck!$C$1:$C$346=C33)*(Deck!$F$1:$F$346=D33),0),0))*E33,"Introuvable")) | H33: =IF(OR(B33="",C33="",D33=""),"",IFERROR(INDEX(Deck!$J$1:$J$346,MATCH(1,INDEX((TRIM(SUBSTITUTE(SUBSTITUTE(Deck!$D$1:$D$346,"™",""),"®",""))=B33)*(Deck!$C$1:$C$346=C33)*(Deck!$F$1:$F$346=D33),0),0))*E33,"Introuvable")) | I33: =VLOOKUP(B33,Deck!D:E,2,FALSE) -> #N/A | AD33: MAHOGANY
F34: =IF(OR(B34="",C34="",D34=""),"",IFERROR(INDEX(Deck!$H$1:$H$346,MATCH(1,INDEX((TRIM(SUBSTITUTE(SUBSTITUTE(Deck!$D$1:$D$346,"™",""),"®",""))=B34)*(Deck!$C$1:$C$346=C34)*(Deck!$F$1:$F$346=D34),0),0))*E34,"Introuvable")) | G34: =IF(OR(B34="",C34="",D34=""),"",IFERROR(INDEX(Deck!$I$1:$I$346,MATCH(1,INDEX((TRIM(SUBSTITUTE(SUBSTITUTE(Deck!$D$1:$D$346,"™",""),"®",""))=B34)*(Deck!$C$1:$C$346=C34)*(Deck!$F$1:$F$346=D34),0),0))*E34,"Introuvable")) | H34: =IF(OR(B34="",C34="",D34=""),"",IFERROR(INDEX(Deck!$J$1:$J$346,MATCH(1,INDEX((TRIM(SUBSTITUTE(SUBSTITUTE(Deck!$D$1:$D$346,"™",""),"®",""))=B34)*(Deck!$C$1:$C$346=C34)*(Deck!$F$1:$F$346=D34),0),0))*E34,"Introuvable")) | I34: =VLOOKUP(B34,Deck!D:E,2,FALSE) -> #N/A
F35: =IF(OR(B35="",C35="",D35=""),"",IFERROR(INDEX(Deck!$H$1:$H$346,MATCH(1,INDEX((TRIM(SUBSTITUTE(SUBSTITUTE(Deck!$D$1:$D$346,"™",""),"®",""))=B35)*(Deck!$C$1:$C$346=C35)*(Deck!$F$1:$F$346=D35),0),0))*E35,"Introuvable")) | G35: =IF(OR(B35="",C35="",D35=""),"",IFERROR(INDEX(Deck!$I$1:$I$346,MATCH(1,INDEX((TRIM(SUBSTITUTE(SUBSTITUTE(Deck!$D$1:$D$346,"™",""),"®",""))=B35)*(Deck!$C$1:$C$346=C35)*(Deck!$F$1:$F$346=D35),0),0))*E35,"Introuvable")) | H35: =IF(OR(B35="",C35="",D35=""),"",IFERROR(INDEX(Deck!$J$1:$J$346,MATCH(1,INDEX((TRIM(SUBSTITUTE(SUBSTITUTE(Deck!$D$1:$D$346,"™",""),"®",""))=B35)*(Deck!$C$1:$C$346=C35)*(Deck!$F$1:$F$346=D35),0),0))*E35,"Introuvable")) | I35: =VLOOKUP(B35,Deck!D:E,2,FALSE) -> #N/A
F36: =IF(OR(B36="",C36="",D36=""),"",IFERROR(INDEX(Deck!$H$1:$H$346,MATCH(1,INDEX((TRIM(SUBSTITUTE(SUBSTITUTE(Deck!$D$1:$D$346,"™",""),"®",""))=B36)*(Deck!$C$1:$C$346=C36)*(Deck!$F$1:$F$346=D36),0),0))*E36,"Introuvable")) | G36: =IF(OR(B36="",C36="",D36=""),"",IFERROR(INDEX(Deck!$I$1:$I$346,MATCH(1,INDEX((TRIM(SUBSTITUTE(SUBSTITUTE(Deck!$D$1:$D$346,"™",""),"®",""))=B36)*(Deck!$C$1:$C$346=C36)*(Deck!$F$1:$F$346=D36),0),0))*E36,"Introuvable")) | H36: =IF(OR(B36="",C36="",D36=""),"",IFERROR(INDEX(Deck!$J$1:$J$346,MATCH(1,INDEX((TRIM(SUBSTITUTE(SUBSTITUTE(Deck!$D$1:$D$346,"™",""),"®",""))=B36)*(Deck!$C$1:$C$346=C36)*(Deck!$F$1:$F$346=D36),0),0))*E36,"Introuvable")) | I36: =VLOOKUP(B36,Deck!D:E,2,FALSE) -> #N/A
F37: =IF(OR(B37="",C37="",D37=""),"",IFERROR(INDEX(Deck!$H$1:$H$346,MATCH(1,INDEX((TRIM(SUBSTITUTE(SUBSTITUTE(Deck!$D$1:$D$346,"™",""),"®",""))=B37)*(Deck!$C$1:$C$346=C37)*(Deck!$F$1:$F$346=D37),0),0))*E37,"Introuvable")) | G37: =IF(OR(B37="",C37="",D37=""),"",IFERROR(INDEX(Deck!$I$1:$I$346,MATCH(1,INDEX((TRIM(SUBSTITUTE(SUBSTITUTE(Deck!$D$1:$D$346,"™",""),"®",""))=B37)*(Deck!$C$1:$C$346=C37)*(Deck!$F$1:$F$346=D37),0),0))*E37,"Introuvable")) | H37: =IF(OR(B37="",C37="",D37=""),"",IFERROR(INDEX(Deck!$J$1:$J$346,MATCH(1,INDEX((TRIM(SUBSTITUTE(SUBSTITUTE(Deck!$D$1:$D$346,"™",""),"®",""))=B37)*(Deck!$C$1:$C$346=C37)*(Deck!$F$1:$F$346=D37),0),0))*E37,"Introuvable")) | I37: =VLOOKUP(B37,Deck!D:E,2,FALSE) -> #N/A
F38: =IF(OR(B38="",C38="",D38=""),"",IFERROR(INDEX(Deck!$H$1:$H$346,MATCH(1,INDEX((TRIM(SUBSTITUTE(SUBSTITUTE(Deck!$D$1:$D$346,"™",""),"®",""))=B38)*(Deck!$C$1:$C$346=C38)*(Deck!$F$1:$F$346=D38),0),0))*E38,"Introuvable")) | G38: =IF(OR(B38="",C38="",D38=""),"",IFERROR(INDEX(Deck!$I$1:$I$346,MATCH(1,INDEX((TRIM(SUBSTITUTE(SUBSTITUTE(Deck!$D$1:$D$346,"™",""),"®",""))=B38)*(Deck!$C$1:$C$346=C38)*(Deck!$F$1:$F$346=D38),0),0))*E38,"Introuvable")) | H38: =IF(OR(B38="",C38="",D38=""),"",IFERROR(INDEX(Deck!$J$1:$J$346,MATCH(1,INDEX((TRIM(SUBSTITUTE(SUBSTITUTE(Deck!$D$1:$D$346,"™",""),"®",""))=B38)*(Deck!$C$1:$C$346=C38)*(Deck!$F$1:$F$346=D38),0),0))*E38,"Introuvable")) | I38: =VLOOKUP(B38,Deck!D:E,2,FALSE) -> #N/A
F39: =IF(OR(B39="",C39="",D39=""),"",IFERROR(INDEX(Deck!$H$1:$H$346,MATCH(1,INDEX((TRIM(SUBSTITUTE(SUBSTITUTE(Deck!$D$1:$D$346,"™",""),"®",""))=B39)*(Deck!$C$1:$C$346=C39)*(Deck!$F$1:$F$346=D39),0),0))*E39,"Introuvable")) | G39: =IF(OR(B39="",C39="",D39=""),"",IFERROR(INDEX(Deck!$I$1:$I$346,MATCH(1,INDEX((TRIM(SUBSTITUTE(SUBSTITUTE(Deck!$D$1:$D$346,"™",""),"®",""))=B39)*(Deck!$C$1:$C$346=C39)*(Deck!$F$1:$F$346=D39),0),0))*E39,"Introuvable")) | H39: =IF(OR(B39="",C39="",D39=""),"",IFERROR(INDEX(Deck!$J$1:$J$346,MATCH(1,INDEX((TRIM(SUBSTITUTE(SUBSTITUTE(Deck!$D$1:$D$346,"™",""),"®",""))=B39)*(Deck!$C$1:$C$346=C39)*(Deck!$F$1:$F$346=D39),0),0))*E39,"Introuvable")) | I39: =VLOOKUP(B39,Deck!D:E,2,FALSE) -> #N/A
F40: =IF(OR(B40="",C40="",D40=""),"",IFERROR(INDEX(Deck!$H$1:$H$346,MATCH(1,INDEX((TRIM(SUBSTITUTE(SUBSTITUTE(Deck!$D$1:$D$346,"™",""),"®",""))=B40)*(Deck!$C$1:$C$346=C40)*(Deck!$F$1:$F$346=D40),0),0))*E40,"Introuvable")) | G40: =IF(OR(B40="",C40="",D40=""),"",IFERROR(INDEX(Deck!$I$1:$I$346,MATCH(1,INDEX((TRIM(SUBSTITUTE(SUBSTITUTE(Deck!$D$1:$D$346,"™",""),"®",""))=B40)*(Deck!$C$1:$C$346=C40)*(Deck!$F$1:$F$346=D40),0),0))*E40,"Introuvable")) | H40: =IF(OR(B40="",C40="",D40=""),"",IFERROR(INDEX(Deck!$J$1:$J$346,MATCH(1,INDEX((TRIM(SUBSTITUTE(SUBSTITUTE(Deck!$D$1:$D$346,"™",""),"®",""))=B40)*(Deck!$C$1:$C$346=C40)*(Deck!$F$1:$F$346=D40),0),0))*E40,"Introuvable")) | I40: =VLOOKUP(B40,Deck!D:E,2,FALSE) -> #N/A
F41: =IF(OR(B41="",C41="",D41=""),"",IFERROR(INDEX(Deck!$H$1:$H$346,MATCH(1,INDEX((TRIM(SUBSTITUTE(SUBSTITUTE(Deck!$D$1:$D$346,"™",""),"®",""))=B41)*(Deck!$C$1:$C$346=C41)*(Deck!$F$1:$F$346=D41),0),0))*E41,"Introuvable")) | G41: =IF(OR(B41="",C41="",D41=""),"",IFERROR(INDEX(Deck!$I$1:$I$346,MATCH(1,INDEX((TRIM(SUBSTITUTE(SUBSTITUTE(Deck!$D$1:$D$346,"™",""),"®",""))=B41)*(Deck!$C$1:$C$346=C41)*(Deck!$F$1:$F$346=D41),0),0))*E41,"Introuvable")) | H41: =IF(OR(B41="",C41="",D41=""),"",IFERROR(INDEX(Deck!$J$1:$J$346,MATCH(1,INDEX((TRIM(SUBSTITUTE(SUBSTITUTE(Deck!$D$1:$D$346,"™",""),"®",""))=B41)*(Deck!$C$1:$C$346=C41)*(Deck!$F$1:$F$346=D41),0),0))*E41,"Introuvable")) | I41: =VLOOKUP(B41,Deck!D:E,2,FALSE) -> #N/A
F42: =IF(OR(B42="",C42="",D42=""),"",IFERROR(INDEX(Deck!$H$1:$H$346,MATCH(1,INDEX((TRIM(SUBSTITUTE(SUBSTITUTE(Deck!$D$1:$D$346,"™",""),"®",""))=B42)*(Deck!$C$1:$C$346=C42)*(Deck!$F$1:$F$346=D42),0),0))*E42,"Introuvable")) | G42: =IF(OR(B42="",C42="",D42=""),"",IFERROR(INDEX(Deck!$I$1:$I$346,MATCH(1,INDEX((TRIM(SUBSTITUTE(SUBSTITUTE(Deck!$D$1:$D$346,"™",""),"®",""))=B42)*(Deck!$C$1:$C$346=C42)*(Deck!$F$1:$F$346=D42),0),0))*E42,"Introuvable")) | H42: =IF(OR(B42="",C42="",D42=""),"",IFERROR(INDEX(Deck!$J$1:$J$346,MATCH(1,INDEX((TRIM(SUBSTITUTE(SUBSTITUTE(Deck!$D$1:$D$346,"™",""),"®",""))=B42)*(Deck!$C$1:$C$346=C42)*(Deck!$F$1:$F$346=D42),0),0))*E42,"Introuvable")) | I42: =VLOOKUP(B42,Deck!D:E,2,FALSE) -> #N/A
F43: =IF(OR(B43="",C43="",D43=""),"",IFERROR(INDEX(Deck!$H$1:$H$346,MATCH(1,INDEX((TRIM(SUBSTITUTE(SUBSTITUTE(Deck!$D$1:$D$346,"™",""),"®",""))=B43)*(Deck!$C$1:$C$346=C43)*(Deck!$F$1:$F$346=D43),0),0))*E43,"Introuvable")) | G43: =IF(OR(B43="",C43="",D43=""),"",IFERROR(INDEX(Deck!$I$1:$I$346,MATCH(1,INDEX((TRIM(SUBSTITUTE(SUBSTITUTE(Deck!$D$1:$D$346,"™",""),"®",""))=B43)*(Deck!$C$1:$C$346=C43)*(Deck!$F$1:$F$346=D43),0),0))*E43,"Introuvable")) | H43: =IF(OR(B43="",C43="",D43=""),"",IFERROR(INDEX(Deck!$J$1:$J$346,MATCH(1,INDEX((TRIM(SUBSTITUTE(SUBSTITUTE(Deck!$D$1:$D$346,"™",""),"®",""))=B43)*(Deck!$C$1:$C$346=C43)*(Deck!$F$1:$F$346=D43),0),0))*E43,"Introuvable")) | I43: =VLOOKUP(B43,Deck!D:E,2,FALSE) -> #N/A
F44: =IF(OR(B44="",C44="",D44=""),"",IFERROR(INDEX(Deck!$H$1:$H$346,MATCH(1,INDEX((TRIM(SUBSTITUTE(SUBSTITUTE(Deck!$D$1:$D$346,"™",""),"®",""))=B44)*(Deck!$C$1:$C$346=C44)*(Deck!$F$1:$F$346=D44),0),0))*E44,"Introuvable")) | G44: =IF(OR(B44="",C44="",D44=""),"",IFERROR(INDEX(Deck!$I$1:$I$346,MATCH(1,INDEX((TRIM(SUBSTITUTE(SUBSTITUTE(Deck!$D$1:$D$346,"™",""),"®",""))=B44)*(Deck!$C$1:$C$346=C44)*(Deck!$F$1:$F$346=D44),0),0))*E44,"Introuvable")) | H44: =IF(OR(B44="",C44="",D44=""),"",IFERROR(INDEX(Deck!$J$1:$J$346,MATCH(1,INDEX((TRIM(SUBSTITUTE(SUBSTITUTE(Deck!$D$1:$D$346,"™",""),"®",""))=B44)*(Deck!$C$1:$C$346=C44)*(Deck!$F$1:$F$346=D44),0),0))*E44,"Introuvable")) | I44: =VLOOKUP(B44,Deck!D:E,2,FALSE) -> #N/A
F45: =IF(OR(B45="",C45="",D45=""),"",IFERROR(INDEX(Deck!$H$1:$H$346,MATCH(1,INDEX((TRIM(SUBSTITUTE(SUBSTITUTE(Deck!$D$1:$D$346,"™",""),"®",""))=B45)*(Deck!$C$1:$C$346=C45)*(Deck!$F$1:$F$346=D45),0),0))*E45,"Introuvable")) | G45: =IF(OR(B45="",C45="",D45=""),"",IFERROR(INDEX(Deck!$I$1:$I$346,MATCH(1,INDEX((TRIM(SUBSTITUTE(SUBSTITUTE(Deck!$D$1:$D$346,"™",""),"®",""))=B45)*(Deck!$C$1:$C$346=C45)*(Deck!$F$1:$F$346=D45),0),0))*E45,"Introuvable")) | H45: =IF(OR(B45="",C45="",D45=""),"",IFERROR(INDEX(Deck!$J$1:$J$346,MATCH(1,INDEX((TRIM(SUBSTITUTE(SUBSTITUTE(Deck!$D$1:$D$346,"™",""),"®",""))=B45)*(Deck!$C$1:$C$346=C45)*(Deck!$F$1:$F$346=D45),0),0))*E45,"Introuvable")) | I45: =VLOOKUP(B45,Deck!D:E,2,FALSE) -> #N/A
... F51: =IF(OR(B51="",C51="",D51=""),"",IFERROR(INDEX(Deck!$H$1:$H$346,MATCH(1,INDEX((TRIM(SUBSTITUTE(SUBSTITUTE(Deck!$D$1:$D$346,"™",""),"®",""))=B51)*(Deck!$C$1:$C$346=C51)*(Deck!$F$1:$F$346=D51),0),0))*E51,"Introuvable")) | G51: =IF(OR(B51="",C51="",D51=""),"",IFERROR(INDEX(Deck!$I$1:$I$346,MATCH(1,INDEX((TRIM(SUBSTITUTE(SUBSTITUTE(Deck!$D$1:$D$346,"™",""),"®",""))=B51)*(Deck!$C$1:$C$346=C51)*(Deck!$F$1:$F$346=D51),0),0))*E51,"Introuvable")) | H51: =IF(OR(B51="",C51="",D51=""),"",IFERROR(INDEX(Deck!$J$1:$J$346,MATCH(1,INDEX((TRIM(SUBSTITUTE(SUBSTITUTE(Deck!$D$1:$D$346,"™",""),"®",""))=B51)*(Deck!$C$1:$C$346=C51)*(Deck!$F$1:$F$346=D51),0),0))*E51,"Introuvable")) | I51: =VLOOKUP(B51,Deck!D:E,2,FALSE) -> #N/A

Sheet Sheet2
A4: MARITIME GRAY
A5: DARK TEAK
A6: COCONUT HUSK
A7: SEA SALT GRAY
A8: DARK COCOA
A9: DARK OAK
A10: WEATHERED OAK
A11: NATURAL WHITE OAK
A12: ANTIQUE LEATHER
A13: DARK ROAST
A14: DRIFTWOOD
A15: RECLAIMED CHESTNUT
... A35: MAHOGANY

Sheet Deck
G1: SQ FT CONVERSION FACTORS | K1: FOB: See location below Pricing effective Nov 2, 2026 Min. Weight - 43,000 lbs. Max. Weight - 46,500 lbs.
A2: Items in YELLOW represent products that are NEW or have CHANGED | G2: 3.5 | H2: 5.5 | I2: 7.5 | J2: 12
A3: Items in GRAY represent products that have been DISCONTINUED | G3: 0.2917 | H3: 0.4583 | I3: 0.625 | J3: 1
A4: ADVANCED PVC DECKING
A5: Item Number | B5: MATERIAL | C5: PROFILE | D5: Color | E5: MATERIAL | F5: Length (ft.) | G5: Eaches/Unit | H5: Approx. Unit Weight (lbs.) | I5: TOTAL LN FT | J5: TOTAL SQ FT | K5: FOB | L5: UPC
A6: HARVEST COLLECTION®
A7: ADCB15512BS | B7: PVC | C7: SQUARE EDGE | D7: Brownstone | E7: PVC | F7: 12 | G7: 64 | H7: 1252 | I7: =F7*G7 -> 768 | J7: =ROUND($I7*$H$3,0) -> 352 | K7: Wilmington, Scranton, & Boise | L7: 0835490005637
A8: ADCB15516BS | B8: PVC | C8: SQUARE EDGE | D8: Brownstone | E8: PVC | F8: 16 | G8: 64 | H8: 1668 | I8: =F8*G8 -> 1024 | J8: =ROUND($I8*$H$3,0) -> 469 | K8: Wilmington, Scranton, & Boise | L8: 0835490005644
A9: ADCB15520BS | B9: PVC | C9: SQUARE EDGE | D9: Brownstone | E9: PVC | F9: 20 | G9: 64 | H9: 2085 | I9: =F9*G9 -> 1280 | J9: =ROUND($I9*$H$3,0) -> 587 | K9: Wilmington, Scranton, & Boise | L9: 0835490005651
A10: AGB15512BS | B10: PVC | C10: GROOVED EDGE | D10: Brownstone | E10: PVC | F10: 12 | G10: 64 | H10: 1201.92 | I10: =F10*G10 -> 768 | J10: =ROUND($I10*$H$3,0) -> 352 | K10: Wilmington, Scranton, & Boise | L10: 0835490008782
A11: AGB15516BS | B11: PVC | C11: GROOVED EDGE | D11: Brownstone | E11: PVC | F11: 16 | G11: 64 | H11: 1601.28 | I11: =F11*G11 -> 1024 | J11: =ROUND($I11*$H$3,0) -> 469 | K11: Wilmington, Scranton, & Boise | L11: 0835490008799
A12: AGB15520BS | B12: PVC | C12: GROOVED EDGE | D12: Brownstone | E12: PVC | F12: 20 | G12: 64 | H12: 2001.6 | I12: =F12*G12 -> 1280 | J12: =ROUND($I12*$H$3,0) -> 587 | K12: Wilmington, Scranton, & Boise | L12: 0835490008805
A13: ADCB15512SG | B13: PVC | C13: SQUARE EDGE | D13: Slate Gray | E13: PVC | F13: 12 | G13: 64 | H13: 1252 | I13: =F13*G13 -> 768 | J13: =ROUND($I13*$H$3,0) -> 352 | K13: Wilmington, Scranton, & Boise | L13: 0835490005668
A14: ADCB15516SG | B14: PVC | C14: SQUARE EDGE | D14: Slate Gray | E14: PVC | F14: 16 | G14: 64 | H14: 1668 | I14: =F14*G14 -> 1024 | J14: =ROUND($I14*$H$3,0) -> 469 | K14: Wilmington, Scranton, & Boise | L14: 0835490005675
A15: ADCB15520SG | B15: PVC | C15: SQUARE EDGE | D15: Slate Gray | E15: PVC | F15: 20 | G15: 64 | H15: 2085 | I15: =F15*G15 -> 1280 | J15: =ROUND($I15*$H$3,0) -> 587 | K15: Wilmington, Scranton, & Boise | L15: 0835490005682
A16: AGB15512SG | B16: PVC | C16: GROOVED EDGE | D16: Slate Gray | E16: PVC | F16: 12 | G16: 64 | H16: 1201.92 | I16: =F16*G16 -> 768 | J16: =ROUND($I16*$H$3,0) -> 352 | K16: Wilmington, Scranton, & Boise | L16: 0835490008812
A17: AGB15516SG | B17: PVC | C17: GROOVED EDGE | D17: Slate Gray | E17: PVC | F17: 16 | G17: 64 | H17: 1601.28 | I17: =F17*G17 -> 1024 | J17: =ROUND($I17*$H$3,0) -> 469 | K17: Wilmington, Scranton, & Boise | L17: 0835490008829
A18: AGB15520SG | B18: PVC | C18: GROOVED EDGE | D18: Slate Gray | E18: PVC | F18: 20 | G18: 64 | H18: 2001.6 | I18: =F18*G18 -> 1280 | J18: =ROUND($I18*$H$3,0) -> 587 | K18: Wilmington, Scranton, & Boise | L18: 0835490008836
... A33: AGB15520TWH | B33: PVC | C33: GROOVED EDGE | D33: Toasted Wheat | E33: PVC | F33: 20 | G33: 64 | H33: 2002 | I33: =F33*G33 -> 1280 | J33: =ROUND($I33*$H$3,0) -> 587 | K33: Wilmington, OH & Boise, ID | L33: 0683531052924
A34: HARVEST COLLECTION® WIDE WIDTH DECKING
A35: ADCB172516BS | B35: PVC | C35: SQUARE EDGE | D35: Brownstone | E35: PVC | F35: 16 | G35: 48 | H35: 1649 | I35: =F35*G35 -> 768 | J35: =ROUND($I35*$I$3,0) -> 480 | K35: Scranton, PA | L35: 0835490010945
A36: ADCB172520BS | B36: PVC | C36: SQUARE EDGE | D36: Brownstone | E36: PVC | F36: 20 | G36: 48 | H36: 2061 | I36: =F36*G36 -> 960 | J36: =ROUND($I36*$I$3,0) -> 600 | K36: Scranton, PA | L36: 0835490010952
A37: ADCB172516SG | B37: PVC | C37: SQUARE EDGE | D37: Slate Gray | E37: PVC | F37: 16 | G37: 48 | H37: 1649 | I37: =F37*G37 -> 768 | J37: =ROUND($I37*$I$3,0) -> 480 | K37: Scranton, PA | L37: 0835490010914
A38: ADCB172520SG | B38: PVC | C38: SQUARE EDGE | D38: Slate Gray | E38: PVC | F38: 20 | G38: 48 | H38: 2061 | I38: =F38*G38 -> 960 | J38: =ROUND($I38*$I$3,0) -> 600 | K38: Scranton, PA | L38: 0835490010921
A39: FASCIA & RISER
A40: ADCR5117512BS | B40: PVC | C40: FASCIA | D40: Brownstone | E40: PVC | F40: 12 | G40: 36 | H40: 660 | I40: =F40*G40 -> 432 | J40: =ROUND($I40*$J$3,0) -> 432 | K40: Wilmington, Boise, ID | L40: 0835490005729
A41: ADCR5117512SG | B41: PVC | C41: FASCIA | D41: Slate Gray | E41: PVC | F41: 12 | G41: 36 | H41: 660 | I41: =F41*G41 -> 432 | J41: =ROUND($I41*$J$3,0) -> 432 | K41: Wilmington, Boise, ID | L41: 0835490005736
A42: ADR5117512KOAAT | B42: PVC | C42: FASCIA | D42: Kona® | E42: PVC | F42: 12 | G42: 36 | H42: 660 | I42: =F42*G42 -> 432 | J42: =ROUND($I42*$J$3,0) -> 432 | K42: Wilmington, Boise, ID | L42: 0683531029735
A43: ARISER72512BS | B43: PVC | C43: RISER | D43: Brownstone | E43: PVC | F43: 12 | G43: 42 | H43: 840 | I43: =F43*G43 -> 504 | J43: =ROUND($I43*$I$3,0) -> 315 | K43: Wilmington, OH / Boise, ID | L43: 0683531051866
A44: ARISER72512SG | B44: PVC | C44: RISER | D44: Slate Gray | E44: PVC | F44: 12 | G44: 42 | H44: 840 | I44: =F44*G44 -> 504 | J44: =ROUND($I44*$I$3,0) -> 315 | K44: Wilmington, OH / Boise, ID | L44: 0683531051873
A45: ARISER72512KO | B45: PVC | C45: RISER | D45: Kona® | E45: PVC | F45: 12 | G45: 42 | H45: 840 | I45: =F45*G45 -> 504 | J45: =ROUND($I45*$I$3,0) -> 315 | K45: Wilmington, OH / Boise, ID | L45: 0683531051880
A46: ADR5117512TBG | B46: PVC | C46: FASCIA | D46: Timber Gray | E46: PVC | F46: 12 | G46: 36 | H46: 660 | I46: =F46*G46 -> 432 | J46: =ROUND($I46*$J$3,0) -> 432 | K46: Wilmington, OH & Boise, ID | L46: 0683531052931
A47: ADR5117512TWH | B47: PVC | C47: FASCIA | D47: Toasted Wheat | E47: PVC | F47: 12 | G47: 36 | H47: 660 | I47: =F47*G47 -> 432 | J47: =ROUND($I47*$J$3,0) -> 432 | K47: Wilmington, OH & Boise, ID | L47: 0683531052948
A48: ARISER72512TBG | B48: PVC | C48: RISER | D48: Timber Gray | E48: PVC | F48: 12 | G48: 42 | H48: 840 | I48: =F48*G48 -> 504 | J48: =ROUND($I48*$I$3,0) -> 315 | K48: Wilmington, OH & Boise, ID | L48: 0683531052955
A49: ARISER72512TWH | B49: PVC | C49: RISER | D49: Toasted Wheat | E49: PVC | F49: 12 | G49: 42 | H49: 840 | I49: =F49*G49 -> 504 | J49: =ROUND($I49*$I$3,0) -> 315 | K49: Wilmington, OH & Boise, ID | L49: 0683531052962
A50: HARVEST COLLECTION® MAX
A51: ADCB25512SG | B51: PVC | C51: SQUARE EDGE | D51: Slate Gray | E51: PVC | F51: 12 | G51: 40 | H51: 1152 | I51: =F51*G51 -> 480 | J51: =ROUND($I51*$H$3,0) -> 220 | K51: Wilmington, OH | L51: 0683531039161
A52: ADCB25516SG | B52: PVC | C52: SQUARE EDGE | D52: Slate Gray | E52: PVC | F52: 16 | G52: 40 | H52: 1536 | I52: =F52*G52 -> 640 | J52: =ROUND($I52*$H$3,0) -> 293 | K52: Wilmington, OH | L52: 0683531039178
A53: ADCB25520SG | B53: PVC | C53: SQUARE EDGE | D53: Slate Gray | E53: PVC | F53: 20 | G53: 40 | H53: 1920 | I53: =F53*G53 -> 800 | J53: =ROUND($I53*$H$3,0) -> 367 | K53: Wilmington, OH | L53: 0683531039185
A54: LANDMARK COLLECTION
A55: ADB15512CG | B55: PVC | C55: SQUARE EDGE | D55: Castle Gate | E55: PVC | F55: 12 | G55: 64 | H55: 1252 | I55: =F55*G55 -> 768 | J55: =ROUND($I55*$H$3,0) -> 352 | K55: Wilmington, Scranton, & Boise | L55: 0683531042819
A56: ADB15516CG | B56: PVC | C56: SQUARE EDGE | D56: Castle Gate | E56: PVC | F56: 16 | G56: 64 | H56: 1668 | I56: =F56*G56 -> 1024 | J56: =ROUND($I56*$H$3,0) -> 469 | K56: Wilmington, Scranton, & Boise | L56: 0683531042826
A57: ADB15520CG | B57: PVC | C57: SQUARE EDGE | D57: Castle Gate | E57: PVC | F57: 20 | G57: 64 | H57: 2085 | I57: =F57*G57 -> 1280 | J57: =ROUND($I57*$H$3,0) -> 587 | K57: Wilmington, Scranton, & Boise | L57: 0683531042833
A58: AGB15512CG | B58: PVC | C58: GROOVED EDGE | D58: Castle Gate | E58: PVC | F58: 12 | G58: 64 | H58: 1202 | I58: =F58*G58 -> 768 | J58: =ROUND($I58*$H$3,0) -> 352 | K58: Wilmington, Scranton, & Boise | L58: 0683531042840
A59: AGB15516CG | B59: PVC | C59: GROOVED EDGE | D59: Castle Gate | E59: PVC | F59: 16 | G59: 64 | H59: 1601 | I59: =F59*G59 -> 1024 | J59: =ROUND($I59*$H$3,0) -> 469 | K59: Wilmington, Scranton, & Boise | L59: 0683531042857
A60: AGB15520CG | B60: PVC | C60: GROOVED EDGE | D60: Castle Gate | E60: PVC | F60: 20 | G60: 64 | H60: 2002 | I60: =F60*G60 -> 1280 | J60: =ROUND($I60*$H$3,0) -> 587 | K60: Wilmington, Scranton, & Boise | L60: 0683531042864
A61: ADB15512AW | B61: PVC | C61: SQUARE EDGE | D61: American Walnut | E61: PVC | F61: 12 | G61: 64 | H61: 1252 | I61: =F61*G61 -> 768 | J61: =ROUND($I61*$H$3,0) -> 352 | K61: Wilmington, OH & Boise, ID | L61: 0683531042871
A62: ADB15516AW | B62: PVC | C62: SQUARE EDGE | D62: American Walnut | E62: PVC | F62: 16 | G62: 64 | H62: 1668 | I62: =F62*G62 -> 1024 | J62: =ROUND($I62*$H$3,0) -> 469 | K62: Wilmington, OH & Boise, ID | L62: 0683531042888
A63: ADB15520AW | B63: PVC | C63: SQUARE EDGE | D63: American Walnut | E63: PVC | F63: 20 | G63: 64 | H63: 2085 | I63: =F63*G63 -> 1280 | J63: =ROUND($I63*$H$3,0) -> 587 | K63: Wilmington, OH & Boise, ID | L63: 0683531042895
A64: AGB15512AW | B64: PVC | C64: GROOVED EDGE | D64: American Walnut | E64: PVC | F64: 12 | G64: 64 | H64: 1202 | I64: =F64*G64 -> 768 | J64: =ROUND($I64*$H$3,0) -> 352 | K64: Wilmington, OH & Boise, ID | L64: 0683531042901
A65: AGB15516AW | B65: PVC | C65: GROOVED EDGE | D65: American Walnut | E65: PVC | F65: 16 | G65: 64 | H65: 1601 | I65: =F65*G65 -> 1024 | J65: =ROUND($I65*$H$3,0) -> 469 | K65: Wilmington, OH & Boise, ID | L65: 0683531042918
A66: AGB15520AW | B66: PVC | C66: GROOVED EDGE | D66: American Walnut | E66: PVC | F66: 20 | G66: 64 | H66: 2002 | I66: =F66*G66 -> 1280 | J66: =ROUND($I66*$H$3,0) -> 587 | K66: Wilmington, OH & Boise, ID | L66: 0683531042925
... A78: AGB15520BD | B78: PVC | C78: GROOVED EDGE | D78: Boardwalk | E78: PVC | F78: 20 | G78: 64 | H78: 2002 | I78: =F78*G78 -> 1280 | J78: =ROUND($I78*$H$3,0) -> 587 | K78: Wilmington, OH & Boise, ID | L78: 0683531049610
A79: FASCIA & RISER
A80: ADR5117512CG | B80: PVC | C80: FASCIA | D80: Castle Gate | E80: PVC | F80: 12 | G80: 36 | H80: 660 | I80: =F80*G80 -> 432 | J80: =ROUND($I80*$J$3,0) -> 432 | K80: Wilmington, OH & Boise, ID | L80: 0683531042994
A81: ADR5117512AW | B81: PVC | C81: FASCIA | D81: American Walnut | E81: PVC | F81: 12 | G81: 36 | H81: 660 | I81: =F81*G81 -> 432 | J81: =ROUND($I81*$J$3,0) -> 432 | K81: Wilmington, OH & Boise, ID | L81: 0683531043007
A82: ADR5117512FW | B82: PVC | C82: FASCIA | D82: French White Oak | E82: PVC | F82: 12 | G82: 36 | H82: 660 | I82: =F82*G82 -> 432 | J82: =ROUND($I82*$J$3,0) -> 432 | K82: Wilmington, OH & Boise, ID | L82: 0683531043014
A83: ADR5117512BD | B83: PVC | C83: FASCIA | D83: Boardwalk | E83: PVC | F83: 12 | G83: 36 | H83: 660 | I83: =F83*G83 -> 432 | J83: =ROUND($I83*$J$3,0) -> 432 | K83: Wilmington, OH & Boise, ID | L83: 0683531048781
A84: ARISER72512CG | B84: PVC | C84: RISER | D84: Castle Gate | E84: PVC | F84: 12 | G84: 42 | H84: 840 | I84: =F84*G84 -> 504 | J84: =ROUND($I84*$I$3,0) -> 315 | K84: Wilmington, OH & Boise, ID | L84: 0683531051897
A85: ARISER72512AW | B85: PVC | C85: RISER | D85: American Walnut | E85: PVC | F85: 12 | G85: 42 | H85: 840 | I85: =F85*G85 -> 504 | J85: =ROUND($I85*$I$3,0) -> 315 | K85: Wilmington, OH & Boise, ID | L85: 0683531051903
A86: ARISER72512FW | B86: PVC | C86: RISER | D86: French White Oak | E86: PVC | F86: 12 | G86: 42 | H86: 840 | I86: =F86*G86 -> 504 | J86: =ROUND($I86*$I$3,0) -> 315 | K86: Wilmington, OH & Boise, ID | L86: 0683531051910
A87: ARISER72512BD | B87: PVC | C87: RISER | D87: Boardwalk | E87: PVC | F87: 12 | G87: 42 | H87: 840 | I87: =F87*G87 -> 504 | J87: =ROUND($I87*$I$3,0) -> 315 | K87: Wilmington, OH & Boise, ID | L87: 0683531051927
A88: ADVANCED PVC DECKING
A89: Item Number | C89: Product Description | D89: Color | F89: Length (ft.) | G89: Eaches/Unit | H89: Approx. Unit Weight (lbs.) | I89: $/piece Standard | J89: $/LF Standard | K89: FOB | L89: UPC
A90: VINTAGE COLLECTION®
A91: ADB15512MH | B91: PVC | C91: SQUARE EDGE | D91: Mahogany | E91: PVC | F91: 12 | G91: 64 | H91: 1252 | I91: =F91*G91 -> 768 | J91: =ROUND($I91*$H$3,0) -> 352 | K91: Wilmington, OH | L91: 0683531030113
A92: ADB15516MH | B92: PVC | C92: SQUARE EDGE | D92: Mahogany | E92: PVC | F92: 16 | G92: 64 | H92: 1668 | I92: =F92*G92 -> 1024 | J92: =ROUND($I92*$H$3,0) -> 469 | K92: Wilmington, Boise | L92: 0835490008843
A93: ADB15520MH | B93: PVC | C93: SQUARE EDGE | D93: Mahogany | E93: PVC | F93: 20 | G93: 64 | H93: 2085 | I93: =F93*G93 -> 1280 | J93: =ROUND($I93*$H$3,0) -> 587 | K93: Wilmington, Boise | L93: 0835490008850
A94: AGB15512MH | B94: PVC | C94: GROOVED EDGE | D94: Mahogany | E94: PVC | F94: 12 | G94: 64 | H94: =1252*0.96 -> 1201.92 | I94: =F94*G94 -> 768 | J94: =ROUND($I94*$H$3,0) -> 352 | K94: Wilmington, Boise | L94: 0835490008867
A95: AGB15516MH | B95: PVC | C95: GROOVED EDGE | D95: Mahogany | E95: PVC | F95: 16 | G95: 64 | H95: =1668*0.96 -> 1601.28 | I95: =F95*G95 -> 1024 | J95: =ROUND($I95*$H$3,0) -> 469 | K95: Wilmington, Boise | L95: 0835490008874
A96: AGB15520MH | B96: PVC | C96: GROOVED EDGE | D96: Mahogany | E96: PVC | F96: 20 | G96: 64 | H96: =2085*0.96 -> 2001.6 | I96: =F96*G96 -> 1280 | J96: =ROUND($I96*$H$3,0) -> 587 | K96: Wilmington, Boise | L96: 0835490008881
A97: ADB15512CY | B97: PVC | C97: SQUARE EDGE | D97: Cypress | E97: PVC | F97: 12 | G97: 64 | H97: 1252 | I97: =F97*G97 -> 768 | J97: =ROUND($I97*$H$3,0) -> 352 | K97: Wilmington, OH | L97: 0683531030120
A98: ADB15516CY | B98: PVC | C98: SQUARE EDGE | D98: Cypress | E98: PVC | F98: 16 | G98: 64 | H98: 1668 | I98: =F98*G98 -> 1024 | J98: =ROUND($I98*$H$3,0) -> 469 | K98: Wilmington, Boise | L98: 0835490008898
A99: ADB15520CY | B99: PVC | C99: SQUARE EDGE | D99: Cypress | E99: PVC | F99: 20 | G99: 64 | H99: 2085 | I99: =F99*G99 -> 1280 | J99: =ROUND($I99*$H$3,0) -> 587 | K99: Wilmington, Boise | L99: 0835490008904
A100: AGB15512CY | B100: PVC | C100: GROOVED EDGE | D100: Cypress | E100: PVC | F100: 12 | G100: 64 | H100: =1252*0.96 -> 1201.92 | I100: =F100*G100 -> 768 | J100: =ROUND($I100*$H$3,0) -> 352 | K100: Wilmington, Boise | L100: 0835490008911
A101: AGB15516CY | B101: PVC | C101: GROOVED EDGE | D101: Cypress | E101: PVC | F101: 16 | G101: 64 | H101: =1668*0.96 -> 1601.28 | I101: =F101*G101 -> 1024 | J101: =ROUND($I101*$H$3,0) -> 469 | K101: Wilmington, Boise | L101: 0835490008928
A102: AGB15520CY | B102: PVC | C102: GROOVED EDGE | D102: Cypress | E102: PVC | F102: 20 | G102: 64 | H102: =2085*0.96 -> 2001.6 | I102: =F102*G102 -> 1280 | J102: =ROUND($I102*$H$3,0) -> 587 | K102: Wilmington, Boise | L102: 0835490008935
A103: ADB15512DH | B103: PVC | C103: SQUARE EDGE | D103: Dark Hickory | E103: PVC | F103: 12 | G103: 64 | H103: 1252 | I103: =F103*G103 -> 768 | J103: =ROUND($I103*$H$3,0) -> 352 | K103: Wilmington, OH | L103: 0683531030137
A104: ADB15516DH | B104: PVC | C104: SQUARE EDGE | D104: Dark Hickory | E104: PVC | F104: 16 | G104: 64 | H104: 1668 | I104: =F104*G104 -> 1024 | J104: =ROUND($I104*$H$3,0) -> 469 | K104: Wilmington, Boise | L104: 0835490008942
A105: ADB15520DH | B105: PVC | C105: SQUARE EDGE | D105: Dark Hickory | E105: PVC | F105: 20 | G105: 64 | H105: 2085 | I105: =F105*G105 -> 1280 | J105: =ROUND($I105*$H$3,0) -> 587 | K105: Wilmington, Boise | L105: 0835490008959
A106: AGB15512DH | B106: PVC | C106: GROOVED EDGE | D106: Dark Hickory | E106: PVC | F106: 12 | G106: 64 | H106: =1252*0.96 -> 1201.92 | I106: =F106*G106 -> 768 | J106: =ROUND($I106*$H$3,0) -> 352 | K106: Wilmington, Boise | L106: 0835490008966
A107: AGB15516DH | B107: PVC | C107: GROOVED EDGE | D107: Dark Hickory | E107: PVC | F107: 16 | G107: 64 | H107: =1668*0.96 -> 1601.28 | I107: =F107*G107 -> 1024 | J107: =ROUND($I107*$H$3,0) -> 469 | K107: Wilmington, Boise | L107: 0835490008973
A108: AGB15520DH | B108: PVC | C108: GROOVED EDGE | D108: Dark Hickory | E108: PVC | F108: 20 | G108: 64 | H108: =2085*0.96 -> 2001.6 | I108: =F108*G108 -> 1280 | J108: =ROUND($I108*$H$3,0) -> 587 | K108: Wilmington, Boise | L108: 0835490008980
A109: ADB15512CS | B109: PVC | C109: SQUARE EDGE | D109: Coastline | E109: PVC | F109: 12 | G109: 64 | H109: 1252 | I109: =F109*G109 -> 768 | J109: =ROUND($I109*$H$3,0) -> 352 | K109: Wilmington, OH | L109: 0683531033374
A110: ADB15516CS | B110: PVC | C110: SQUARE EDGE | D110: Coastline | E110: PVC | F110: 16 | G110: 64 | H110: 1668 | I110: =F110*G110 -> 1024 | J110: =ROUND($I110*$H$3,0) -> 469 | K110: Wilmington, Boise | L110: 0683531033381
A111: ADB15520CS | B111: PVC | C111: SQUARE EDGE | D111: Coastline | E111: PVC | F111: 20 | G111: 64 | H111: 2085 | I111: =F111*G111 -> 1280 | J111: =ROUND($I111*$H$3,0) -> 587 | K111: Wilmington, Boise | L111: 0683531033398
A112: AGB15512CS | B112: PVC | C112: GROOVED EDGE | D112: Coastline | E112: PVC | F112: 12 | G112: 64 | H112: 1202 | I112: =F112*G112 -> 768 | J112: =ROUND($I112*$H$3,0) -> 352 | K112: Wilmington, Boise | L112: 0683531032476
A113: AGB15516CS | B113: PVC | C113: GROOVED EDGE | D113: Coastline | E113: PVC | F113: 16 | G113: 64 | H113: 1601 | I113: =F113*G113 -> 1024 | J113: =ROUND($I113*$H$3,0) -> 469 | K113: Wilmington, Boise | L113: 0683531033404
A114: AGB15520CS | B114: PVC | C114: GROOVED EDGE | D114: Coastline | E114: PVC | F114: 20 | G114: 64 | H114: 2002 | I114: =F114*G114 -> 1280 | J114: =ROUND($I114*$H$3,0) -> 587 | K114: Wilmington, Boise | L114: 0683531033411
A115: ADB15512EW | B115: PVC | C115: SQUARE EDGE | D115: English Walnut | E115: PVC | F115: 12 | G115: 64 | H115: 1252 | I115: =F115*G115 -> 768 | J115: =ROUND($I115*$H$3,0) -> 352 | K115: Wilmington, OH | L115: 0683531033497
A116: ADB15516EW | B116: PVC | C116: SQUARE EDGE | D116: English Walnut | E116: PVC | F116: 16 | G116: 64 | H116: 1668 | I116: =F116*G116 -> 1024 | J116: =ROUND($I116*$H$3,0) -> 469 | K116: Wilmington, Boise | L116: 0683531033503
A117: ADB15520EW | B117: PVC | C117: SQUARE EDGE | D117: English Walnut | E117: PVC | F117: 20 | G117: 64 | H117: 2085 | I117: =F117*G117 -> 1280 | J117: =ROUND($I117*$H$3,0) -> 587 | K117: Wilmington, Boise | L117: 0683531033510
A118: AGB15512EW | B118: PVC | C118: GROOVED EDGE | D118: English Walnut | E118: PVC | F118: 12 | G118: 64 | H118: 1202 | I118: =F118*G118 -> 768 | J118: =ROUND($I118*$H$3,0) -> 352 | K118: Wilmington, Boise | L118: 0683531033527
A119: AGB15516EW | B119: PVC | C119: GROOVED EDGE | D119: English Walnut | E119: PVC | F119: 16 | G119: 64 | H119: 1601 | I119: =F119*G119 -> 1024 | J119: =ROUND($I119*$H$3,0) -> 469 | K119: Wilmington, Boise | L119: 0683531033534
A120: AGB15520EW | B120: PVC | C120: GROOVED EDGE | D120: English Walnut | E120: PVC | F120: 20 | G120: 64 | H120: 2002 | I120: =F120*G120 -> 1280 | J120: =ROUND($I120*$H$3,0) -> 587 | K120: Wilmington, Boise | L120: 0683531033541
... A126: AGB15520WT | B126: PVC | C126: GROOVED EDGE | D126: Weathered Teak | E126: PVC | F126: 20 | G126: 64 | H126: 2002 | I126: =F126*G126 -> 1280 | J126: =ROUND($I126*$H$3,0) -> 587 | K126: Wilmington, Boise | L126: 0683531033473
A127: VINTAGE COLLECTION® WIDE WIDTH DECKING
A128: ADB172516MH | B128: PVC | C128: SQUARE EDGE | D128: Mahogany | E128: PVC | F128: 16 | G128: 48 | H128: 1649 | I128: =F128*G128 -> 768 | J128: =ROUND($I128*$I$3,0) -> 480 | K128: Scranton, PA | L128: 0683531037532
A129: ADB172520MH | B129: PVC | C129: SQUARE EDGE | D129: Mahogany | E129: PVC | F129: 20 | G129: 48 | H129: 2061 | I129: =F129*G129 -> 960 | J129: =ROUND($I129*$I$3,0) -> 600 | K129: Scranton, PA | L129: 0683531037587
A130: ADB172516CY | B130: PVC | C130: SQUARE EDGE | D130: Cypress | E130: PVC | F130: 16 | G130: 48 | H130: 1649 | I130: =F130*G130 -> 768 | J130: =ROUND($I130*$I$3,0) -> 480 | K130: Scranton, PA | L130: 0683531037501
...

Sheet Deck Fastening
G1: FOB: See location below Pricing effective Nov 2, 2026 Min. Weight - 43,000 lbs. Max. Weight - 46,500 lbs.
A2: Items in YELLOW represent products that are NEW or have CHANGED
A3: Items in GRAY represent products that have been DISCONTINUED
A4: DECK FASTENING
A5: Item Number | B5: Product Description | C5: Color | D5: Length (ft.) | E5: Eaches/Unit | F5: Approx. Unit Weight (lbs.) | G5: LN FT PER | H5: SQ FT PER | I5: $/Bundle | J5: FOB | K5: UPC
A6: CONCEALoc® Hidden Fastener
A7: CLOCFAST | B7: CONCEALoc Hidden Fastener - Unit = 8 retail cartons @ 100 sq.ft. coverage each (175 CONCEALoc fasteners, 184 screws and drive bit) | C7: Brown | E7: 8 | F7: 34 | H7: 100 | J7: Wilmington, OH | K7: 0683531003858
A8: CLOCBULK | B8: CONCEALoc Hidden Fastener - Bulk Bucket = 1,000 sq. ft. coverage (1750 CONCEALoc fasteners) | C8: Brown | E8: 1 bucket | F8: 43 | H8: 1000 | J8: Wilmington, OH | K8: 0683531004428
A9: CLOCGUNPAIL | B9: CONCEALoc Hidden Fastener - 500 sq. ft. coverage (900 CONCEALoc fasteners) with collated pneumatic screws for use with Tiger Claw pneumatic installation tool | C9: Brown | E9: 1 bucket | F9: 20 | H9: 500 | J9: Wilmington, OH | K9: 0683531008372
A10: CLOCRBIT | B10: CONCEALoc Groove Cutting Router Bit | E10: 6 | F10: 3 | J10: Wilmington, OH | K10: 0683531008334
A11: CLOCSCREW | B11: CONCEALoc Replacement Screws - 50 screws and drive bit per retail bag | C11: Black | E11: 20 | F11: 6 | H11: =G11*E11 -> 0 | J11: Wilmington, OH | K11: 0683531008358
A12: CLOCLBKT | B12: CONCEALoc L-Bracket - for use as start/stop and butt seam clip - 50 clips, 53 plank screws, 53 joist screws and drive bit per retail bag | C12: Tan | E12: 10 | F12: 13 | H12: =G12*E12 -> 0 | J12: Wilmington, OH | K12: 0683531009225
A13: EDGELoc® Hidden Fastener - for use with Prime, Prime+, and Premier Decking
A14: ELOC55 | B14: EDGELoc Hidden Fastener - Unit = 6 retail cartons @ 55 sq.ft. coverage each (96 EdgeLoc glass filled nylon fasteners with 96 preset 305SS screws and T15 drive bit) | C14: Black | E14: 6 | F14: 10 | H14: 55 | J14: Wilmington, OH | K14: =1*683531046336 -> 683531046336
A15: ELOC250 | B15: EDGELoc Hidden Fastener - Unit = 2 retail cartons @ 250 sq.ft. coverage each (444 EdgeLoc glass filled nylon fasteners with 444 preset 305SS screws and T15 drive bit) | C15: Black | E15: 2 | F15: 14 | H15: 250 | J15: Wilmington, OH | K15: 683531046343
A16: ELOCBULK | B16: EDGELoc POP Display (includes 2 units ELOC55, 6 units ELOC 250) | C16: Black | E16: 1 | F16: 105 | J16: Wilmington, OH
A17: DECK FASTENING
A18: Item Number | B18: Product Description | C18: Color | D18: Length (ft.) | E18: Eaches/Unit | F18: Approx. Unit Weight (lbs.) | G18: LN FT PER | H18: SQ FT PER | I18: $/Bundle | J18: FOB | K18: UPC
A19: Cortex® for TimberTech® Composite Decking
A20: Reminder: Cortex has a 5 Unit minimum buy
A21: CTX100RCDW | B21: Cortex - 100 LF Reserve Driftwood (224 screws, 300 plugs, 2 bits) | C21: Driftwood | E21: 6 | F21: 19.5 | G21: 100 | J21: Direct | K21: 0683531039079
A22: CTX100RCAL | B22: Cortex - 100 LF Reserve Antique Leather™ (224 screws, 300 plugs, 2 bits) | C22: Antique Leather™ | E22: 6 | F22: 19.5 | G22: 100 | J22: Direct | K22: 0683531040563
A23: CTX100RCDR | B23: Cortex - 100 LF Reserve Dark Roast™ (224 screws, 300 plugs, 2 bits) | C23: Dark Roast™ | E23: 6 | F23: 19.5 | G23: 100 | J23: Direct | K23: 0683531039109
A24: CTX100RCRC | B24: Cortex - 100 LN FT Reserve Reclaimed Chestnut (224 screws, 300 plugs, 2 bits) | C24: Reclaimed Chestnut | E24: 6 | F24: 28.5 | G24: 100 | J24: Direct | K24: 0683531048729
A25: CTX100LCAW | B25: Cortex - 100 LF Legacy Ashwood (224 screws, 300 plugs, 2 bits) | C25: Ashwood | E25: 6 | F25: 19.5 | G25: 100 | J25: Direct | K25: 0683531029278
A26: CTX100LCM | B26: Cortex - 100 LF Legacy Mocha (224 screws, 300 plugs, 2 bits) | C26: Mocha | E26: 6 | F26: 19.5 | G26: 100 | J26: Direct | K26: 0683531029285
A27: CTX100LCP | B27: Cortex - 100 LF Legacy Pecan (224 screws, 300 plugs, 2 bits) | C27: Pecan | E27: 6 | F27: 19.5 | G27: 100 | J27: Direct | K27: 0683531029292
A28: CTX100LCTW | B28: Cortex - 100 LF Legacy Tigerwood (224 screws, 300 plugs, 2 bits) | C28: Tigerwood | E28: 6 | F28: 19.5 | G28: 100 | J28: Direct | K28: 0683531029308
A29: CTX100LCWC | B29: Cortex - 100 LF Legacy Whitewash Cedar™ (224 screws, 300 plugs, 2 bits) | C29: Whitewash Cedar™ | E29: 6 | F29: 19.5 | G29: 100 | J29: Direct | K29: 0683531033572
A30: CTX100LCE | B30: Cortex - 100 LF Legacy Espresso (224 screws, 300 plugs, 2 bits) | C30: Espresso | E30: 6 | F30: 19.5 | G30: 100 | J30: Direct | K30: 0683531033589
A31: Cortex® for TimberTech® Composite Fascia
A32: Reminder: Cortex has a 5 Unit minimum buy
A33: CTXFAS100ST | B33: Cortex for Fascia - 50 LF Prime+ Sea Salt Gray (100 screws, 105 plugs, 1 counterbore, 1 bit) | C33: Sea Salt Gray | E33: 5 | F33: 11.5 | G33: 50 | J33: Direct | K33: 0683531056045
A34: CTXFAS100DC | B34: Cortex for Fascia - 50 LF Prime+ Dark Cocoa (100 screws, 105 plugs, 1 counterbore, 1 bit) | C34: Dark Cocoa | E34: 5 | F34: 11.5 | G34: 50 | J34: Direct | K34: 0683531056052
A35: CTXFAS100CH | B35: Cortex for Fascia - 50 LF Prime+ Cocnut Husk (100 screws, 105 plugs, 1 counterbore, 1 bit) | C35: Cocnut Husk | E35: 5 | F35: 11.5 | G35: 50 | J35: Direct | K35: 0683531056069
A36: CTXFAS100DT | B36: Cortex for Fascia - 50 LF Premier/Prime Dark Teak (100 screws, 105 plugs, 1 counterbore, 1 bit) | C36: Dark Teak | E36: 5 | F36: 11.5 | G36: 50 | J36: Direct | K36: 0683531056076
A37: CTXFAS100MG | B37: Cortex for Fascia - 50 LF Premier/Prime Maritime Gray (100 screws, 105 plugs, 1 counterbore, 1 bit) | C37: Maritime Gray | E37: 5 | F37: 11.5 | G37: 50 | J37: Direct | K37: 0683531056083
A38: CTXFAS100NW | B38: Cortex for Fascia - 50 LF Terrain+ Natural White Oak (100 screws, 105 plugs, 1 counterbore, 1 bit) | C38: Natural White Oak | E38: 5 | F38: 11.5 | G38: 50 | J38: Direct | K38: 0683531056113
A39: CTXFAS100WO | B39: Cortex for Fascia - 50 LF Terrain+ Weathered Oak (100 screws, 105 plugs, 1 counterbore, 1 bit) | C39: Weathered Oak | E39: 5 | F39: 11.5 | G39: 50 | J39: Direct | K39: 0683531056120
A40: CTXFAS100DO | B40: Cortex for Fascia - 50 LF Terrain+ Dark Oak (100 screws, 105 plugs, 1 counterbore, 1 bit) | C40: Dark Oak | E40: 5 | F40: 11.5 | G40: 50 | J40: Direct | K40: 0683531056137
A41: CTXFAS100AL | B41: Cortex for Fascia - 50 LF Reserve Antique Leather (100 screws, 105 plugs, 1 counterbore, 1 bit) | C41: Antique Leather | E41: 5 | F41: 11.5 | G41: 50 | J41: Direct | K41: 0683531056144
A42: CTXFAS100DR | B42: Cortex for Fascia - 50 LF Resevre Dark Roast (100 screws, 105 plugs, 1 counterbore, 1 bit) | C42: Dark Roast | E42: 5 | F42: 11.5 | G42: 50 | J42: Direct | K42: 0683531056151
A43: CTXFAS100DW | B43: Cortex for Fascia - 50 LF Resevre Driftwood (100 screws, 105 plugs, 1 counterbore, 1 bit) | C43: Driftwood | E43: 5 | F43: 11.5 | G43: 50 | J43: Direct | K43: 0683531056168
A44: CTXFAS100RC | B44: Cortex for Fascia - 50 LF Resevre Relaimed Chestnut (100 screws, 105 plugs, 1 counterbore, 1 bit) | C44: Reclaimed Chestnut | E44: 5 | F44: 11.5 | G44: 50 | J44: Direct | K44: 0683531056175
... A50: CTXFAS100WC | B50: Cortex for Fascia - 50 LF Legacy Whitewash Cedar (100 screws, 105 plugs, 1 counterbore, 1 bit) | C50: Whitewash Cedar | E50: 5 | F50: 11.5 | G50: 50 | J50: Direct | K50: 0683531056236
A51: Collated Cortex® for TimberTech® Composite Decking
A52: Reminder: Cortex has a 5 Unit minimum buy
A53: CTC100LFNO | B53: Collated Cortex - 100 LF Premier+ Natural Oak (224 screws, 320 plugs, 2 bits) | C53: Natural Oak | E53: 6 | F53: 17.7 | G53: 100 | J53: Direct | K53: 0683531052795
A54: CTC100LFPMG | B54: Collated Cortex - 100 LF Premier/Prime Maritime Gray™ (224 screws, 320 plugs, 2 bits, 1 drilling guide) | C54: Maritime Gray | E54: 6 | F54: 17.7 | G54: 101 | J54: Direct | K54: 0683531056274
A55: CTC100LFPDT | B55: Collated Cortex - 100 LF Premier/Prime Dark Teak™ (224 screws, 320 plugs, 2 bits, 1 drilling guide) | C55: Dark Teak | E55: 6 | F55: 17.7 | G55: 102 | J55: Direct | K55: 0683531056328
A56: CTC100LFST | B56: Collated Cortex - 100 LF Prime+ Sea Salt Gray (224 screws, 320 plugs, 2 bits, 1 drilling guide) | C56: Sea Salt Gray | E56: 6 | F56: 17.7 | G56: 103 | J56: Direct | K56: 0683531056366
A57: CTC100LFDC | B57: Collated Cortex - 100 LF Prime+ Dark Cocoa (224 screws, 320 plugs, 2 bits, 1 drilling guide) | C57: Dark Cocoa | E57: 6 | F57: 17.7 | G57: 104 | J57: Direct | K57: 0683531056403
A58: CTC100LFCH | B58: Collated Cortex - 100 LF Prime+ Cocnut Husk (224 screws, 320 plugs, 2 bits, 1 drilling guide) | C58: Cocnut Husk | E58: 6 | F58: 17.7 | G58: 105 | J58: Direct | K58: 0683531056441
A59: CTC100LFWO | B59: Collated Cortex - 100 LF Terrain+ Weathered Oak (224 screws, 320 plugs, 2 bits, 1 drilling guide) | C59: Weathered Oak | E59: 6 | F59: 17.7 | G59: 106 | J59: Direct | K59: 0683531051323
A60: CTC100LFNW | B60: Collated Cortex - 100 LF Terrain+ Natural White Oak (224 screws, 320 plugs, 2 bits, 1 drilling guide) | C60: Natural White Oak | E60: 6 | F60: 17.7 | G60: 107 | J60: Direct | K60: 0683531051347
A61: CTC100LFDO | B61: Collated Cortex - 100 LF Terrain+ Dark Oak (224 screws, 320 plugs, 2 bits, 1 drilling guide) | C61: Dark Oak | E61: 6 | F61: 17.7 | G61: 108 | J61: Direct | K61: 0683531051316
A62: CTC100LFDW | B62: Collated Cortex - 100 LF Reserve Driftwood (224 screws, 320 plugs, 2 bits) | C62: Driftwood | E62: 6 | F62: 17.7 | G62: 109 | J62: Direct | K62: 0683531049870
A63: CTC100LFAL | B63: Collated Cortex - 100 LF Reserve Antique Leather™ (224 screws, 320 plugs, 2 bits) | C63: Antique Leather™ | E63: 6 | F63: 17.7 | G63: 110 | J63: Direct | K63: 0683531049887
A64: CTC100LFDR | B64: Collated Cortex - 100 LF Reserve Dark Roast™ (224 screws, 320 plugs, 2 bits) | C64: Dark Roast™ | E64: 6 | F64: 17.7 | G64: 111 | J64: Direct | K64: 0683531049894
... A71: CTC100LFE | B71: Collated Cortex - 100 LF Legacy Espresso (224 screws, 320 plugs, 2 bits) | C71: Espresso | E71: 6 | F71: 17.7 | G71: 118 | J71: Direct | K71: 0683531049962
A72: CTC300SFPMG | B72: Collated Cortex - 300 SQ FT Premier & Prime Maritime Gray™ (1,050 screws, 1,200 plugs, 6 bits, 1 drilling guide) | C72: Maritime Gray™ | E72: 1 | F72: 11.5 | H72: 300 | J72: Direct | K72: 0683531056281
A73: CTC300SFPDT | B73: Collated Cortex - 300 SQ FT Premier & Prime Dark Teak™ (1,050 screws, 1,200 plugs, 6 bits, 1 drilling guide) | C73: Dark Teak™ | E73: 1 | F73: 11.5 | H73: 301 | J73: Direct | K73: 0683531056335
A74: CTC300SFST | B74: Collated Cortex - 300 SQ FT Prime+ Sea Salt Gray (1,050 screws, 1,200 plugs, 6 bits, 1 drilling guide) | C74: Sea Salt Gray | E74: 1 | F74: 11.5 | H74: 302 | J74: Direct | K74: 0683531056373
A75: CTC300SFDC | B75: Collated Cortex - 300 SQ FT Prime+ Dark Cocoa (1,050 screws, 1,200 plugs, 6 bits, 1 drilling guide) | C75: Dark Cocoa | E75: 1 | F75: 11.5 | H75: 303 | J75: Direct | K75: 0683531056410
A76: CTC300SFCH | B76: Collated Cortex - 300 SQ FT Prime+ Cocnut Husk (1,050 screws, 1,200 plugs, 6 bits, 1 drilling guide) | C76: Cocnut Husk | E76: 1 | F76: 11.5 | H76: 304 | J76: Direct | K76: 0683531056458
A77: CTC300SFWO | B77: Collated Cortex - 300 SQ FT Terrain+ Weathered Oak (1,050 screws, 1,200 plugs, 6 bits, 1 drilling guide) | C77: Weathered Oak | E77: 1 | F77: 11.5 | H77: 305 | J77: Direct | K77: 0683531051354
A78: CTC300SFNW | B78: Collated Cortex - 300 SQ FT Terrain+ Natural White Oak (1,050 screws, 1,200 plugs, 6 bits, 1 drilling guide) | C78: Natural White Oak | E78: 1 | F78: 11.5 | H78: 306 | J78: Direct | K78: 0683531051309
A79: CTC300SFDO | B79: Collated Cortex - 300 SQ FT Terrain+ Dark Oak (1,050 screws, 1,200 plugs, 6 bits, 1 drilling guide) | C79: Dark Oak | E79: 1 | F79: 11.5 | H79: 307 | J79: Direct | K79: 0683531051330
A80: CTC300SFDW | B80: Collated Cortex - 300 SQ FT Reserve Driftwood (1,050 screws, 1,200 plugs, 6 bits) | C80: Driftwood | E80: 1 | F80: 11.5 | H80: 308 | J80: Direct | K80: 0683531049993
A81: CTC300SFAL | B81: Collated Cortex - 300 SQ FT Reserve Antique Leather™ (1,050 screws, 1,200 plugs, 6 bits) | C81: Antique Leather™ | E81: 1 | F81: 11.5 | H81: 309 | J81: Direct | K81: 0683531050005
A82: CTC300SFDR | B82: Collated Cortex - 300 SQ FT Reserve Dark Roast™ (1,050 screws, 1,200 plugs, 6 bits) | C82: Dark Roast™ | E82: 1 | F82: 11.5 | H82: 310 | J82: Direct | K82: 0683531050012
A83: CTC300SFRC | B83: Collated Cortex - 300 SQ FT Reserve Reclaimed Chestnut (1,050 screws, 1,200 plugs, 6 bits) | C83: Reclaimed Chestnut | E83: 1 | F83: 11.5 | H83: 311 | J83: Direct | K83: 0683531050029
... A89: CTC300SFE | B89: Collated Cortex - 300 SQ FT Legacy Espresso (1,050 screws, 1,200 plugs, 6 bits) | C89: Espresso | E89: 1 | F89: 11.5 | H89: 317 | J89: Direct | K89: 0683531050081
A90: Cortex® Plugs sold separately for TimberTech® Composite Decking (Does not include Screws)
A91: CTC80PCDW | B91: Collated Cortex ® 80 Plug Pack Reserve Driftwood (no bit, no screws) | C91: Driftwood | E91: 10 | F91: 2 | J91: Direct | K91: 0683531056632
A92: CTC80PCAL | B92: Collated Cortex ® 80 Plug Pack Reserve Antique Leather (no bit, no screws) | C92: Antique Leather | E92: 10 | F92: 2 | J92: Direct | K92: 0683531056649
A93: CTC80PCDR | B93: Collated Cortex ® 80 Plug Pack Reserve Dark Roast (no bit, no screws) | C93: Dark Roast | E93: 10 | F93: 2 | J93: Direct | K93: 0683531056656
A94: CTC80PCRC | B94: Collated Cortex ® 80 Plug Pack Reserve Reclaimed Chestnut (no bit, no screws) | C94: Reclaimed Chestnut | E94: 10 | F94: 2 | J94: Direct | K94: 0683531056663
A95: CTC80PCAS | B95: Collated Cortex ® 80 Plug Pack Legacy Ashwood (no bit, no screws) | C95: Ashwood | E95: 10 | F95: 2 | J95: Direct | K95: 0683531056670
A96: CTC80PCE | B96: Collated Cortex ® 80 Plug Pack Legacy Espresso (no bit, no screws) | C96: Espresso | E96: 10 | F96: 2 | J96: Direct | K96: 0683531056687
A97: CTC80PCM | B97: Collated Cortex ® 80 Plug Pack Legacy Mocha (no bit, no screws) | C97: Mocha | E97: 10 | F97: 2 | J97: Direct | K97: 0683531056694
A98: CTC80PCP | B98: Collated Cortex ® 80 Plug Pack Legacy Pecan (no bit, no screws) | C98: Pecan | E98: 10 | F98: 2 | J98: Direct | K98: 0683531056700
A99: CTC80PCTW | B99: Collated Cortex ® 80 Plug Pack Legacy Tigerwood (no bit, no screws) | C99: Tigerwood | E99: 10 | F99: 2 | J99: Direct | K99: 0683531056717
A100: CTC80PCWC | B100: Collated Cortex ® 80 Plug Pack Legacy Whitewash Cedar (no bit, no screws) | C100: Whitewash Cedar | E100: 10 | F100: 2 | J100: Direct | K100: 0683531056724
A101: CTC80PCWO | B101: Collated Cortex ® 80 Plug Pack Terrain+ Weathered Oak (no bit, no screws) | C101: Weathered Oak | E101: 10 | F101: 2 | J101: Direct | K101: 0683531056755
A102: CTC80PCDO | B102: Collated Cortex ® 80 Plug Pack Terrain+ Dark Oak (no bit, no screws) | C102: Dark Oak | E102: 10 | F102: 2 | J102: Direct | K102: 0683531056762
... A126: CTC400PCNW | B126: Collated Cortex ® 400 Plug Pack Terrain+ Natural White Oak (1 bit) | C126: Natural White Oak | E126: 6 | F126: 14 | J126: Direct | K126: 0683531055864
A127: DECK FASTENING
A128: Item Number | B128: Product Description | C128: Color | D128: Length (ft.) | E128: Eaches/Unit | F128: Approx. Unit Weight (lbs.) | G128: $/piece | H128: $/Unit | I128: $/Bundle | J128: FOB | K128: UPC
A129: Cortex® for TimberTech® Advanced PVC Decking
A130: Reminder: Cortex has a 5 Unit minimum buy
A131: CTX100SFBS | B131: Cortex - 100 SQ FT Harvest Brownstone (350 screws, 400 plugs, 3 bits) | C131: Brownstone | E131: 6 | F131: 28.5 | H131: 100 | J131: Direct | K131: 0683531031646
A132: CTX100SFSG | B132: Cortex - 100 SQ FT Harvest Slate Gray (350 screws, 400 plugs, 3 bits) | C132: Slate Gray | E132: 6 | F132: 28.5 | H132: 100 | J132: Direct | K132: 0683531031653
A133: CTX100SFKO | B133: Cortex - 100 SQ FT Harvest Kona (350 screws, 400 plugs, 3 bits) | C133: Kona | E133: 6 | F133: 28.5 | H133: 100 | J133: Direct | K133: 0683531031660
A134: CTX100SFMH | B134: Cortex - 100 SQ FT Vintage Mahogany (350 screws, 400 plugs, 3 bits) | C134: Mahogany | E134: 6 | F134: 28.5 | H134: 100 | J134: Direct | K134: 0683531031752
A135: CTX100SFCY | B135: Cortex - 100 SQ FT Vintage Cypress (350 screws, 400 plugs, 3 bits) | C135: Cypress | E135: 6 | F135: 28.5 | H135: 100 | J135: Direct | K135: 0683531031769
A136: CTX100SFDH | B136: Cortex - 100 SQ FT Vintage Dark Hickory (350 screws, 400 plugs, 3 bits) | C136: Dark Hickory | E136: 6 | F136: 28.5 | H136: 100 | J136: Direct | K136: 0683531031776
A137: CTX100SFCS | B137: Cortex - 100 SQ FT Vintage Coastline® (350 screws, 400 plugs, 3 bits) | C137: Coastline® | E137: 6 | F137: 28.5 | H137: 100 | J137: Direct | K137: 0683531033596
A138: CTX100SFEW | B138: Cortex - 100 SQ FT Vintage English Walnut™ (350 screws, 400 plugs, 3 bits) | C138: English Walnut™ | E138: 6 | F138: 28.5 | H138: 100 | J138: Direct | K138: 0683531033602
A139: CTX100SFWT | B139: Cortex - 100 SQ FT Vintage Weathered Teak™ (350 screws, 400 plugs, 3 bits) | C139: Weathered Teak™ | E139: 6 | F139: 28.5 | H139: 100 | J139: Direct | K139: 0683531033619
...

Sheet WEIGHT PLANNER
C2: PRIME+ COLLECTION | H2: ALL COLLECTIONS
B4: ITEM | C4: WEIGHT | D4: # LIFTS | E4: TOTAL | G4: ITEM | H4: WEIGHT | I4: # LIFTS | J4: TOTAL
B5: 12' GROOVED | C5: 1592 | E5: =D5*C5 -> 0 | G5: 12' GROOVED | H5: 1202 | J5: =I5*H5 -> 0
B6: 16' GROOVED | C6: 2114 | E6: =D6*C6 -> 0 | G6: 16' GROOVED | H6: 1601 | J6: =I6*H6 -> 0
B7: 20' GROOVED | C7: 2636 | E7: =D7*C7 -> 0 | G7: 20' GROOVED | H7: 2002 | J7: =I7*H7 -> 0
B8: 20' SOLID | C8: 2764 | E8: =D8*C8 -> 0 | G8: 20' SOLID | H8: 2085 | J8: =I8*H8 -> 0
B9: 12' RISER | C9: 1129 | E9: =D9*C9 -> 0 | G9: 12' FASCIA | H9: 1238 | J9: =I9*H9 -> 0
B10: 12' FASCIA | C10: 1347 | E10: =D10*C10 -> 0
C13: TERRAIN COLLECTION | G13: TOTAL LIFTS : | H13: =SUM(D:D)+SUM(I:I) -> 0
B15: ITEM | C15: WEIGHT | D15: # LIFTS | E15: TOTAL | G15: TOTAL WEIGHT : | H15: =SUM(E:E)+SUM(J:J) -> 0
B16: 12' GROOVED | C16: 1592 | E16: =D16*C16 -> 0
B17: 16' GROOVED | C17: 2114 | E17: =D17*C17 -> 0 | G17: TOTAL TRUCKS : | H17: =H15/46500 -> 0
B18: 20' GROOVED | C18: 2636 | E18: =D18*C18 -> 0
B19: 20' SOLID | C19: 2764 | E19: =D19*C19 -> 0
B20: 12' RISER | C20: 1129 | E20: =D20*C20 -> 0 | G20: 1/2 Truckload = min. 24,500 lbs
B21: 12' FASCIA | C21: 1347 | E21: =D21*C21 -> 0 | G21: Full Truckload = max. 46,500 lbs
C24: RESERVE & LEGACY COLLECTIONS
B26: ITEM | C26: WEIGHT | D26: # LIFTS | E26: TOTAL
B27: 12' GROOVED | C27: 1999 | E27: =D27*C27 -> 0
B28: 16' GROOVED | C28: 2657 | E28: =D28*C28 -> 0
B29: 20' GROOVED | C29: 3315 | E29: =D29*C29 -> 0
B30: 20' SOLID | C30: 3448 | E30: =D30*C30 -> 0
B31: 12' RISER | C31: 1129 | E31: =D31*C31 -> 0
B32: 12' FASCIA | C32: 1347 | E32: =D32*C32 -> 0

Sheet Sheet1
A1: SHORT CODE | B1: Item Number | C1: Product Description | D1: Color | G1: Length (ft.) | H1: Eaches/Unit | I1: Approx. Unit Weight (lbs.) | J1: SHORT CODE
A3: AD12HCBS | B3: ADCB15512BS | C3: Harvest Deck Board, Square Shouldered | D3: BROWNSTONE | E3: 12' GROOVED | F3: =D3&E3 -> BROWNSTONE12' GROOVED | G3: 12 | H3: 64 | I3: 1252 | J3: =A3 -> AD12HCBS
A4: AD16HCBS | B4: ADCB15516BS | C4: Harvest Deck Board, Square Shouldered | D4: BROWNSTONE | E4: 16' GROOVED | F4: =D4&E4 -> BROWNSTONE16' GROOVED | G4: 16 | H4: 64 | I4: 1668 | J4: =A4 -> AD16HCBS
A5: AD20HCBS | B5: ADCB15520BS | C5: Harvest Deck Board, Square Shouldered | D5: BROWNSTONE | E5: 20'GROOVED | F5: =D5&E5 -> BROWNSTONE20'GROOVED | G5: 20 | H5: 64 | I5: 2085 | J5: =A5 -> AD20HCBS
A6: AD12HCGBS | B6: AGB15512BS | C6: Harvest Deck Board, Grooved | D6: BROWNSTONE | F6: =D6&E6 -> BROWNSTONE | G6: 12 | H6: 64 | I6: 1202 | J6: =A6 -> AD12HCGBS
A7: AD16HCGBS | B7: AGB15516BS | C7: Harvest Deck Board, Grooved | D7: BROWNSTONE | E7: 16' SOLID | F7: =D7&E7 -> BROWNSTONE16' SOLID | G7: 16 | H7: 64 | I7: 1601 | J7: =A7 -> AD16HCGBS
A8: AD20HCGBS | B8: AGB15520BS | C8: Harvest Deck Board, Grooved | D8: BROWNSTONE | E8: 20' SOLID | F8: =D8&E8 -> BROWNSTONE20' SOLID | G8: 20 | H8: 64 | I8: 2002 | J8: =A8 -> AD20HCGBS
A9: AD12HCSG | B9: ADCB15512SG | C9: Harvest Deck Board, Square Shouldered | D9: SLATE GRAY | E9: 12' GROOVED | F9: =D9&E9 -> SLATE GRAY12' GROOVED | G9: 12 | H9: 64 | I9: 1252 | J9: =A9 -> AD12HCSG
A10: AD16HCSG | B10: ADCB15516SG | C10: Harvest Deck Board, Square Shouldered | D10: SLATE GRAY | E10: 16' GROOVED | F10: =D10&E10 -> SLATE GRAY16' GROOVED | G10: 16 | H10: 64 | I10: 1668 | J10: =A10 -> AD16HCSG
A11: AD20HCSG | B11: ADCB15520SG | C11: Harvest Deck Board, Square Shouldered | D11: SLATE GRAY | E11: 20'GROOVED | F11: =D11&E11 -> SLATE GRAY20'GROOVED | G11: 20 | H11: 64 | I11: 2085 | J11: =A11 -> AD20HCSG
A12: AD12HCGSG | B12: AGB15512SG | C12: Harvest Deck Board, Grooved | D12: SLATE GRAY | F12: =D12&E12 -> SLATE GRAY | G12: 12 | H12: 64 | I12: 1202 | J12: =A12 -> AD12HCGSG
A13: AD16HCGSG | B13: AGB15516SG | C13: Harvest Deck Board, Grooved | D13: SLATE GRAY | E13: 16' SOLID | F13: =D13&E13 -> SLATE GRAY16' SOLID | G13: 16 | H13: 64 | I13: 1601 | J13: =A13 -> AD16HCGSG
A14: AD20HCGSG | B14: AGB15520SG | C14: Harvest Deck Board, Grooved | D14: SLATE GRAY | E14: 20' SOLID | F14: =D14&E14 -> SLATE GRAY20' SOLID | G14: 20 | H14: 64 | I14: 2002 | J14: =A14 -> AD20HCGSG
A15: AD16HCSK | B15: ADB15516KOAAT | C15: Harvest Deck Board, Square Shouldered | D15: New Kona® | F15: =D15&E15 -> New Kona® | G15: 16 | H15: 64 | I15: 1668 | J15: =A15 -> AD16HCSK
A16: AD20HCSK | B16: ADB15520KOAAT | C16: Harvest Deck Board, Square Shouldered | D16: New Kona® | F16: =D16&E16 -> New Kona® | G16: 20 | H16: 64 | I16: 2085 | J16: =A16 -> AD20HCSK
A18: AD12HCSK | B18: ADB15512KOAAT | C18: Harvest Deck Board, Square Shouldered | D18: New Kona® | G18: 12 | H18: 64 | I18: 1252 | J18: AD12HCSK
A20: 0 | B20: ADCB172516BS | C20: Harvest Deck Board, Square Shouldered | D20: Brownstone | G20: 16 | H20: 48 | I20: 1649 | J20: =A20 -> 0
A21: AD20VC725BS | B21: ADCB172520BS | C21: Harvest Deck Board, Square Shouldered | D21: Brownstone | G21: 20 | H21: 48 | I21: 2061 | J21: =A21 -> AD20VC725BS
A22: 0 | B22: ADCB172516SG | C22: Harvest Deck Board, Square Shouldered | D22: Slate Gray | G22: 16 | H22: 48 | I22: 1649 | J22: =A22 -> 0
A23: AD20VC725SG | B23: ADCB172520SG | C23: Harvest Deck Board, Square Shouldered | D23: Slate Gray | G23: 20 | H23: 48 | I23: 2061 | J23: =A23 -> AD20VC725SG
A25: 0 | B25: ADCB172512BS | C25: Harvest Deck Board, Square Shouldered | D25: Brownstone | G25: 12 | H25: 48 | I25: 1238 | J25: 0
A26: 0 | B26: ADCB172512SG | C26: Harvest Deck Board, Square Shouldered | D26: Slate Gray | G26: 12 | H26: 48 | I26: 1238 | J26: 0
A28: AD12RJBS | B28: ADCR5117512BS | C28: Harvest Fascia | D28: BROWNSTONE | E28: 12' RIMJOIST | F28: =D28&E28 -> BROWNSTONE12' RIMJOIST | G28: 12 | H28: 36 | I28: 660 | J28: =A28 -> AD12RJBS
A29: AD12RJSG | B29: ADCR5117512SG | C29: Harvest Fascia | D29: SLATE GRAY | E29: 12' RIMJOIST | F29: =D29&E29 -> SLATE GRAY12' RIMJOIST | G29: 12 | H29: 36 | I29: 660 | J29: =A29 -> AD12RJSG
A30: AD12FK | B30: ADR5117512KOAAT | C30: Harvest Fascia | D30: New Kona® | E30: 12' RIMJOIST | F30: =D30&E30 -> New Kona®12' RIMJOIST | G30: 12 | H30: 36 | I30: 660 | J30: =A30 -> AD12FK
A32: 0 | B32: ADCB25512SG | C32: Harvest Deck Board, Square Shouldered | D32: Slate Gray | G32: 12 | H32: 40 | I32: 1152 | J32: 0
A33: 0 | B33: ADCB25516SG | C33: Harvest Deck Board, Square Shouldered | D33: Slate Gray | G33: 16 | H33: 40 | I33: 1536 | J33: 0
A34: 0 | B34: ADCB25520SG | C34: Harvest Deck Board, Square Shouldered | D34: Slate Gray | G34: 20 | H34: 40 | I34: 1920 | J34: 0
A36: 0 | B36: ADB15516IO | C36: Arbor Deck Board, Square Shouldered | D36: Island Oak™ | G36: 16 | H36: 64 | I36: 1668 | J36: 0
A37: AD20HCSIO | B37: ADB15520IO | C37: Arbor Deck Board, Square Shouldered | D37: Island Oak™ | G37: 20 | H37: 64 | I37: 2085 | J37: AD20HCSIO
A38: AD12HCGVIO | B38: AGB15512IO | C38: Arbor Deck Board, Grooved | D38: Island Oak™ | G38: 12 | H38: 64 | I38: 1202 | J38: AD12HCGVIO
A39: AD16HCGVIO | B39: AGB15516IO | C39: Arbor Deck Board, Grooved | D39: Island Oak™ | G39: 16 | H39: 64 | I39: 1601 | J39: AD16HCGVIO
A40: AD20HCGVIO | B40: AGB15520IO | C40: Arbor Deck Board, Grooved | D40: Island Oak™ | G40: 20 | H40: 64 | I40: 2002 | J40: AD20HCGVIO
A41: 0 | B41: ADB15516CT | C41: Arbor Deck Board, Square Shouldered | D41: Autumn Chestnut™ | G41: 16 | H41: 64 | I41: 1668 | J41: 0
A42: AD20HCSAC | B42: ADB15520CT | C42: Arbor Deck Board, Square Shouldered | D42: Autumn Chestnut™ | G42: 20 | H42: 64 | I42: 2085 | J42: AD20HCSAC
A43: AD12HCGVAC | B43: AGB15512CT | C43: Arbor Deck Board, Grooved | D43: Autumn Chestnut™ | G43: 12 | H43: 64 | I43: 1202 | J43: AD12HCGVAC
A44: AD16HCGVAC | B44: AGB15516CT | C44: Arbor Deck Board, Grooved | D44: Autumn Chestnut™ | G44: 16 | H44: 64 | I44: 1601 | J44: AD16HCGVAC
A45: AD20HCGVAC | B45: AGB15520CT | C45: Arbor Deck Board, Grooved | D45: Autumn Chestnut™ | G45: 20 | H45: 64 | I45: 2002 | J45: AD20HCGVAC
A46: 0 | B46: ADB15516MOAAT | C46: Arbor Deck Board, Square Shouldered | D46: New Morado® | G46: 16 | H46: 64 | I46: 1668 | J46: 0
A47: AD20ACSMO | B47: ADB15520MOAAT | C47: Arbor Deck Board, Square Shouldered | D47: New Morado® | G47: 20 | H47: 64 | I47: 2085 | J47: AD20ACSMO
A48: AD12ACGVMO | B48: AGB15512MOAAT | C48: Arbor Deck Board, Grooved | D48: New Morado® | G48: 12 | H48: 64 | I48: 1202 | J48: AD12ACGVMO
A49: AD16ACGVMO | B49: AGB15516MOAAT | C49: Arbor Deck Board, Grooved | D49: New Morado® | G49: 16 | H49: 64 | I49: 1601 | J49: AD16ACGVMO
A50: AD20ACGVMO | B50: AGB15520MOAAT | C50: Arbor Deck Board, Grooved | D50: New Morado® | G50: 20 | H50: 64 | I50: 2002 | J50: AD20ACGVMO
A51: 0 | B51: ADB15516BW | C51: Arbor Deck Board, Square Shouldered | D51: Brazilian Walnut | G51: 16 | H51: 64 | I51: 1668 | J51: 0
A52: AD20ACSBW | B52: ADB15520BW | C52: Arbor Deck Board, Square Shouldered | D52: Brazilian Walnut | G52: 20 | H52: 64 | I52: 2085 | J52: AD20ACSBW
A53: AD12ACGVBW | B53: AGB15512BW | C53: Arbor Deck Board, Grooved | D53: Brazilian Walnut | G53: 12 | H53: 64 | I53: 1202 | J53: AD12ACGVBW
A54: AD16ACGVBW | B54: AGB15516BW | C54: Arbor Deck Board, Grooved | D54: Brazilian Walnut | G54: 16 | H54: 64 | I54: 1601 | J54: AD16ACGVBW
A55: AD20ACGVBW | B55: AGB15520BW | C55: Arbor Deck Board, Grooved | D55: Brazilian Walnut | G55: 20 | H55: 64 | I55: 2002 | J55: AD20ACGVBW
A56: 0 | B56: ADB15516SO | C56: Arbor Deck Board, Square Shouldered | D56: Silver Oak® | G56: 16 | H56: 64 | I56: 1668 | J56: 0
A57: AD20ACSO | B57: ADB15520SO | C57: Arbor Deck Board, Square Shouldered | D57: Silver Oak® | G57: 20 | H57: 64 | I57: 2085 | J57: AD20ACSO
A58: AD12ACGVSO | B58: AGB15512SO | C58: Arbor Deck Board, Grooved | D58: Silver Oak® | G58: 12 | H58: 64 | I58: 1202 | J58: AD12ACGVSO
A59: AD16ACGVSO | B59: AGB15516SO | C59: Arbor Deck Board, Grooved | D59: Silver Oak® | G59: 16 | H59: 64 | I59: 1601 | J59: AD16ACGVSO
A60: AD20ACGVSO | B60: AGB15520SO | C60: Arbor Deck Board, Grooved | D60: Silver Oak® | G60: 20 | H60: 64 | I60: 2002 | J60: AD20ACGVSO
A61: 0 | B61: ADB15516HW | C61: Arbor Deck Board, Square Shouldered | D61: Hazelwood® | G61: 16 | H61: 64 | I61: 1668 | J61: 0
A62: AD20ACHW | B62: ADB15520HW | C62: Arbor Deck Board, Square Shouldered | D62: Hazelwood® | G62: 20 | H62: 64 | I62: 2085 | J62: AD20ACHW
A63: AD12ACGHW | B63: AGB15512HW | C63: Arbor Deck Board, Grooved | D63: Hazelwood® | G63: 12 | H63: 64 | I63: 1202 | J63: AD12ACGHW
A64: AD16ACGHW | B64: AGB15516HW | C64: Arbor Deck Board, Grooved | D64: Hazelwood® | G64: 16 | H64: 64 | I64: 1601 | J64: AD16ACGHW
A65: AD20ACGHW | B65: AGB15520HW | C65: Arbor Deck Board, Grooved | D65: Hazelwood® | G65: 20 | H65: 64 | I65: 2002 | J65: AD20ACGHW
A66: 0 | B66: ADB15516MR | C66: Arbor Deck Board, Square Shouldered | D66: Mountain Redwood™ | G66: 16 | H66: 64 | I66: 1668 | J66: 0
A67: AD20ACSMR | B67: ADB15520MR | C67: Arbor Deck Board, Square Shouldered | D67: Mountain Redwood™ | G67: 20 | H67: 64 | I67: 2085 | J67: AD20ACSMR
A68: AD12ACGVMR | B68: AGB15512MR | C68: Arbor Deck Board, Grooved | D68: Mountain Redwood™ | G68: 12 | H68: 64 | I68: 1202 | J68: AD12ACGVMR
A69: AD16ACGVMR | B69: AGB15516MR | C69: Arbor Deck Board, Grooved | D69: Mountain Redwood™ | G69: 16 | H69: 64 | I69: 1601 | J69: AD16ACGVMR
A70: AD20ACGVMR | B70: AGB15520MR | C70: Arbor Deck Board, Grooved | D70: Mountain Redwood™ | G70: 20 | H70: 64 | I70: 2002 | J70: AD20ACGVMR
A72: AD12FIO | B72: ADR5117512IO | C72: Arbor Fascia | D72: Island Oak™ | G72: 12 | H72: 36 | I72: 660 | J72: AD12FIO
A73: AD12FAC | B73: ADR5117512CT | C73: Arbor Fascia | D73: Autumn Chestnut™ | G73: 12 | H73: 36 | I73: 660 | J73: AD12FAC
A74: AD12FMO | B74: ADR5117512MOAAT | C74: Arbor Fascia | D74: New Morado® | G74: 12 | H74: 36 | I74: 660 | J74: AD12FMO
A75: AD12FBW | B75: ADR5117512BW | C75: Arbor Fascia | D75: Brazilian Walnut | G75: 12 | H75: 36 | I75: 660 | J75: AD12FBW
A76: AD12RJSO | B76: ADR5117512SO | C76: Arbor Fascia | D76: Silver Oak® | G76: 12 | H76: 36 | I76: 660 | J76: AD12RJSO
A77: AD12RJHW | B77: ADR5117512HW | C77: Arbor Fascia | D77: Hazelwood® | G77: 12 | H77: 36 | I77: 660 | J77: AD12RJHW
A78: AD12FMR | B78: ADR5117512MR | C78: Arbor Fascia | D78: Mountain Redwood™ | G78: 12 | H78: 36 | I78: 660 | J78: AD12FMR
B80: Item Number | C80: Product Description | D80: Color | G80: Length (ft.) | H80: Eaches/Unit | I80: Approx. Unit Weight (lbs.)
A82: AD16LCSCG | B82: ADB15516CG | C82: Landmark Deck Board, Square Shouldered | D82: CASTLEGATE | E82: 16' SOLID | F82: =D82&E82 -> CASTLEGATE16' SOLID | G82: 16 | H82: 64 | I82: 1668 | J82: =A82 -> AD16LCSCG
A83: AD20LCSCG | B83: ADB15520CG | C83: Landmark Deck Board, Square Shouldered | D83: CASTLEGATE | E83: 20' SOLID | F83: =D83&E83 -> CASTLEGATE20' SOLID | G83: 20 | H83: 64 | I83: 2085 | J83: =A83 -> AD20LCSCG
A84: AD12LCGCG | B84: AGB15512CG | C84: Landmark Deck Board, Grooved | D84: CASTLEGATE | E84: 12' GROOVED | F84: =D84&E84 -> CASTLEGATE12' GROOVED | G84: 12 | H84: 64 | I84: 1202 | J84: =A84 -> AD12LCGCG
A85: AD16LCGCG | B85: AGB15516CG | C85: Landmark Deck Board, Grooved | D85: CASTLEGATE | E85: 16' GROOVED | F85: =D85&E85 -> CASTLEGATE16' GROOVED | G85: 16 | H85: 64 | I85: 1601 | J85: =A85 -> AD16LCGCG
A86: AD20LCGCG | B86: AGB15520CG | C86: Landmark Deck Board, Grooved | D86: CASTLEGATE | E86: 20'GROOVED | F86: =D86&E86 -> CASTLEGATE20'GROOVED | G86: 20 | H86: 64 | I86: 2002 | J86: =A86 -> AD20LCGCG
A87: AD16LCSAW | B87: ADB15516AW | C87: Landmark Deck Board, Square Shouldered | D87: AMERICAN WALNUT | E87: 16' SOLID | F87: =D87&E87 -> AMERICAN WALNUT16' SOLID | G87: 16 | H87: 64 | I87: 1668 | J87: =A87 -> AD16LCSAW
A88: AD20LCSAW | B88: ADB15520AW | C88: Landmark Deck Board, Square Shouldered | D88: AMERICAN WALNUT | E88: 20' SOLID | F88: =D88&E88 -> AMERICAN WALNUT20' SOLID | G88: 20 | H88: 64 | I88: 2085 | J88: =A88 -> AD20LCSAW
A89: AD12LCGAW | B89: AGB15512AW | C89: Landmark Deck Board, Grooved | D89: AMERICAN WALNUT | E89: 12' GROOVED | F89: =D89&E89 -> AMERICAN WALNUT12' GROOVED | G89: 12 | H89: 64 | I89: 1202 | J89: =A89 -> AD12LCGAW
A90: AD16LCGAW | B90: AGB15516AW | C90: Landmark Deck Board, Grooved | D90: AMERICAN WALNUT | E90: 16' GROOVED | F90: =D90&E90 -> AMERICAN WALNUT16' GROOVED | G90: 16 | H90: 64 | I90: 1601 | J90: =A90 -> AD16LCGAW
A91: AD20LCGAW | B91: AGB15520AW | C91: Landmark Deck Board, Grooved | D91: AMERICAN WALNUT | E91: 20'GROOVED | F91: =D91&E91 -> AMERICAN WALNUT20'GROOVED | G91: 20 | H91: 64 | I91: 2002 | J91: =A91 -> AD20LCGAW
A92: AD16LCSFWO | B92: ADB15516FW | C92: Landmark Deck Board, Square Shouldered | D92: FRENCH WHITE OAK | E92: 16' SOLID | F92: =D92&E92 -> FRENCH WHITE OAK16' SOLID | G92: 16 | H92: 64 | I92: 1668 | J92: =A92 -> AD16LCSFWO
A93: AD20LCSFWO | B93: ADB15520FW | C93: Landmark Deck Board, Square Shouldered | D93: FRENCH WHITE OAK | E93: 20' SOLID | F93: =D93&E93 -> FRENCH WHITE OAK20' SOLID | G93: 20 | H93: 64 | I93: 2085 | J93: =A93 -> AD20LCSFWO
... A96: AD20LCGFWO | B96: AGB15520FW | C96: Landmark Deck Board, Grooved | D96: FRENCH WHITE OAK | E96: 20'GROOVED | F96: =D96&E96 -> FRENCH WHITE OAK20'GROOVED | G96: 20 | H96: 64 | I96: 2002 | J96: =A96 -> AD20LCGFWO
J97: =A97 -> 0
A98: AD12RJCG | B98: ADR5117512CG | C98: Landmark Fascia | D98: CASTLEGATE | E98: 12' RIMJOIST | F98: =D98&E98 -> CASTLEGATE12' RIMJOIST | G98: 12 | H98: 36 | I98: 660 | J98: =A98 -> AD12RJCG
A99: AD12RJAW | B99: ADR5117512AW | C99: Landmark Fascia | D99: AMERICAN WALNUT | E99: 12' RIMJOIST | F99: =D99&E99 -> AMERICAN WALNUT12' RIMJOIST | G99: 12 | H99: 36 | I99: 660 | J99: =A99 -> AD12RJAW
A100: AD12RJFWO | B100: ADR5117512FW | C100: Landmark Fascia | D100: FRENCH WHITE OAK | E100: 12' RIMJOIST | F100: =D100&E100 -> FRENCH WHITE OAK12' RIMJOIST | G100: 12 | H100: 36 | I100: 660 | J100: =A100 -> AD12RJFWO
B102: Item Number | C102: Product Description | D102: Color | G102: Length (ft.) | H102: Eaches/Unit | I102: Approx. Unit Weight (lbs.)
A104: AD16VCMH | B104: ADB15516MH | C104: Vintage Deck Board, Square Shouldered | D104: MAHOGANY | E104: 16' SOLID | F104: =D104&E104 -> MAHOGANY16' SOLID | G104: 16 | H104: 64 | I104: 1668 | J104: =A104 -> AD16VCMH
A105: AD20VCMH | B105: ADB15520MH | C105: Vintage Deck Board, Square Shouldered | D105: MAHOGANY | E105: 20' SOLID | F105: =D105&E105 -> MAHOGANY20' SOLID | G105: 20 | H105: 64 | I105: 2085 | J105: =A105 -> AD20VCMH
A106: AD12VCGMH | B106: AGB15512MH | C106: Vintage Deck Board, Grooved | D106: MAHOGANY | E106: 12' GROOVED | F106: =D106&E106 -> MAHOGANY12' GROOVED | G106: 12 | H106: 64 | I106: 1202 | J106: =A106 -> AD12VCGMH
A107: AD16VCGMH | B107: AGB15516MH | C107: Vintage Deck Board, Grooved | D107: MAHOGANY | E107: 16' GROOVED | F107: =D107&E107 -> MAHOGANY16' GROOVED | G107: 16 | H107: 64 | I107: 1601 | J107: =A107 -> AD16VCGMH
A108: AD20VCGMH | B108: AGB15520MH | C108: Vintage Deck Board, Grooved | D108: MAHOGANY | E108: 20'GROOVED | F108: =D108&E108 -> MAHOGANY20'GROOVED | G108: 20 | H108: 64 | I108: 2002 | J108: =A108 -> AD20VCGMH
A109: AD16VCCY | B109: ADB15516CY | C109: Vintage Deck Board, Square Shouldered | D109: Cypress | F109: =D109&E109 -> Cypress | G109: 16 | H109: 64 | I109: 1668 | J109: =A109 -> AD16VCCY
A110: AD20VCCY | B110: ADB15520CY | C110: Vintage Deck Board, Square Shouldered | D110: Cypress | F110: =D110&E110 -> Cypress | G110: 20 | H110: 64 | I110: 2085 | J110: =A110 -> AD20VCCY
A111: AD12VCGCY | B111: AGB15512CY | C111: Vintage Deck Board, Grooved | D111: Cypress | F111: =D111&E111 -> Cypress | G111: 12 | H111: 64 | I111: 1202 | J111: =A111 -> AD12VCGCY
A112: AD16VCGCY | B112: AGB15516CY | C112: Vintage Deck Board, Grooved | D112: Cypress | F112: =D112&E112 -> Cypress | G112: 16 | H112: 64 | I112: 1601 | J112: =A112 -> AD16VCGCY
A113: AD20VCGCY | B113: AGB15520CY | C113: Vintage Deck Board, Grooved | D113: Cypress | F113: =D113&E113 -> Cypress | G113: 20 | H113: 64 | I113: 2002 | J113: =A113 -> AD20VCGCY
A114: AD16VCDH | B114: ADB15516DH | C114: Vintage Deck Board, Square Shouldered | D114: DARK HICKORY | E114: 16' SOLID | F114: =D114&E114 -> DARK HICKORY16' SOLID | G114: 16 | H114: 64 | I114: 1668 | J114: =A114 -> AD16VCDH
...
